BEGIN:VCALENDAR
VERSION:2.0
PRODID:-//jEvents 2.0 for Joomla//EN
CALSCALE:GREGORIAN
METHOD:PUBLISH
BEGIN:VEVENT
UID:514f57682dcc04b9df761777daf50be1
CATEGORIES:Polar Online Events
CREATED:20210428T065952
SUMMARY:SOOS Southern Ocean Air-Sea Fluxes (SOFLUX) Working Group Webinar Series
LOCATION:Online
DESCRIPTION:The Southern Ocean Observing System (SOOS) Southern Ocean Air-Sea Fluxes (S
 OFLUX) Working Group is launching a series of monthly webinars intended to 
 share flux observing activities and to provide a forum to showcase the work
  of early-career investigators. Times will vary depending on the time zone 
 and scheduling preference of the speaker, and talks will be recorded: \nMay
  11, 3 pm Hobart (0500 GMT; 7 am CET; 10 pm PDT on May 10).\nEric Schulz an
 d Elizabeth Shadwick, “Update on the Southern Ocean Time Series observatory
 \nSign up: https://airtable.com/shrCwhUWxu2NnnUKp. The talk will be recorde
 d for asynchronous viewing.\nWe’d like to showcase early career research. I
 f you are or know someone who would like to present (in July or later in th
 e year), please contact This email address is being protected from spambots
 . You need JavaScript enabled to view it.
				document.getElementById('cloa
 k9245999fa4d024fb22c584ea92868b3b').innerHTML = '';
				var prefix = '&#109
 ;a' + 'i&#108;' + '&#116;o';
				var path = 'hr' + 'ef' + '=';
				var addy
 9245999fa4d024fb22c584ea92868b3b = 'sg&#105;ll&#101;' + '&#64;';
				addy92
 45999fa4d024fb22c584ea92868b3b = addy9245999fa4d024fb22c584ea92868b3b + '&#
 117;csd' + '&#46;' + '&#101;d&#117;';
				var addy_text9245999fa4d024fb22c5
 84ea92868b3b = 'S&#97;r&#97;h G&#105;ll&#101;';document.getElementById('clo
 ak9245999fa4d024fb22c584ea92868b3b').innerHTML += '<a ' + path + '\'' + pre
 fix + ':' + addy9245999fa4d024fb22c584ea92868b3b + '\' target="_blank">'+ad
 dy_text9245999fa4d024fb22c584ea92868b3b+'';
		 or This email address is bei
 ng protected from spambots. You need JavaScript enabled to view it.
				doc
 ument.getElementById('cloakbd970fb7cc127b757b4e1f15c2196aee').innerHTML = '
 ';
				var prefix = '&#109;a' + 'i&#108;' + '&#116;o';
				var path = 'hr' 
 + 'ef' + '=';
				var addybd970fb7cc127b757b4e1f15c2196aee = 'm&#97;rc&#101
 ;l.d&#117;.pl&#101;ss&#105;s' + '&#64;';
				addybd970fb7cc127b757b4e1f15c2
 196aee = addybd970fb7cc127b757b4e1f15c2196aee + 'g&#117;' + '&#46;' + 's&#1
 01;';
				var addy_textbd970fb7cc127b757b4e1f15c2196aee = 'M&#97;rc&#101;l 
 d&#117; Pl&#101;ss&#105;s';document.getElementById('cloakbd970fb7cc127b757b
 4e1f15c2196aee').innerHTML += '<a ' + path + '\'' + prefix + ':' + addybd97
 0fb7cc127b757b4e1f15c2196aee + '\' target="_blank">'+addy_textbd970fb7cc127
 b757b4e1f15c2196aee+'';
		   \nWe expect to coordinate with OASIS, which pl
 ans quarterly webinars. Webinar times and speakers will be publicized on th
 e SOOS social media platforms.\n
X-ALT-DESC;FMTTYPE=text/html:<p style="text-align: justify;">The <strong>Southern Ocean Observing System
  (SOOS) Southern Ocean Air-Sea Fluxes (SOFLUX) Working Group</strong> is la
 unching a series of monthly webinars intended to share flux observing activ
 ities and to provide a forum to showcase the work of early-career investiga
 tors. Times will vary depending on the time zone and scheduling preference 
 of the speaker, and talks will be recorded:&nbsp;</p><p style="text-align: 
 justify;"><strong>May 11</strong>, <strong>3 pm Hobart</strong> (0500 GMT; 
 7 am CET; 10 pm PDT on May 10).<br /><strong>Eric Schulz and Elizabeth Shad
 wick, “Update on the Southern Ocean Time Series observatory</strong></p><p 
 style="text-align: justify;">Sign up: <a href="https://airtable.com/shrCwhU
 Wxu2NnnUKp" target="_blank" rel="noopener">https://airtable.com/shrCwhUWxu2
 NnnUKp</a>. The talk will be recorded for asynchronous viewing.</p><p style
 ="text-align: justify;">We’d like to showcase early career research. If you
  are or know someone who would like to present (in July or later in the yea
 r), please contact&nbsp;<span id="cloak9245999fa4d024fb22c584ea92868b3b">Th
 is email address is being protected from spambots. You need JavaScript enab
 led to view it.</span><script type='text/javascript'>
				document.getEleme
 ntById('cloak9245999fa4d024fb22c584ea92868b3b').innerHTML = '';
				var pre
 fix = '&#109;a' + 'i&#108;' + '&#116;o';
				var path = 'hr' + 'ef' + '=';

 				var addy9245999fa4d024fb22c584ea92868b3b = 'sg&#105;ll&#101;' + '&#64;'
 ;
				addy9245999fa4d024fb22c584ea92868b3b = addy9245999fa4d024fb22c584ea92
 868b3b + '&#117;csd' + '&#46;' + '&#101;d&#117;';
				var addy_text9245999f
 a4d024fb22c584ea92868b3b = 'S&#97;r&#97;h G&#105;ll&#101;';document.getElem
 entById('cloak9245999fa4d024fb22c584ea92868b3b').innerHTML += '<a ' + path 
 + '\'' + prefix + ':' + addy9245999fa4d024fb22c584ea92868b3b + '\' target="
 _blank">'+addy_text9245999fa4d024fb22c584ea92868b3b+'<\/a>';
		</script>&nb
 sp;or&nbsp;<span id="cloakbd970fb7cc127b757b4e1f15c2196aee">This email addr
 ess is being protected from spambots. You need JavaScript enabled to view i
 t.</span><script type='text/javascript'>
				document.getElementById('cloak
 bd970fb7cc127b757b4e1f15c2196aee').innerHTML = '';
				var prefix = '&#109;
 a' + 'i&#108;' + '&#116;o';
				var path = 'hr' + 'ef' + '=';
				var addyb
 d970fb7cc127b757b4e1f15c2196aee = 'm&#97;rc&#101;l.d&#117;.pl&#101;ss&#105;
 s' + '&#64;';
				addybd970fb7cc127b757b4e1f15c2196aee = addybd970fb7cc127b
 757b4e1f15c2196aee + 'g&#117;' + '&#46;' + 's&#101;';
				var addy_textbd97
 0fb7cc127b757b4e1f15c2196aee = 'M&#97;rc&#101;l d&#117; Pl&#101;ss&#105;s';
 document.getElementById('cloakbd970fb7cc127b757b4e1f15c2196aee').innerHTML 
 += '<a ' + path + '\'' + prefix + ':' + addybd970fb7cc127b757b4e1f15c2196ae
 e + '\' target="_blank">'+addy_textbd970fb7cc127b757b4e1f15c2196aee+'<\/a>'
 ;
		</script>&nbsp;&nbsp;&nbsp;<span style="text-decoration: underline;"></
 span><span style="text-decoration: underline;"></span></p><p style="text-al
 ign: justify;">We expect to coordinate with OASIS, which plans quarterly we
 binars. Webinar times and speakers will be publicized on the SOOS social me
 dia platforms.</p>
DTSTAMP:20260421T120316Z
DTSTART;TZID=UTC;VALUE=DATE:20210511
DTEND;TZID=UTC;VALUE=DATE:20210512
SEQUENCE:0
TRANSP:OPAQUE
END:VEVENT
END:VCALENDAR