BEGIN:VCALENDAR
VERSION:2.0
PRODID:-//jEvents 2.0 for Joomla//EN
CALSCALE:GREGORIAN
METHOD:PUBLISH
BEGIN:VEVENT
UID:0c327115c0c7ad1d1c44778c897d9311
CATEGORIES:Polar Online Events
CREATED:20210430T154615
SUMMARY:Discussing Plans for Returning to & Initiating Field Research during the COVID Era
LOCATION:Online
DESCRIPTION:The Navigating the New Arctic (NNA) Community Office invites registration f
 or an upcoming webinar, Discussing Plans for Returning to &amp; Initiating 
 Field Research during the COVID Era. This webinar will take place 4 May 202
 1 from 10:00 a.m. to 12:00 p.m. AKDT (2:00-4:00 p.m. EDT).\nThis virtual ga
 thering will focus on the state of NNA research field-season planning and c
 ommunity-based activities. Panelists and attendees will discuss common conc
 erns, coordination, and approaches for organizing, sharing, and disseminati
 ng NNA field-season plans with Arctic communities, Indigenous and Tribal or
 ganizations, and other interested organizations and partners. Through a pan
 el discussion and break-out groups, this event will focus on approaches fro
 m across the Arctic for community engagement, longer-term planning, and dea
 ling with project pivots during the COVID era.\nThis event is open to all i
 nterested participants.\nOrganizers will record the panel discussions durin
 g these two events and compile related resources to share with those who ar
 e unable to attend.\nFor more information and to register, go to:\n Event r
 egistration webpage (https://cuboulder.zoom.us/meeting/register/tJItfu2uqTs
 rGtH8ds-4I7lnvDTNn13_TFtv)\nFor questions, contact:\n Matt Druckenmiller\n 
 Email: This email address is being protected from spambots. You need JavaSc
 ript enabled to view it.
				document.getElementById('cloak8694768e36cede51
 dd877e2e187cca9c').innerHTML = '';
				var prefix = '&#109;a' + 'i&#108;' +
  '&#116;o';
				var path = 'hr' + 'ef' + '=';
				var addy8694768e36cede51d
 d877e2e187cca9c = 'c&#111;nt&#97;ct' + '&#64;';
				addy8694768e36cede51dd8
 77e2e187cca9c = addy8694768e36cede51dd877e2e187cca9c + 'nn&#97;-c&#111;' + 
 '&#46;' + '&#111;rg';
				var addy_text8694768e36cede51dd877e2e187cca9c = '
 c&#111;nt&#97;ct' + '&#64;' + 'nn&#97;-c&#111;' + '&#46;' + '&#111;rg';docu
 ment.getElementById('cloak8694768e36cede51dd877e2e187cca9c').innerHTML += '
 <a ' + path + '\'' + prefix + ':' + addy8694768e36cede51dd877e2e187cca9c + 
 '\'>'+addy_text8694768e36cede51dd877e2e187cca9c+'';
		\n
X-ALT-DESC;FMTTYPE=text/html:<p style="text-align: justify;">The<strong> Navigating the New Arctic (NNA)
  Community Office</strong> invites registration for an upcoming webinar, <s
 trong><em>Discussing Plans for Returning to &amp; Initiating Field Research
  during the COVID Era</em></strong>. This webinar will take place<strong> 4
  May 2021 from 10:00 a.m. to 12:00 p.m. AKDT</strong> (2:00-4:00 p.m. EDT).
 </p><p style="text-align: justify;">This virtual gathering will focus on th
 e state of NNA research field-season planning and community-based activitie
 s. Panelists and attendees will discuss common concerns, coordination, and 
 approaches for organizing, sharing, and disseminating NNA field-season plan
 s with Arctic communities, Indigenous and Tribal organizations, and other i
 nterested organizations and partners. Through a panel discussion and break-
 out groups, this event will focus on approaches from across the Arctic for 
 community engagement, longer-term planning, and dealing with project pivots
  during the COVID era.</p><p style="text-align: justify;">This event is ope
 n to all interested participants.</p><p style="text-align: justify;">Organi
 zers will record the panel discussions during these two events and compile 
 related resources to share with those who are unable to attend.</p><p style
 ="text-align: justify;">For more information and to register, go to:<br /> 
 <a href="https://cuboulder.zoom.us/meeting/register/tJItfu2uqTsrGtH8ds-4I7l
 nvDTNn13_TFtv" target="_blank" rel="noopener">Event registration webpage</a
 ></p><p style="text-align: justify;">For questions, contact:<br /> Matt Dru
 ckenmiller<br /> Email: <span id="cloak8694768e36cede51dd877e2e187cca9c">Th
 is email address is being protected from spambots. You need JavaScript enab
 led to view it.</span><script type='text/javascript'>
				document.getEleme
 ntById('cloak8694768e36cede51dd877e2e187cca9c').innerHTML = '';
				var pre
 fix = '&#109;a' + 'i&#108;' + '&#116;o';
				var path = 'hr' + 'ef' + '=';

 				var addy8694768e36cede51dd877e2e187cca9c = 'c&#111;nt&#97;ct' + '&#64;'
 ;
				addy8694768e36cede51dd877e2e187cca9c = addy8694768e36cede51dd877e2e18
 7cca9c + 'nn&#97;-c&#111;' + '&#46;' + '&#111;rg';
				var addy_text8694768
 e36cede51dd877e2e187cca9c = 'c&#111;nt&#97;ct' + '&#64;' + 'nn&#97;-c&#111;
 ' + '&#46;' + '&#111;rg';document.getElementById('cloak8694768e36cede51dd87
 7e2e187cca9c').innerHTML += '<a ' + path + '\'' + prefix + ':' + addy869476
 8e36cede51dd877e2e187cca9c + '\'>'+addy_text8694768e36cede51dd877e2e187cca9
 c+'<\/a>';
		</script></p>
DTSTAMP:20260423T165116Z
DTSTART;TZID=UTC;VALUE=DATE:20210504
DTEND;TZID=UTC;VALUE=DATE:20210505
SEQUENCE:0
TRANSP:OPAQUE
END:VEVENT
END:VCALENDAR