BEGIN:VCALENDAR
VERSION:2.0
PRODID:-//jEvents 2.0 for Joomla//EN
CALSCALE:GREGORIAN
METHOD:PUBLISH
BEGIN:VEVENT
UID:d71e4c300457ca61e110636a2d147e0b
CATEGORIES:Polar Online Events
CREATED:20210503T125616
SUMMARY:Year of Polar Prediction in the Southern Hemisphere (YOPP-SH) - Workshop on Antarctic Meteorology and Climate (WAMC)
LOCATION:Online
DESCRIPTION:Registration for the 6th Year of Polar Prediction in the Southern Hemispher
 e (YOPP-SH) meeting together with the 16th Workshop on Antarctic Meteorolog
 y and Climate (WAMC) is on 31 May 2021. Focus of the YOPP-SH meeting will b
 e to discuss plans and contributions to the Antarctic Targeted Observing Pe
 riods (TOPs) scheduled for Antarctic winter 2022.\nThe meetings will be org
 anized virtually from 21 to 25 June 2021. \nDay sessions will take place 11
 :00 – 1:30pm EDT I15:00-17:30 UTC), Evening sessions 5:00 – 7:30 pm EDT (21
 :00-23:30 UTC). \nFor the registration please go to: \nYear of Polar Predic
 tion in the Southern Hemisphere (YOPP-SH) (https://byrd.osu.edu/events/yopp
 -sh/register): June 24 – 25 2021  \n \n <a href="https://byrd.osu.edu/event
 s/wamc/register" target="_blank" rel="noopener">Workshop on Antarctic Meteo
 rology and Climate (WAMC)</a>:  June 21 – 23 2021  \nFind more information 
 on the meetings below and/or here (https://www.polarprediction.net/news/#c2
 4184).\n
X-ALT-DESC;FMTTYPE=text/html:<p style="text-align: justify;">Registration for the<strong>&nbsp;6th Year 
 of Polar Prediction in the Southern Hemisphere (YOPP-SH) meeting together w
 ith the&nbsp;16th Workshop on Antarctic Meteorology and Climate (WAMC)</str
 ong> is on <strong>31 May 2021</strong>. Focus of the YOPP-SH meeting will 
 be to discuss plans and contributions to the Antarctic Targeted Observing P
 eriods (TOPs) scheduled for Antarctic winter 2022.</p><p style="text-align:
  justify;">The meetings will be organized virtually from <strong>21 to 25 J
 une 2021</strong>. <br /><strong>Day sessions</strong>&nbsp;will take place
  11:00 – 1:30pm EDT I15:00-17:30 UTC),&nbsp;<strong>Evening sessions</stron
 g>&nbsp;5:00 – 7:30 pm EDT (21:00-23:30 UTC).&nbsp;</p><p style="text-align
 : justify;">For the <strong>registration</strong> please go to:&nbsp;</p><p
  style="text-align: justify;"><a href="https://byrd.osu.edu/events/yopp-sh/
 register" target="_blank" rel="noopener">Year of Polar Prediction in the So
 uthern Hemisphere (YOPP-SH)</a>: <strong>June 24 – 25 2021 </strong> <br />
  <br /> <a href="https://byrd.osu.edu/events/wamc/register" target="_blank"
  rel="noopener">Workshop on Antarctic Meteorology and Climate (WAMC)</a>:  
 <strong>June 21 – 23 2021  </strong></p><p style="text-align: justify;">Fin
 d more information on the meetings below and/or <a href="https://www.polarp
 rediction.net/news/#c24184" target="_blank" rel="noopener">here</a>.</p>
DTSTAMP:20260420T134344Z
DTSTART;TZID=UTC;VALUE=DATE:20210621
DTEND;TZID=UTC;VALUE=DATE:20210626
SEQUENCE:0
TRANSP:OPAQUE
END:VEVENT
END:VCALENDAR