BEGIN:VCALENDAR
VERSION:2.0
PRODID:-//jEvents 2.0 for Joomla//EN
CALSCALE:GREGORIAN
METHOD:PUBLISH
BEGIN:VEVENT
UID:ee5347b313c50ad156e76183ddc2aba6
CATEGORIES:Polar Online Events
CREATED:20210504T121730
SUMMARY:SIOS webinar on terrestrial research in Svalbard
LOCATION:Online
DESCRIPTION:The next webinar in the SIOS webinar series 'An anchor point to a drifting 
 world' is going to be about terrestrial research in Svalbard. Join us to le
 arn about current research on terrestrial biology in Svalbard as well as kn
 owledge gaps.\nTentative Programme: (All times in CEST)\n10:00 – 10:05 Shri
 dhar Jawak (SIOS): Welcome and updates from SIOS-KC\n10:05 – 10:20 Maren Ha
 nsen (UNIS/University of Bergen/SIOS): Spatial ecology of the Svalbard rein
 deer\n10:20 – 10:35 Stephen Coulson (UNIS): The invertebrates of Svalbard\n
 10:35 – 10:50 Karina Wieczorek (University of Silesia): Feed, breed &amp; d
 ie - the amazing life cycle of Svalbard aphids\n10:50 – 11:05 Maarten Loone
 n (University of Groningen): Why do barnacle geese migrate to the Arctic to
  breed?\n11:05 – 11:20 Peter Convey (British Antarctic Survey): Integrated 
 approaches to understanding Svalbard's terrestrial ecosystems\n11:20 – 11:3
 0: Open for questions\nWhen? 7th May 2021, Friday (10-11:30 AM CEST)\nFor m
 ore details on the programme and registration, visit our webpage: https://s
 ios-svalbard.org/RSWebinarSeries\n
X-ALT-DESC;FMTTYPE=text/html:<p style="text-align: justify;">The next webinar in the SIOS webinar series
  <strong>'An anchor point to a drifting world'</strong> is going to be abou
 t terrestrial research in Svalbard. Join us to learn about current research
  on terrestrial biology in Svalbard as well as knowledge gaps.</p><p style=
 "text-align: justify;">Tentative Programme: (All times in CEST)</p><p style
 ="text-align: justify;">10:00 – 10:05&nbsp;Shridhar Jawak (SIOS): Welcome a
 nd updates from SIOS-KC</p><p style="text-align: justify;">10:05 – 10:20&nb
 sp;Maren Hansen (UNIS/University of Bergen/SIOS): Spatial ecology of the Sv
 albard reindeer</p><p style="text-align: justify;">10:20 – 10:35&nbsp;Steph
 en Coulson (UNIS): The invertebrates of Svalbard</p><p style="text-align: j
 ustify;">10:35 – 10:50&nbsp;Karina Wieczorek (University of Silesia): Feed,
  breed &amp; die - the amazing life cycle of Svalbard aphids</p><p style="t
 ext-align: justify;">10:50 – 11:05&nbsp;Maarten Loonen (University of Groni
 ngen): Why do barnacle geese migrate to the Arctic to breed?</p><p style="t
 ext-align: justify;">11:05 – 11:20&nbsp;Peter Convey (British Antarctic Sur
 vey): Integrated approaches to understanding Svalbard's terrestrial ecosyst
 ems</p><p style="text-align: justify;">11:20 – 11:30: Open for questions</p
 ><p style="text-align: justify;"><strong>When? 7th May 2021, Friday (10-11:
 30 AM CEST)</strong></p><p style="text-align: justify;">For more details on
  the programme and registration, visit our webpage: <a href="https://sios-s
 valbard.org/RSWebinarSeries" target="_blank" rel="noopener">https://sios-sv
 albard.org/RSWebinarSeries</a></p>
DTSTAMP:20260421T120504Z
DTSTART;TZID=UTC;VALUE=DATE:20210507
DTEND;TZID=UTC;VALUE=DATE:20210508
SEQUENCE:0
TRANSP:OPAQUE
END:VEVENT
END:VCALENDAR