BEGIN:VCALENDAR
VERSION:2.0
PRODID:-//jEvents 2.0 for Joomla//EN
CALSCALE:GREGORIAN
METHOD:PUBLISH
BEGIN:VEVENT
UID:19facaf4099a2b2fa2c9be733d85e4a8
CATEGORIES:Polar Conferences, Meetings and Events
CREATED:20210504T122823
SUMMARY:Frozen Pasts 5 - Glacial and Ice Patch Archaeology Conference
LOCATION:Montana\, USA
DESCRIPTION:Registration is now open for Frozen Pasts 5 -- The 5th International Glacia
 l and Ice Patch Archaeology Symposium. Frozen Pasts 5 (FP5) continues the t
 radition of glacial and ice patch archaeology conferences begun in Bern in 
 2008. In addition to papers focused on glacial and ice patch archaeology an
 d associated topics (e.g., ice patch related paleoenvironmental studies), w
 e have a wonderful program arranged with leading tribal figures sharing ple
 nary lunch presentations, in-conference field trips (including an ice patch
  archaeology exhibition at the Yellowstone Heritage Center), and a keynote 
 address by Dr. William Taylor on the emergence of glacial and ice patch arc
 haeology in the Mongolian Altai. The conference is scheduled for 7-10 Septe
 mber 2021 at Chico Hot Springs Resort (near Pray, Montana, USA) with an opt
 ional, post-conference field trip to an ice patch via Yellowstone National 
 Park on Saturday, 11 September. Registration and abstract deadline: 15 July
  2021. To learn more visit: https://instaar.colorado.edu/meetings/frozenpas
 ts5/index.html\n Conference Manager Email Contact: This email address is be
 ing protected from spambots. You need JavaScript enabled to view it.
				do
 cument.getElementById('cloak7262e19d7e1eb221f8d375d4e699104e').innerHTML = 
 '';
				var prefix = '&#109;a' + 'i&#108;' + '&#116;o';
				var path = 'hr'
  + 'ef' + '=';
				var addy7262e19d7e1eb221f8d375d4e699104e = 'W&#101;ndy.F
 r&#101;&#101;m&#97;n' + '&#64;';
				addy7262e19d7e1eb221f8d375d4e699104e =
  addy7262e19d7e1eb221f8d375d4e699104e + 'c&#111;l&#111;r&#97;d&#111;' + '&#
 46;' + '&#101;d&#117;';
				var addy_text7262e19d7e1eb221f8d375d4e699104e =
  'W&#101;ndy.Fr&#101;&#101;m&#97;n' + '&#64;' + 'c&#111;l&#111;r&#97;d&#111
 ;' + '&#46;' + '&#101;d&#117;';document.getElementById('cloak7262e19d7e1eb2
 21f8d375d4e699104e').innerHTML += '<a ' + path + '\'' + prefix + ':' + addy
 7262e19d7e1eb221f8d375d4e699104e + '\'>'+addy_text7262e19d7e1eb221f8d375d4e
 699104e+'';
		
X-ALT-DESC;FMTTYPE=text/html:<div style="text-align: justify;"><strong>Registration is now open for Froz
 en Pasts 5 -- The 5th International Glacial and Ice Patch Archaeology Sympo
 sium</strong>. Frozen Pasts 5 (FP5) continues the tradition of glacial and 
 ice patch archaeology conferences begun in Bern in 2008.</div><div style="t
 ext-align: justify;">&nbsp;</div><div style="text-align: justify;">In addit
 ion to papers focused on glacial and ice patch archaeology and associated t
 opics (e.g., ice patch related paleoenvironmental studies), we have a wonde
 rful program arranged with leading tribal figures sharing plenary lunch pre
 sentations, in-conference field trips (including an ice patch archaeology e
 xhibition at the Yellowstone Heritage Center), and a keynote address by Dr.
  William Taylor on the emergence of glacial and ice patch archaeology in th
 e Mongolian Altai.</div><div style="text-align: justify;">&nbsp;</div><div 
 style="text-align: justify;">The conference is scheduled for <strong>7-10 S
 eptember 2021</strong> at Chico Hot Springs Resort (near Pray, Montana, USA
 ) with an optional, post-conference field trip to an ice patch via Yellowst
 one National Park on Saturday, 11 September.</div><div style="text-align: j
 ustify;">&nbsp;</div><div style="text-align: justify;"><strong>Registration
  and abstract deadline: 15 July 2021.</strong></div><div style="text-align:
  justify;">&nbsp;</div><p style="text-align: justify;">To learn more visit:
  <a href="https://instaar.colorado.edu/meetings/frozenpasts5/index.html" ta
 rget="_blank" rel="noopener">https://instaar.colorado.edu/meetings/frozenpa
 sts5/index.html</a></p><div style="text-align: justify;">&nbsp;</div><div s
 tyle="text-align: justify;">Conference Manager Email Contact: <span id="clo
 ak7262e19d7e1eb221f8d375d4e699104e">This email address is being protected f
 rom spambots. You need JavaScript enabled to view it.</span><script type='t
 ext/javascript'>
				document.getElementById('cloak7262e19d7e1eb221f8d375d4
 e699104e').innerHTML = '';
				var prefix = '&#109;a' + 'i&#108;' + '&#116;
 o';
				var path = 'hr' + 'ef' + '=';
				var addy7262e19d7e1eb221f8d375d4e
 699104e = 'W&#101;ndy.Fr&#101;&#101;m&#97;n' + '&#64;';
				addy7262e19d7e1
 eb221f8d375d4e699104e = addy7262e19d7e1eb221f8d375d4e699104e + 'c&#111;l&#1
 11;r&#97;d&#111;' + '&#46;' + '&#101;d&#117;';
				var addy_text7262e19d7e1
 eb221f8d375d4e699104e = 'W&#101;ndy.Fr&#101;&#101;m&#97;n' + '&#64;' + 'c&#
 111;l&#111;r&#97;d&#111;' + '&#46;' + '&#101;d&#117;';document.getElementBy
 Id('cloak7262e19d7e1eb221f8d375d4e699104e').innerHTML += '<a ' + path + '\'
 ' + prefix + ':' + addy7262e19d7e1eb221f8d375d4e699104e + '\'>'+addy_text72
 62e19d7e1eb221f8d375d4e699104e+'<\/a>';
		</script></div>
DTSTAMP:20260423T165143Z
DTSTART;TZID=UTC;VALUE=DATE:20210907
DTEND;TZID=UTC;VALUE=DATE:20210911
SEQUENCE:0
TRANSP:OPAQUE
END:VEVENT
END:VCALENDAR