BEGIN:VCALENDAR
VERSION:2.0
PRODID:-//jEvents 2.0 for Joomla//EN
CALSCALE:GREGORIAN
METHOD:PUBLISH
BEGIN:VEVENT
UID:8e072d4a729a7c4c49d61f80ad426b97
CATEGORIES:Polar Online Events
CREATED:20210505T112746
SUMMARY:Sea Level, GIA and Ice Sheets Webinar with Aimée Slangen and Fiamma Straneo
LOCATION:Online
DESCRIPTION:Our next once-a-month virtual seminar series on Sea Level, GIA and Ice Shee
 ts is coming up on Tuesday May 11th at 11:00 am EDT on the theme of "Perspe
 ctives from the modern sea level and ice sheet modeling communities". Aimée
  Slangen, a researcher at the Netherlands Institute for Sea Research (NIOZ)
  and a lead author of the IPCC AR6 report, will discuss advances in modern 
 sea level research and coastal risk and Fiamma Straneo from SCRIPPS Institu
 tion of Oceanography (UCSD) will discuss the ISMIP6 effort and offer her pe
 rspective on how to facilitate cross-disciplinary collaboration.\n\nSeminar
  attendance is open to all and the registration link for this webinar is: h
 ttps://msu.zoom.us/webinar/register/WN_NQpuepQ3RK-mk9v6Dk7iEg\nWe will be r
 ecording the seminar and sharing it via our mailing list, which you can sub
 scribe to by sending an e-mail (with a blank subject line) to This email ad
 dress is being protected from spambots. You need JavaScript enabled to view
  it.
				document.getElementById('cloak0fe3dc393b20ad4a534fa81ed28aaf5c').i
 nnerHTML = '';
				var prefix = '&#109;a' + 'i&#108;' + '&#116;o';
				var 
 path = 'hr' + 'ef' + '=';
				var addy0fe3dc393b20ad4a534fa81ed28aaf5c = 'l
 &#105;sts&#101;rv' + '&#64;';
				addy0fe3dc393b20ad4a534fa81ed28aaf5c = ad
 dy0fe3dc393b20ad4a534fa81ed28aaf5c + 'l&#105;sts' + '&#46;' + 'mcg&#105;ll'
  + '&#46;' + 'c&#97;';
				var addy_text0fe3dc393b20ad4a534fa81ed28aaf5c = 
 'l&#105;sts&#101;rv' + '&#64;' + 'l&#105;sts' + '&#46;' + 'mcg&#105;ll' + '
 &#46;' + 'c&#97;';document.getElementById('cloak0fe3dc393b20ad4a534fa81ed28
 aaf5c').innerHTML += '<a ' + path + '\'' + prefix + ':' + addy0fe3dc393b20a
 d4a534fa81ed28aaf5c + '\' target="_blank">'+addy_text0fe3dc393b20ad4a534fa8
 1ed28aaf5c+'';
		 containing the following text command: subscribe earth-ic
 e-sea firstname lastname(contact me, This email address is being protected 
 from spambots. You need JavaScript enabled to view it.
				document.getElem
 entById('cloakcc28392b91fe90408c215a7a8545cad7').innerHTML = '';
				var pr
 efix = '&#109;a' + 'i&#108;' + '&#116;o';
				var path = 'hr' + 'ef' + '=';
 
				var addycc28392b91fe90408c215a7a8545cad7 = 'n&#97;t&#97;ly&#97;.g&#111
 ;m&#101;z' + '&#64;';
				addycc28392b91fe90408c215a7a8545cad7 = addycc2839
 2b91fe90408c215a7a8545cad7 + 'mcg&#105;ll' + '&#46;' + 'c&#97;';
				var ad
 dy_textcc28392b91fe90408c215a7a8545cad7 = 'n&#97;t&#97;ly&#97;.g&#111;m&#10
 1;z' + '&#64;' + 'mcg&#105;ll' + '&#46;' + 'c&#97;';document.getElementById
 ('cloakcc28392b91fe90408c215a7a8545cad7').innerHTML += '<a ' + path + '\'' 
 + prefix + ':' + addycc28392b91fe90408c215a7a8545cad7 + '\'>'+addy_textcc28
 392b91fe90408c215a7a8545cad7+'';
		, if you encounter any issues with this.
 ) Future seminars are as follows:\nJune 8th: Paleo ice sheet records and mo
 deling\nApril Dalton &amp; Andrew Christ\nJuly 13th: Holocene paleo sea lev
 el records\nNicole Khan &amp; Stephen Chua\nBest wishes from,\nWCRP Sea Lev
 el GC, IAG Subcommission 3.4, PALSEA, SCAR-SERCE\n \n
X-ALT-DESC;FMTTYPE=text/html:<p dir="ltr" style="text-align: justify;">Our next once-a-month virtual sem
 inar series on Sea Level, GIA and Ice Sheets is coming up on&nbsp;<strong>T
 uesday May 11th&nbsp;at 11:00 am EDT</strong>&nbsp;on the theme of<strong> 
 "Perspectives from the modern sea level and ice sheet modeling communities"
 </strong>. <strong>Aimée Slangen</strong>, a researcher at the Netherlands 
 Institute for Sea Research (NIOZ) and a lead author of the IPCC AR6 report,
  will discuss advances in modern sea level research and coastal risk and <s
 trong>Fiamma Straneo</strong> from SCRIPPS Institution of Oceanography (UCS
 D) will discuss the ISMIP6 effort and offer her perspective on how to facil
 itate cross-disciplinary collaboration.<br /><br />Seminar attendance is op
 en to all and the registration link for this webinar is: <a href="https://m
 su.zoom.us/webinar/register/WN_NQpuepQ3RK-mk9v6Dk7iEg" target="_blank" rel=
 "noopener">https://msu.zoom.us/webinar/register/WN_NQpuepQ3RK-mk9v6Dk7iEg</
 a></p><div style="text-align: justify;">We will be recording the seminar an
 d sharing it via our mailing list, which you&nbsp;can subscribe to by&nbsp;
 sending an e-mail (with a blank subject line) to&nbsp;<span id="cloak0fe3dc
 393b20ad4a534fa81ed28aaf5c">This email address is being protected from spam
 bots. You need JavaScript enabled to view it.</span><script type='text/java
 script'>
				document.getElementById('cloak0fe3dc393b20ad4a534fa81ed28aaf5c
 ').innerHTML = '';
				var prefix = '&#109;a' + 'i&#108;' + '&#116;o';
				
 var path = 'hr' + 'ef' + '=';
				var addy0fe3dc393b20ad4a534fa81ed28aaf5c 
 = 'l&#105;sts&#101;rv' + '&#64;';
				addy0fe3dc393b20ad4a534fa81ed28aaf5c 
 = addy0fe3dc393b20ad4a534fa81ed28aaf5c + 'l&#105;sts' + '&#46;' + 'mcg&#105
 ;ll' + '&#46;' + 'c&#97;';
				var addy_text0fe3dc393b20ad4a534fa81ed28aaf5
 c = 'l&#105;sts&#101;rv' + '&#64;' + 'l&#105;sts' + '&#46;' + 'mcg&#105;ll'
  + '&#46;' + 'c&#97;';document.getElementById('cloak0fe3dc393b20ad4a534fa81
 ed28aaf5c').innerHTML += '<a ' + path + '\'' + prefix + ':' + addy0fe3dc393
 b20ad4a534fa81ed28aaf5c + '\' target="_blank">'+addy_text0fe3dc393b20ad4a53
 4fa81ed28aaf5c+'<\/a>';
		</script>&nbsp;containing the following text comm
 and: subscribe&nbsp;<em>earth-ice-sea</em>&nbsp;firstname lastname</div><di
 v style="text-align: justify;">(contact me, <span id="cloakcc28392b91fe9040
 8c215a7a8545cad7">This email address is being protected from spambots. You 
 need JavaScript enabled to view it.</span><script type='text/javascript'>
	
 			document.getElementById('cloakcc28392b91fe90408c215a7a8545cad7').innerHT
 ML = '';
				var prefix = '&#109;a' + 'i&#108;' + '&#116;o';
				var path =
  'hr' + 'ef' + '=';
				var addycc28392b91fe90408c215a7a8545cad7 = 'n&#97;t
 &#97;ly&#97;.g&#111;m&#101;z' + '&#64;';
				addycc28392b91fe90408c215a7a85
 45cad7 = addycc28392b91fe90408c215a7a8545cad7 + 'mcg&#105;ll' + '&#46;' + '
 c&#97;';
				var addy_textcc28392b91fe90408c215a7a8545cad7 = 'n&#97;t&#97;l
 y&#97;.g&#111;m&#101;z' + '&#64;' + 'mcg&#105;ll' + '&#46;' + 'c&#97;';docu
 ment.getElementById('cloakcc28392b91fe90408c215a7a8545cad7').innerHTML += '
 <a ' + path + '\'' + prefix + ':' + addycc28392b91fe90408c215a7a8545cad7 + 
 '\'>'+addy_textcc28392b91fe90408c215a7a8545cad7+'<\/a>';
		</script>, if yo
 u encounter any issues with this.)</div><div style="text-align: justify;">&
 nbsp;</div><div><p style="text-align: justify;">Future seminars are as foll
 ows:<br /><strong>June 8th:</strong> Paleo ice sheet records and modeling<b
 r />April Dalton &amp; Andrew Christ<br /><strong>July 13th:</strong> Holoc
 ene paleo sea level records<br />Nicole Khan &amp; Stephen Chua</p><p style
 ="text-align: justify;">Best wishes from,<br />WCRP Sea Level GC, IAG Subco
 mmission 3.4, PALSEA, SCAR-SERCE</p></div><p>&nbsp;</p>
DTSTAMP:20260420T160607Z
DTSTART;TZID=UTC;VALUE=DATE:20210511
DTEND;TZID=UTC;VALUE=DATE:20210512
SEQUENCE:0
TRANSP:OPAQUE
END:VEVENT
END:VCALENDAR