BEGIN:VCALENDAR
VERSION:2.0
PRODID:-//jEvents 2.0 for Joomla//EN
CALSCALE:GREGORIAN
METHOD:PUBLISH
BEGIN:VEVENT
UID:463f238761f6b8207921aa9578d756c3
CATEGORIES:Polar Online Events
CREATED:20210505T113232
SUMMARY:SIOS Online Conference 2021
LOCATION:Online
DESCRIPTION:The Svalbard Integrated Arctic Earth Observing System (SIOS) invites you to
  join us at the SIOS Online Conference-2021, where applications of remote s
 ensing in Svalbard will be presented. The conference will consist of ~50 ta
 lks with 7 keynote speakers, alongside a dedicated session for Early Career
  Researchers (ECRs) to present their work. We will also host an open sessio
 n of the Remote Sensing Working Group (RSWG) meeting, where you can get inv
 olved in discussions on the working group activities.\nIf that wasn’t enoug
 h, we will also be hosting dedicated social sessions, including a Svalbard 
 quiz (jointly organized by the EGU Cryosphere, Oceans and Atmospheric Scien
 ces Divisions) and a Gathertown event. To join the Gathertown, please expre
 ss your interest in the registration process. You will receive additional i
 nformation on how to join later.\nDates: 8-10 June 2021\nConference Link (h
 ttps://sios-svalbard.org/RS_OnlineConference2021)\n<a href="https://us02web
 .zoom.us/meeting/register/tZUsc-igpj8tHNBkcCL5jPMzt71cTByHTLm8" target="_bl
 ank" rel="noopener">Registration</a> (Registration is free but mandatory.)\
 nWe hope to see many of you there!\nIf you need more information about the 
 online conference, please drop your message to This email address is being 
 protected from spambots. You need JavaScript enabled to view it.
				docume
 nt.getElementById('cloakf4ad9f0d047082d7c32e407de10cf798').innerHTML = '';

 				var prefix = '&#109;a' + 'i&#108;' + '&#116;o';
				var path = 'hr' + '
 ef' + '=';
				var addyf4ad9f0d047082d7c32e407de10cf798 = 'r&#101;m&#111;t&
 #101;s&#101;ns&#105;ng' + '&#64;';
				addyf4ad9f0d047082d7c32e407de10cf798
  = addyf4ad9f0d047082d7c32e407de10cf798 + 's&#105;&#111;s-sv&#97;lb&#97;rd'
  + '&#46;' + '&#111;rg';
				var addy_textf4ad9f0d047082d7c32e407de10cf798 
 = 'r&#101;m&#111;t&#101;s&#101;ns&#105;ng' + '&#64;' + 's&#105;&#111;s-sv&#
 97;lb&#97;rd' + '&#46;' + '&#111;rg';document.getElementById('cloakf4ad9f0d
 047082d7c32e407de10cf798').innerHTML += '<a ' + path + '\'' + prefix + ':' 
 + addyf4ad9f0d047082d7c32e407de10cf798 + '\'>'+addy_textf4ad9f0d047082d7c32
 e407de10cf798+'';
		.\nBest Regards,\nShridhar Jawak, William Harcourt, Mar
 en Hansen\n
X-ALT-DESC;FMTTYPE=text/html:<p>The <strong>Svalbard Integrated Arctic Earth Observing System (SIOS)</st
 rong> invites you to join us at the <strong>SIOS Online Conference-2021</st
 rong>, where applications of remote sensing in Svalbard will be presented. 
 The conference will consist of ~50 talks with 7 keynote speakers, alongside
  a dedicated session for Early Career Researchers (ECRs) to present their w
 ork. We will also host an open session of the Remote Sensing Working Group 
 (RSWG) meeting, where you can get involved in discussions on the working gr
 oup activities.</p><p>If that wasn’t enough, we will also be hosting dedica
 ted social sessions, including a Svalbard quiz (jointly organized by the EG
 U Cryosphere, Oceans and Atmospheric Sciences Divisions) and a Gathertown e
 vent. To join the Gathertown, please express your interest in the registrat
 ion process. You will receive additional information on how to join later.<
 /p><p><strong>Dates</strong>: 8-10 June 2021</p><p><a href="https://sios-sv
 albard.org/RS_OnlineConference2021" target="_blank" rel="noopener"><strong>
 Conference Link</strong></a></p><p><a href="https://us02web.zoom.us/meeting
 /register/tZUsc-igpj8tHNBkcCL5jPMzt71cTByHTLm8" target="_blank" rel="noopen
 er"><strong>Registration</strong></a> (Registration is free but mandatory.)
 </p><p>We hope to see many of you there!</p><p style="text-align: justify;"
 >If you need more information about the online conference, please drop your
  message to&nbsp;<span id="cloakf4ad9f0d047082d7c32e407de10cf798">This emai
 l address is being protected from spambots. You need JavaScript enabled to 
 view it.</span><script type='text/javascript'>
				document.getElementById(
 'cloakf4ad9f0d047082d7c32e407de10cf798').innerHTML = '';
				var prefix = '
 &#109;a' + 'i&#108;' + '&#116;o';
				var path = 'hr' + 'ef' + '=';
				var
  addyf4ad9f0d047082d7c32e407de10cf798 = 'r&#101;m&#111;t&#101;s&#101;ns&#10
 5;ng' + '&#64;';
				addyf4ad9f0d047082d7c32e407de10cf798 = addyf4ad9f0d047
 082d7c32e407de10cf798 + 's&#105;&#111;s-sv&#97;lb&#97;rd' + '&#46;' + '&#11
 1;rg';
				var addy_textf4ad9f0d047082d7c32e407de10cf798 = 'r&#101;m&#111;t
 &#101;s&#101;ns&#105;ng' + '&#64;' + 's&#105;&#111;s-sv&#97;lb&#97;rd' + '&
 #46;' + '&#111;rg';document.getElementById('cloakf4ad9f0d047082d7c32e407de1
 0cf798').innerHTML += '<a ' + path + '\'' + prefix + ':' + addyf4ad9f0d0470
 82d7c32e407de10cf798 + '\'>'+addy_textf4ad9f0d047082d7c32e407de10cf798+'<\/
 a>';
		</script>.</p><p style="text-align: justify;">Best Regards,</p><p st
 yle="text-align: justify;">Shridhar Jawak, William Harcourt, Maren Hansen</
 p>
DTSTAMP:20260419T125639Z
DTSTART;TZID=UTC;VALUE=DATE:20210608
DTEND;TZID=UTC;VALUE=DATE:20210611
SEQUENCE:0
TRANSP:OPAQUE
END:VEVENT
END:VCALENDAR