BEGIN:VCALENDAR
VERSION:2.0
PRODID:-//jEvents 2.0 for Joomla//EN
CALSCALE:GREGORIAN
METHOD:PUBLISH
BEGIN:VEVENT
UID:688f090db1458a917196c82b4ef52a09
CATEGORIES:Polar Online Events
CREATED:20210510T074657
SUMMARY:The Arctic in 25 Years: 1st Annual Arctic Youth Symposium
LOCATION:Online
DESCRIPTION:<p style="text-align: justify;">The Wilson Center’s Polar Institute announc
 es their upcoming symposium, titled <strong>The Arctic in 25 Years: 1st Ann
 ual Arctic Youth Symposium</strong>. This symposium will take place <strong
 >17-18 May 2021, 8:30-11:30 a.m. AKDT (12:30-3:30 p.m. EDT)</strong>. This 
 event will be live-streamed <a href="https://www.wilsoncenter.org/events" t
 arget="_blank" rel="noopener">online</a>.</p><p style="text-align: justify;
 ">Over two half-days, The Arctic in 25 Years symposium will gather emerging
  Arctic leaders to inform and influence potential Arctic policy for the nex
 t generation. Panelists represent all eight Arctic countries, as well as In
 digenous peoples who live there. Based on the research they conducted, poli
 cies they coordinated, as well as traditional lifestyles and subsistence mi
 ssions they’ve led, youth leaders will discuss the Arctic they envision for
  the future and the actions needed to achieve it. Join the Wilson Center’s 
 Polar Institute, with Arctic Frontiers and the Permanent Participants of th
 e Arctic Council (supported by the Indigenous Peoples’ Secretariat), for th
 e first annual International Youth Symposium, The Arctic in 25 Years.</p><p
  style="text-align: justify;">The symposium will include:</p><p style="text
 -align: justify;"><strong>Panel 1:</strong> Arctic Council Permanent Partic
 ipant Youth – Representatives from the 1st Arctic Youth Leaders’ Summit (Ro
 vaniemi 2019) will discuss the importance of cross-border collaboration bet
 ween Indigenous youth. Based on the Arctic Youth Leaders’ Summit declaratio
 n, panelists will identify the policy priorities that galvanize Indigenous 
 youth across the circumpolar Arctic. Some topics of discussion include envi
 ronment, economic development, food sovereignty, Indigenous Knowledge, and 
 mental health.</p><p style="text-align: justify;"><strong>Panel 2:</strong>
  Infrastructure and sustainable development – How might a just transition l
 ook in Arctic economies? Panelists will discuss growing interest in Arctic 
 economic development, including shipping, resource extraction, and foreign 
 investment. Considering the impacts of climate change on the Arctic, paneli
 sts will discuss what political principles, processes, and practices might 
 accompany the shift from an extractive economy to a regenerative one.</p><p
  style="text-align: justify;"><strong>Panel 3:</strong> Climate change and 
 biodiversity action and research – Considering the tightly-coupled relation
 ship of Arctic Indigenous peoples with the Arctic environment, co-productio
 n of knowledge (innovative research resulting from equitable partnership be
 tween scientists, Indigenous Knowledge holders, and other members of societ
 y) is particularly useful in climate change and biodiversity research. Pane
 lists will discuss the ways communities and researchers can work together t
 o reduce daily environmental risks and improve quality of life in the Arcti
 c.</p><p style="text-align: justify;"><strong>Panel 4:</strong> Policy &amp
 ; Governance – Youth are not only the leaders of the future, many have alre
 ady been elected to office, worked in international governance, and contrib
 uted to Arctic decision-making. This panel of youth leaders will identify t
 he most important challenges Arctic nations will face in the future, and th
 eir actions to mitigate those challenges today. An important takeaway from 
 this panel will be: What new modes of governance and engagement must emerge
  for the next generation’s prosperity?</p><p style="text-align: justify;">T
 o register for the event, go to:<br /><a href="https://engage.wilsoncenter.
 org/a/arctic-25-years" target="_blank" rel="noopener">Event registration we
 bpage</a></p>
DTSTAMP:20260421T120930Z
DTSTART;TZID=UTC;VALUE=DATE:20210517
DTEND;TZID=UTC;VALUE=DATE:20210519
SEQUENCE:0
TRANSP:OPAQUE
END:VEVENT
END:VCALENDAR