BEGIN:VCALENDAR
VERSION:2.0
PRODID:-//jEvents 2.0 for Joomla//EN
CALSCALE:GREGORIAN
METHOD:PUBLISH
BEGIN:VEVENT
UID:a071952ea2474fdd061bb41d92e72146
CATEGORIES:Polar Conferences, Meetings and Events
CREATED:20210511T073904
SUMMARY:Arctic Science Summit Week 2022
LOCATION:Tromsø\, Norway
DESCRIPTION:On behalf of UiT the Arctic University of Norway, the Norwegian Polar Insti
 tute, and the Research Council of Norway, we are pleased to invite you to t
 he Arctic Science Summit Week and the Arctic Observing Summit 2022, taking 
 place in Tromsø, Norway on March 26 - 31.\nWe, the local organizing committ
 ee, are looking forward to welcoming you either in person or virtually in T
 romsø!\nFind out more about ASSW: https://assw.info/\nContact us at: This e
 mail address is being protected from spambots. You need JavaScript enabled 
 to view it.
				document.getElementById('cloak855f3b0c6f59df4cbe38b7cd41fd3
 ff0').innerHTML = '';
				var prefix = '&#109;a' + 'i&#108;' + '&#116;o';
	
 			var path = 'hr' + 'ef' + '=';
				var addy855f3b0c6f59df4cbe38b7cd41fd3f
 f0 = 'c&#111;nt&#97;ctASSW2022' + '&#64;';
				addy855f3b0c6f59df4cbe38b7cd
 41fd3ff0 = addy855f3b0c6f59df4cbe38b7cd41fd3ff0 + '&#117;&#105;t' + '&#46;'
  + 'n&#111;';
				var addy_text855f3b0c6f59df4cbe38b7cd41fd3ff0 = 'c&#111;n
 t&#97;ctASSW2022' + '&#64;' + '&#117;&#105;t' + '&#46;' + 'n&#111;';documen
 t.getElementById('cloak855f3b0c6f59df4cbe38b7cd41fd3ff0').innerHTML += '<a 
 ' + path + '\'' + prefix + ':' + addy855f3b0c6f59df4cbe38b7cd41fd3ff0 + '\'
  target="_blank">'+addy_text855f3b0c6f59df4cbe38b7cd41fd3ff0+'';
		<a href=
 "https://assw.info/"> </a>\nIMPORTANT DATES\nMay - Sep 2021 Call for Commun
 ity Meeting requests (https://www.assw.info/programme/business-and-communit
 y-meetings) \nSep - Dec 2021 Call for abstracts (white papers, short statem
 ents and poster session AOS)\nJan 2022 Notification of abstract acceptance\
 nJan – Mar 2022 Registration\n \n
X-ALT-DESC;FMTTYPE=text/html:<p style="text-align: justify;">On behalf of UiT the Arctic University of N
 orway, the Norwegian Polar Institute, and the Research Council of Norway, w
 e are pleased to invite you to the <strong>Arctic Science Summit Week and t
 he Arctic Observing Summit 2022, taking place in Tromsø, Norway on March 26
  - 31.</strong></p><p style="text-align: justify;">We, the local organizing
  committee, are looking forward to welcoming you either in person or virtua
 lly in Tromsø!</p><p style="text-align: justify;">Find out more about ASSW:
  <a href="https://assw.info/" target="_blank" rel="noopener">https://assw.i
 nfo/</a><br />Contact us at: <span id="cloak855f3b0c6f59df4cbe38b7cd41fd3ff
 0">This email address is being protected from spambots. You need JavaScript
  enabled to view it.</span><script type='text/javascript'>
				document.get
 ElementById('cloak855f3b0c6f59df4cbe38b7cd41fd3ff0').innerHTML = '';
				va
 r prefix = '&#109;a' + 'i&#108;' + '&#116;o';
				var path = 'hr' + 'ef' + 
 '=';
				var addy855f3b0c6f59df4cbe38b7cd41fd3ff0 = 'c&#111;nt&#97;ctASSW20
 22' + '&#64;';
				addy855f3b0c6f59df4cbe38b7cd41fd3ff0 = addy855f3b0c6f59d
 f4cbe38b7cd41fd3ff0 + '&#117;&#105;t' + '&#46;' + 'n&#111;';
				var addy_t
 ext855f3b0c6f59df4cbe38b7cd41fd3ff0 = 'c&#111;nt&#97;ctASSW2022' + '&#64;' 
 + '&#117;&#105;t' + '&#46;' + 'n&#111;';document.getElementById('cloak855f3
 b0c6f59df4cbe38b7cd41fd3ff0').innerHTML += '<a ' + path + '\'' + prefix + '
 :' + addy855f3b0c6f59df4cbe38b7cd41fd3ff0 + '\' target="_blank">'+addy_text
 855f3b0c6f59df4cbe38b7cd41fd3ff0+'<\/a>';
		</script><a href="https://assw.
 info/"> </a></p><p style="text-align: justify;"><span style="text-decoratio
 n: underline;">IMPORTANT DATES</span></p><p style="text-align: justify;"><s
 trong>May - Sep 2021</strong><a href="https://www.assw.info/programme/busin
 ess-and-community-meetings" target="_blank" rel="noopener"> Call for Commun
 ity Meeting requests</a> <br /><strong>Sep - Dec 2021</strong> Call <span d
 ir="ltr">for abstracts (white papers, short statements and poster session A
 OS)<br /></span><strong><span dir="ltr">Jan 2022 </span></strong><span dir=
 "ltr">Notification of abstract acceptance<br /></span><span dir="ltr"><stro
 ng>Jan – Mar 2022</strong> </span><span dir="ltr">Registration</span></p><p
 >&nbsp;</p>
DTSTAMP:20260420T114337Z
DTSTART;TZID=UTC;VALUE=DATE:20220326
DTEND;TZID=UTC;VALUE=DATE:20220401
SEQUENCE:0
TRANSP:OPAQUE
END:VEVENT
END:VCALENDAR