BEGIN:VCALENDAR
VERSION:2.0
PRODID:-//jEvents 2.0 for Joomla//EN
CALSCALE:GREGORIAN
METHOD:PUBLISH
BEGIN:VEVENT
UID:7fe23f4133ec79a0eb3407f77e027650
CATEGORIES:Polar Conferences, Meetings and Events
CREATED:20161207T230222
SUMMARY:SEARCH Town Hall Meeting at AGU
LOCATION:San Francisco\, United States
DESCRIPTION:<p><strong>SEARCH Town Hall Meeting</strong><br /><strong>Study of Environm
 ental Arctic Change (SEARCH)</strong><br /><strong>2016 American Geophysica
 l Union Fall Meeting</strong></p><p><strong>Monday, 12 December 2016, 12:30
 -1:30 p.m. PT</strong><br /><strong>San Francisco Marriott Marquis, 780 Mis
 sion Street, Foothills E Room, or</strong><br /><strong>online for live web
 inar.</strong></p><p>For more information:<br />Contact Brit Myers: <span i
 d="cloakdc4608792bc01862e1a762aa02701765">This email address is being prote
 cted from spambots. You need JavaScript enabled to view it.</span><script t
 ype='text/javascript'>
				document.getElementById('cloakdc4608792bc01862e1
 a762aa02701765').innerHTML = '';
				var prefix = '&#109;a' + 'i&#108;' + '
 &#116;o';
				var path = 'hr' + 'ef' + '=';
				var addydc4608792bc01862e1a
 762aa02701765 = 'br&#105;t' + '&#64;';
				addydc4608792bc01862e1a762aa0270
 1765 = addydc4608792bc01862e1a762aa02701765 + '&#97;rc&#117;s' + '&#46;' + 
 '&#111;rg';
				var addy_textdc4608792bc01862e1a762aa02701765 = 'br&#105;t'
  + '&#64;' + '&#97;rc&#117;s' + '&#46;' + '&#111;rg';document.getElementByI
 d('cloakdc4608792bc01862e1a762aa02701765').innerHTML += '<a ' + path + '\''
  + prefix + ':' + addydc4608792bc01862e1a762aa02701765 + '\'>'+addy_textdc4
 608792bc01862e1a762aa02701765+'<\/a>';
		</script><br />Website: https://ww
 w.arcus.org/search-program/meetings/2016/agu</p><p>--------------------<br 
 />The Study of Environmental Arctic Change (SEARCH) will hold an open Town 
 Hall on Monday, 12 December 2016, 12:30-1:30 p.m. PT, in conjunction with t
 he Fall Meeting of the American Geophysical Union (AGU) in San Francisco, C
 alifornia. An online webinar stream will be available for those not attendi
 ng the AGU meeting.</p><p>At this open Town Hall, SEARCH leadership will di
 scuss how researchers, agencies, and stakeholders can contribute to and par
 ticipate in SEARCH's "Permafrost", "Sea Ice", and "Land Ice" activities; he
 lp steer the work of new cross-disciplinary working groups on coastal resil
 ience and Arctic scenarios; and introduce SEARCH's new "Knowledge Pyramids.
 "</p><p>SEARCH is constructing Knowledge Pyramids to make scientific knowle
 dge available on-line to decision makers, journalists, students, and scient
 ists in diverse fields. Each knowledge pyramid answers a specific question 
 about environmental change in the Arctic through tiers of increasing detail
 . The top of the pyramid provides, in accessible language, a succinct synop
 sis of what we know about the question in the form of a 12-page brief suita
 ble for policymakers. The second tier down contains summaries more detailed
  than the brief; below that are published conceptual and technical synthese
 s; and, finally, the base of the pyramid is made of detailed technical repo
 rts focused on specific details.</p><p>Broad participation enhances SEARCH'
 s success and we invite everyone interested in the Arctic to learn more abo
 ut becoming part of our community at this event. Light refreshments will be
  provided. Students and early career investigators are particularly encoura
 ged to participate.</p><p>In addition to the in-person event, an online web
 inar stream will be available for those not attending AGU.</p><p>To join as
  an online participant, please register at: https://www.arcus.org/search-pr
 ogram/meetings/2016/agu/townhall.</p><p>Registration is not required for in
 -person attendance.</p><p>For information on all SEARCH events at AGU, plea
 se see:<br />https://www.arcus.org/search-program/meetings/2016/agu</p><p>F
 or more information, contact:<br />Brit Myers, ARCUS<br />Email: <span id="
 cloakd02f454dc655503953569884b3c9dcce">This email address is being protecte
 d from spambots. You need JavaScript enabled to view it.</span><script type
 ='text/javascript'>
				document.getElementById('cloakd02f454dc655503953569
 884b3c9dcce').innerHTML = '';
				var prefix = '&#109;a' + 'i&#108;' + '&#1
 16;o';
				var path = 'hr' + 'ef' + '=';
				var addyd02f454dc6555039535698
 84b3c9dcce = 'br&#105;t' + '&#64;';
				addyd02f454dc655503953569884b3c9dcc
 e = addyd02f454dc655503953569884b3c9dcce + '&#97;rc&#117;s' + '&#46;' + '&#
 111;rg';
				var addy_textd02f454dc655503953569884b3c9dcce = 'br&#105;t' + 
 '&#64;' + '&#97;rc&#117;s' + '&#46;' + '&#111;rg';document.getElementById('
 cloakd02f454dc655503953569884b3c9dcce').innerHTML += '<a ' + path + '\'' + 
 prefix + ':' + addyd02f454dc655503953569884b3c9dcce + '\'>'+addy_textd02f45
 4dc655503953569884b3c9dcce+'<\/a>';
		</script></p>
DTSTAMP:20260419T191253Z
DTSTART;TZID=UTC;VALUE=DATE:20161212
DTEND;TZID=UTC;VALUE=DATE:20161213
SEQUENCE:0
TRANSP:OPAQUE
END:VEVENT
END:VCALENDAR