BEGIN:VCALENDAR
VERSION:2.0
PRODID:-//jEvents 2.0 for Joomla//EN
CALSCALE:GREGORIAN
METHOD:PUBLISH
BEGIN:VEVENT
UID:e99e87bdc37b351d201ed9b5bc723840
CATEGORIES:Polar Online Events
CREATED:20210526T125301
SUMMARY:Webinar Announcement: Draft Arctic Research Plan 2022-2026 Information Session - Focus on Implementation
LOCATION:Online
DESCRIPTION:The Interagency Arctic Research Policy Committee (IARPC) announces their up
 coming webinar, Draft Arctic Research Plan 2022-2026 Information Session: F
 ocus on Implementation. This webinar will take place 2 June 2021, 10:00-11:
 00 a.m. AKDT.\nIARPC has released a draft (https://www.iarpccollaborations.
 org/draft-plan.html) of the next five-year Arctic Research Plan, which will
  span from 2022-2026. IARPC is now asking the public to comment on the draf
 t plan by 11 June 2021. To provide additional information about the draft p
 lan contents and development, IARPC is hosting a series of one-hour informa
 tion sessions.\nEach information session will provide an overview of IARPC,
  the timeline for developing the Arctic Research Plan 2022-2026, the conten
 ts of the draft plan, and how to submit comments on the draft. In addition 
 to this information, each webinar will provide a deeper dive into one of th
 e plan priority areas or the foundational activities. This webinar will foc
 us on implementation of the plan.\nFor more information, including Zoom con
 nection information, go to:\n <a href="https://www.iarpccollaborations.org/
 events/20982" target="_blank" rel="noopener">Event webpage</a>\nFor questio
 ns, contact:\n Liz Weinberg\n Email: This email address is being protected 
 from spambots. You need JavaScript enabled to view it.
				document.getElem
 entById('cloakdbfba2321e6f7f4cb6de619e86a188ec').innerHTML = '';
				var pr
 efix = '&#109;a' + 'i&#108;' + '&#116;o';
				var path = 'hr' + 'ef' + '=';
 
				var addydbfba2321e6f7f4cb6de619e86a188ec = 'l&#105;z' + '&#64;';
				a
 ddydbfba2321e6f7f4cb6de619e86a188ec = addydbfba2321e6f7f4cb6de619e86a188ec 
 + '&#105;&#97;rpcc&#111;ll&#97;b&#111;r&#97;t&#105;&#111;ns' + '&#46;' + '&
 #111;rg';
				var addy_textdbfba2321e6f7f4cb6de619e86a188ec = 'l&#105;z' + 
 '&#64;' + '&#105;&#97;rpcc&#111;ll&#97;b&#111;r&#97;t&#105;&#111;ns' + '&#4
 6;' + '&#111;rg';document.getElementById('cloakdbfba2321e6f7f4cb6de619e86a1
 88ec').innerHTML += '<a ' + path + '\'' + prefix + ':' + addydbfba2321e6f7f
 4cb6de619e86a188ec + '\'>'+addy_textdbfba2321e6f7f4cb6de619e86a188ec+'';
		
 \n
X-ALT-DESC;FMTTYPE=text/html:<p style="text-align: justify;">The <strong>Interagency Arctic Research Pol
 icy Committee (IARPC)</strong> announces their upcoming webinar, <strong><e
 m>Draft Arctic Research Plan 2022-2026 Information Session: Focus on Implem
 entation</em></strong>. This webinar will take place <strong>2 June 2021, 1
 0:00-11:00 a.m. AKDT</strong>.</p><p style="text-align: justify;">IARPC has
  <a href="https://www.iarpccollaborations.org/draft-plan.html" target="_bla
 nk" rel="noopener">released a draft</a> of the next five-year Arctic Resear
 ch Plan, which will span from 2022-2026. IARPC is now asking the public to 
 comment on the draft plan by 11 June 2021. To provide additional informatio
 n about the draft plan contents and development, IARPC is hosting a series 
 of one-hour information sessions.</p><p style="text-align: justify;">Each i
 nformation session will provide an overview of IARPC, the timeline for deve
 loping the Arctic Research Plan 2022-2026, the contents of the draft plan, 
 and how to submit comments on the draft. In addition to this information, e
 ach webinar will provide a deeper dive into one of the plan priority areas 
 or the foundational activities. <strong>This webinar will focus on implemen
 tation of the plan.</strong></p><p style="text-align: justify;">For more in
 formation, including Zoom connection information, go to:<br /> <a href="htt
 ps://www.iarpccollaborations.org/events/20982" target="_blank" rel="noopene
 r">Event webpage</a></p><p style="text-align: justify;">For questions, cont
 act:<br /> Liz Weinberg<br /> Email: <span id="cloakdbfba2321e6f7f4cb6de619
 e86a188ec">This email address is being protected from spambots. You need Ja
 vaScript enabled to view it.</span><script type='text/javascript'>
				docu
 ment.getElementById('cloakdbfba2321e6f7f4cb6de619e86a188ec').innerHTML = ''
 ;
				var prefix = '&#109;a' + 'i&#108;' + '&#116;o';
				var path = 'hr' +
  'ef' + '=';
				var addydbfba2321e6f7f4cb6de619e86a188ec = 'l&#105;z' + '&
 #64;';
				addydbfba2321e6f7f4cb6de619e86a188ec = addydbfba2321e6f7f4cb6de6
 19e86a188ec + '&#105;&#97;rpcc&#111;ll&#97;b&#111;r&#97;t&#105;&#111;ns' + 
 '&#46;' + '&#111;rg';
				var addy_textdbfba2321e6f7f4cb6de619e86a188ec = '
 l&#105;z' + '&#64;' + '&#105;&#97;rpcc&#111;ll&#97;b&#111;r&#97;t&#105;&#11
 1;ns' + '&#46;' + '&#111;rg';document.getElementById('cloakdbfba2321e6f7f4c
 b6de619e86a188ec').innerHTML += '<a ' + path + '\'' + prefix + ':' + addydb
 fba2321e6f7f4cb6de619e86a188ec + '\'>'+addy_textdbfba2321e6f7f4cb6de619e86a
 188ec+'<\/a>';
		</script></p>
DTSTAMP:20260420T150737Z
DTSTART;TZID=UTC;VALUE=DATE:20210602
DTEND;TZID=UTC;VALUE=DATE:20210603
SEQUENCE:0
TRANSP:OPAQUE
END:VEVENT
END:VCALENDAR