BEGIN:VCALENDAR
VERSION:2.0
PRODID:-//jEvents 2.0 for Joomla//EN
CALSCALE:GREGORIAN
METHOD:PUBLISH
BEGIN:VEVENT
UID:f2729f3c36c616082a2215836e385372
CATEGORIES:Polar Online Events
CREATED:20210526T132150
SUMMARY:Polar Research side event “Networking from Pole to Pole: Facilitating Access for Research and Infrastructure” at All-Atlantic2021
LOCATION:Online
DESCRIPTION:Registration is now open for the side event on Polar Research “Networking f
 rom Pole to Pole: Facilitating Access for Research and Infrastructure (http
 s://www.allatlantic2021.eu/a/networking-from-pole-to-pole-facilitating-acce
 ss-for-research-and-infrastructure/)”, as part of the All-Atlantic2021 – Al
 l-Atlantic R&amp;I for a Sustainable Ocean: Ministerial High-Level &amp; St
 akeholders Conference. The event aims to discuss how we can better cooperat
 e in Polar Research (Arctic and Antarctic/Southern Ocean) and infrastructur
 es. The side event is organized jointly by EU-PolarNet 2 and the European P
 olar Board and will be held as virtual meeting at 16:00 – 18:00 CEST on Wed
 nesday 02nd June.\nThe purpose of the meeting is to initiate a dialogue and
  develop networks that facilitate access for All-Atlantic partners to natio
 nal research facilities and infrastructure at the poles. The side event wil
 l start with presentations by the AANCHOR partner countries, international 
 initiatives of interest, followed by a moderated discussion about joint int
 erest and next steps.\nTo register for the side event, please visit <a href
 ="https://us02web.zoom.us/meeting/register/tZYvfuqspzwiGdbU1YWtuBvjpSjEI6M5
 uSid" target="_blank" rel="noopener">https://us02web.zoom.us/meeting/regist
 er/tZYvfuqspzwiGdbU1YWtuBvjpSjEI6M5uSid</a>\n
X-ALT-DESC;FMTTYPE=text/html:<p style="text-align: justify;">Registration is now open for the side event
  on Polar Research “<strong><a href="https://www.allatlantic2021.eu/a/netwo
 rking-from-pole-to-pole-facilitating-access-for-research-and-infrastructure
 /" target="_blank" rel="noopener">Networking from Pole to Pole: Facilitatin
 g Access for Research and Infrastructure</a>”</strong>, as part of the All-
 Atlantic2021 – All-Atlantic R&amp;I for a Sustainable Ocean: Ministerial Hi
 gh-Level &amp; Stakeholders Conference. The event aims to discuss how we ca
 n better cooperate in Polar Research (Arctic and Antarctic/Southern Ocean) 
 and infrastructures. The side event is organized jointly by EU-PolarNet 2 a
 nd the European Polar Board and will be held as virtual meeting at <strong>
 16:00 – 18:00 CEST on Wednesday 02<sup>nd</sup> June.</strong></p><p style=
 "text-align: justify;">The purpose of the meeting is to initiate a dialogue
  and develop networks that facilitate access for All-Atlantic partners to n
 ational research facilities and infrastructure at the poles. The side event
  will start with presentations by the AANCHOR partner countries, internatio
 nal initiatives of interest, followed by a moderated discussion about joint
  interest and next steps.</p><p style="text-align: justify;">To register fo
 r the side event, please visit <a href="https://us02web.zoom.us/meeting/reg
 ister/tZYvfuqspzwiGdbU1YWtuBvjpSjEI6M5uSid" target="_blank" rel="noopener">
 https://us02web.zoom.us/meeting/register/tZYvfuqspzwiGdbU1YWtuBvjpSjEI6M5uS
 id</a></p>
DTSTAMP:20260419T185244Z
DTSTART;TZID=UTC;VALUE=DATE:20210602
DTEND;TZID=UTC;VALUE=DATE:20210603
SEQUENCE:0
TRANSP:OPAQUE
END:VEVENT
END:VCALENDAR