BEGIN:VCALENDAR
VERSION:2.0
PRODID:-//jEvents 2.0 for Joomla//EN
CALSCALE:GREGORIAN
METHOD:PUBLISH
BEGIN:VEVENT
UID:3f7076b5cd0af1e2678202da68f906b7
CATEGORIES:Polar Online Events
CREATED:20210528T070330
SUMMARY:May 28 AGU Cryosphere ECR forum w/ NSF, NASA program officers
LOCATION:Online
DESCRIPTION:The American Geophysical Union Cryosphere Sciences section is hosting a con
 versation between early career researchers and US funding agency program of
 ficers, to be hosted on Zoom from 12-2pm Eastern on Friday, May 28th.\nThis
  will be a rather informal event, but we hope to give ECRs time to ask any 
 questions of NSF and NASA program officers during this challenging time. To
 pics will include ECR-specific impacts relating to COVID-19, all of our ong
 oing work to build a more just, equal, and inclusive research community, an
 d open question and answer. We will liberally define early career and welco
 me all those interested in participating.\nPlease register &amp; complete t
 he pre-event survey to aid in guiding discussion.\nhttps://forms.gle/HfZBXq
 jc2vh7Qqd89\nConfirmed participants (subject to change):\nPaul Cutler (NSF 
 OPP) - Program Director, Glaciology, Ice Core Science, &amp; Geomorphology\
 nRoberto Delgado (NSF OPP) - Program Director, Arctic Observing Network\nTh
 orsten Markus (NASA) - Cryospheric Science Program Manager\nJennifer Mercer
  (NSF OPP) - Acting Section Head, Arctic Sciences\nAllen Pope (NSF OPP) - P
 rogram Director, Polar Cyberinfrastructure\nDavid Sutherland (NSF OPP) - Pr
 ogram Director, Oceans &amp; Atmospheric Sciences\n \nWe also welcome addit
 ional program officers! Please contact Peter Neff (<a href="mailto:pneff@um
 n.edu"></a>This email address is being protected from spambots. You need Ja
 vaScript enabled to view it.
				document.getElementById('cloakb3476e97f0e1
 289dbae476148e8c7158').innerHTML = '';
				var prefix = '&#109;a' + 'i&#108
 ;' + '&#116;o';
				var path = 'hr' + 'ef' + '=';
				var addyb3476e97f0e12
 89dbae476148e8c7158 = 'pn&#101;ff' + '&#64;';
				addyb3476e97f0e1289dbae47
 6148e8c7158 = addyb3476e97f0e1289dbae476148e8c7158 + '&#117;mn' + '&#46;' +
  '&#101;d&#117;';
				var addy_textb3476e97f0e1289dbae476148e8c7158 = 'pn&#
 101;ff' + '&#64;' + '&#117;mn' + '&#46;' + '&#101;d&#117;';document.getElem
 entById('cloakb3476e97f0e1289dbae476148e8c7158').innerHTML += '<a ' + path 
 + '\'' + prefix + ':' + addyb3476e97f0e1289dbae476148e8c7158 + '\'>'+addy_t
 extb3476e97f0e1289dbae476148e8c7158+'';
		) with any questions.\n \nAGU Cry
 osphere Sciences leaders:\nMichele Koppes, President\nBob Hawley, President
 -elect\nPeter Neff, Secretary\n
X-ALT-DESC;FMTTYPE=text/html:<p style="text-align: justify;">The American Geophysical Union Cryosphere S
 ciences section is hosting a conversation between early career researchers 
 and US funding agency program officers, to be <strong>hosted on Zoom from 1
 2-2pm Eastern on Friday, May 28th</strong>.</p><p style="text-align: justif
 y;">This will be a rather informal event, but we hope to give ECRs time to 
 ask any questions of NSF and NASA program officers during this challenging 
 time. Topics will include ECR-specific impacts relating to COVID-19, all of
  our ongoing work to build a more just, equal, and inclusive research commu
 nity, and open question and answer. We will liberally define early career a
 nd welcome all those interested in participating.</p><p style="text-align: 
 justify;"><strong>Please register &amp; complete the pre-event survey to ai
 d in guiding discussion.</strong></p><p style="text-align: justify;"><a hre
 f="https://forms.gle/HfZBXqjc2vh7Qqd89" target="_blank" rel="noopener">http
 s://forms.gle/HfZBXqjc2vh7Qqd89</a></p><p style="text-align: justify;">Conf
 irmed participants (subject to change):</p><p style="text-align: justify;">
 Paul Cutler (NSF OPP) - Program Director, Glaciology, Ice Core Science, &am
 p; Geomorphology</p><p style="text-align: justify;">Roberto Delgado (NSF OP
 P) - Program Director, Arctic Observing Network</p><p style="text-align: ju
 stify;">Thorsten Markus (NASA) - Cryospheric Science Program Manager</p><p 
 style="text-align: justify;">Jennifer Mercer (NSF OPP) - Acting Section Hea
 d, Arctic Sciences</p><p style="text-align: justify;">Allen Pope (NSF OPP) 
 - Program Director, Polar Cyberinfrastructure</p><p style="text-align: just
 ify;">David Sutherland (NSF OPP) - Program Director, Oceans &amp; Atmospher
 ic Sciences</p><p style="text-align: justify;">&nbsp;</p><p style="text-ali
 gn: justify;">We also welcome additional program officers! Please contact P
 eter Neff (<a href="mailto:pneff@umn.edu"></a><span id="cloakb3476e97f0e128
 9dbae476148e8c7158">This email address is being protected from spambots. Yo
 u need JavaScript enabled to view it.</span><script type='text/javascript'>
 
				document.getElementById('cloakb3476e97f0e1289dbae476148e8c7158').inner
 HTML = '';
				var prefix = '&#109;a' + 'i&#108;' + '&#116;o';
				var path
  = 'hr' + 'ef' + '=';
				var addyb3476e97f0e1289dbae476148e8c7158 = 'pn&#1
 01;ff' + '&#64;';
				addyb3476e97f0e1289dbae476148e8c7158 = addyb3476e97f0
 e1289dbae476148e8c7158 + '&#117;mn' + '&#46;' + '&#101;d&#117;';
				var ad
 dy_textb3476e97f0e1289dbae476148e8c7158 = 'pn&#101;ff' + '&#64;' + '&#117;m
 n' + '&#46;' + '&#101;d&#117;';document.getElementById('cloakb3476e97f0e128
 9dbae476148e8c7158').innerHTML += '<a ' + path + '\'' + prefix + ':' + addy
 b3476e97f0e1289dbae476148e8c7158 + '\'>'+addy_textb3476e97f0e1289dbae476148
 e8c7158+'<\/a>';
		</script>) with any questions.</p><p style="text-align: 
 justify;">&nbsp;</p><p style="text-align: justify;">AGU Cryosphere Sciences
  leaders:</p><p style="text-align: justify;">Michele Koppes, President</p><
 p style="text-align: justify;">Bob Hawley, President-elect</p><p style="tex
 t-align: justify;">Peter Neff, Secretary</p>
DTSTAMP:20260421T151713Z
DTSTART;TZID=UTC;VALUE=DATE:20210528
DTEND;TZID=UTC;VALUE=DATE:20210529
SEQUENCE:0
TRANSP:OPAQUE
END:VEVENT
END:VCALENDAR