BEGIN:VCALENDAR
VERSION:2.0
PRODID:-//jEvents 2.0 for Joomla//EN
CALSCALE:GREGORIAN
METHOD:PUBLISH
BEGIN:VEVENT
UID:bf3c38773c9f594404a2f1ab52f965e7
CATEGORIES:Polar Online Events
CREATED:20210528T074910
SUMMARY:International Sopot Youth Conference - Where the world is heading
LOCATION:Online
DESCRIPTION:Conference invitation on 11th June: INTERNATIONAL SOPOT YOUTH CONFERENCE, E
 ntitled: WHERE THE WORLD IS HEADING.\nMore information at:  (http://stn.edu
 .pl/isyc2021)<a href="http://stn.edu.pl/isyc2021" target="_blank" rel="noop
 ener">http://stn.edu.pl/isyc2021</a>\nThe conference is related to Open Sci
 ence Days, which will be held in a hybrid form between 1 and 11 June 2021. 
 The event is organized by the Institute of Oceanology of the Polish Academy
  of Sciences in cooperation with the Sopot Science Association and our part
 ners. All events are a part of joint activities of the EU4Ocean Coalition.\
 nFrom 1 to 11 June, we invite you to take part in the Science Days entitled
  "Ocean of Changes". This way we will be jointly celebrating the World Ocea
 ns Day. All information is available also at  (http://www.iopan.pl/odn2021/
 sdn/index-eng.html)<a href="http://www.iopan.pl/odn2021/sdn/index-eng.html"
  target="_blank" rel="noopener">http://www.iopan.pl/odn2021/sdn/index-eng.h
 tml</a>.\n
X-ALT-DESC;FMTTYPE=text/html:<p style="text-align: justify;"><strong>Conference invitation</strong> <str
 ong>on 11th June:</strong> INTERNATIONAL SOPOT YOUTH CONFERENCE, Entitled: 
 WHERE THE WORLD IS HEADING.</p><p style="text-align: justify;"><strong>More
  information at</strong>: <a href="http://stn.edu.pl/isyc2021" target="_bla
 nk" rel="noopener"></a><a href="http://stn.edu.pl/isyc2021" target="_blank"
  rel="noopener">http://stn.edu.pl/isyc2021</a></p><p style="text-align: jus
 tify;">The conference is related to Open Science Days, which will be held i
 n a hybrid form between<strong> 1 and 11 June 2021</strong>. The event is o
 rganized by the Institute of Oceanology of the Polish Academy of Sciences i
 n cooperation with the Sopot Science Association and our partners. All even
 ts are a part of joint activities of the EU4Ocean Coalition.</p><p style="t
 ext-align: justify;">From 1 to 11 June, we invite you to take part in the S
 cience Days entitled "Ocean of Changes". This way we will be jointly celebr
 ating the World Oceans Day. All information is available also at <a href="h
 ttp://www.iopan.pl/odn2021/sdn/index-eng.html" target="_blank" rel="noopene
 r"></a><a href="http://www.iopan.pl/odn2021/sdn/index-eng.html" target="_bl
 ank" rel="noopener">http://www.iopan.pl/odn2021/sdn/index-eng.html</a>.</p>
DTSTAMP:20260420T124329Z
DTSTART;TZID=UTC;VALUE=DATE:20210611
DTEND;TZID=UTC;VALUE=DATE:20210612
SEQUENCE:0
TRANSP:OPAQUE
END:VEVENT
END:VCALENDAR