BEGIN:VCALENDAR
VERSION:2.0
PRODID:-//jEvents 2.0 for Joomla//EN
CALSCALE:GREGORIAN
METHOD:PUBLISH
BEGIN:VEVENT
UID:3092c88c2901d74caeb6d708b2b4ce9c
CATEGORIES:Polar Online Events
CREATED:20210531T113441
SUMMARY:AntClimNow Community launch event
LOCATION:Online
DESCRIPTION:<p style="text-align: justify;"><strong>Register for the AntClimNow&nbsp;la
 unch event</strong></p><div><p style="text-align: justify;"><a href="https:
 //scar.org/science/antclimnow/about/?utm_source=SCAR&amp;utm_campaign=56590
 607e1-EMAIL_CAMPAIGN_2020_08_19_02_59_COPY_01&amp;utm_medium=email&amp;utm_
 term=0_b964133964-56590607e1-364285916" target="_blank" rel="noopener">AntC
 limNow</a>&nbsp;is one of the new SCAR Scientific Research Programmes (<a h
 ref="https://scar.org/science/srp/?utm_source=SCAR&amp;utm_campaign=5659060
 7e1-EMAIL_CAMPAIGN_2020_08_19_02_59_COPY_01&amp;utm_medium=email&amp;utm_te
 rm=0_b964133964-56590607e1-364285916" target="_blank" rel="noopener">SRPs</
 a>) and is focussed on understanding current trends and variability in Anta
 rctic climate and prediction of near-term conditions in the Antarctic clima
 te system on timescales of years to decades.</p><p style="text-align: justi
 fy;">The purpose of the launch event is to announce the start of the progra
 mme to both the Antarctic science and the wider communities with the aim of
  identifying opportunities for future collaboration and/or engagement.</p><
 p style="text-align: justify;"><strong>When? 9th June 2021 at 20:00 - 22:00
  (UTC). </strong><br /> The deadline for <a href="https://form.jotform.com/
 211183456220042?utm_source=SCAR&amp;utm_campaign=56590607e1-EMAIL_CAMPAIGN_
 2020_08_19_02_59_COPY_01&amp;utm_medium=email&amp;utm_term=0_b964133964-565
 90607e1-364285916" target="_blank" rel="noopener">registration </a>is 2nd J
 une.<br /> <br /> The meeting will be held on Zoom, with recordings made av
 ailable for those unable to attend due to time zone differences or other re
 asons.</p><p style="text-align: justify;"><a href="https://scar.org/scar-ne
 ws/antclimnow-news/antclimnow-launch-meeting/?utm_source=SCAR&amp;utm_campa
 ign=56590607e1-EMAIL_CAMPAIGN_2020_08_19_02_59_COPY_01&amp;utm_medium=email
 &amp;utm_term=0_b964133964-56590607e1-364285916" target="_blank" rel="noope
 ner">Read more</a></p></div>
DTSTAMP:20260419T225213Z
DTSTART;TZID=UTC;VALUE=DATE:20210609
DTEND;TZID=UTC;VALUE=DATE:20210610
SEQUENCE:0
TRANSP:OPAQUE
END:VEVENT
END:VCALENDAR