BEGIN:VCALENDAR
VERSION:2.0
PRODID:-//jEvents 2.0 for Joomla//EN
CALSCALE:GREGORIAN
METHOD:PUBLISH
BEGIN:VEVENT
UID:cf42ffd6c62cb4a9c8f027ca34e7a55a
CATEGORIES:APECS Events
CREATED:20210609T114810
SUMMARY: Polar Early Career Scholars: Ensuring the Continuity of Intergenerational Knowledge
LOCATION:Online
DESCRIPTION:<p>The Association of Polar Early Career Scientists (APECS), the Internatio
 nal PhD School, and the Læra Institute for Circumpolar Education are organi
 zing a workshop on <strong>18 June 2021</strong> at the I<strong>nternation
 al Congress of Arctic Social Sciences (ICASS X),</strong> titled <strong>“P
 olar Early Career Scholars: Ensuring the Continuity of Intergenerational Kn
 owledge”</strong>.</p><p>In this workshop, you will have the opportunity to
  learn about the future of Arctic-focused education, from primary education
  to innovative STEM fieldwork, multimedia studies to traditional on-the-lan
 d programs. We welcome a distinguished group of panelists to share their cu
 tting edge knowledge of how diverse educators, elders, youth, researchers, 
 and early career scientists can work together to preserve and advance holis
 tic and valuable understandings of the Arctic, its people, and nature. <br 
 /><br />Our panelists include <strong>Diane Hirshberg</strong>, Professor o
 f Education Policy at the Institute of Social and Economic Research, Univer
 sity of Alaska Anchorage, <strong>Natalia Prokopeva</strong>, Leading Exper
 t at the International Arctic School, Yakutsk, Russia, <strong>Liisa Holmbe
 rg</strong>, Film Commissioner at the International Sámi Film Institute, No
 rway, <strong>Anthony Speca</strong>, Adjunct Professor at Trent University
 , Canada and Managing Director of the Læra Institute for Circumpolar Educat
 ion, and <strong>Janet Warburton</strong>, Program manager of PolarTrec pro
 gram at the Arctic Research Consortium of the United States (ARCUS). <br />
 <br /><strong><a href="https://us02web.zoom.us/meeting/register/tZIuceygqTk
 tGdfGl52Zcx6TBkPWVYa50yn6" target="_blank" rel="noopener">Please register h
 ere</a></strong> for free.</p><p>&nbsp;</p><p>&nbsp;</p><p>&nbsp;</p><p>&nb
 sp;</p><p>&nbsp;</p><p><strong><br />Programm </strong>(all times in GMT)<s
 trong><br /></strong></p><p>08:00 - 08:05&nbsp; Introduction</p><p>08:05 - 
 09:25&nbsp; Lecturers</p><p>08:05 - 08:25&nbsp; Diane Hirshberg</p><p>08:25
  - 08:45&nbsp; Natalia Prokopeva</p><p>08:45 - 09:05&nbsp; Janet Warburton<
 /p><p>09:05 - 09:30&nbsp; Liisa Holmberg and Anthony Speca</p><p>09:30 - 10
 :00&nbsp; Q&amp;A</p><p>10:00 - 10:10&nbsp; Break</p><p>10:10 - 10:40&nbsp;
  Breakout Rooms</p><p>10:40 - 10:50&nbsp; Closing remarks</p>
DTSTAMP:20260419T205013Z
DTSTART;TZID=UTC:20210618T080000
DTEND;TZID=UTC:20210618T105000
SEQUENCE:0
TRANSP:OPAQUE
END:VEVENT
END:VCALENDAR