BEGIN:VCALENDAR
VERSION:2.0
PRODID:-//jEvents 2.0 for Joomla//EN
CALSCALE:GREGORIAN
METHOD:PUBLISH
BEGIN:VEVENT
UID:f0ff1243b7a79e4e1dc9ff0f829fc72b
CATEGORIES:Polar Online Events
CREATED:20210630T123906
SUMMARY:International Arctic School, HIT, eSummer 2021
LOCATION:Online
DESCRIPTION:IAS-HIT-eSummer School - 12-25 July 2021, Harbin, China\nThe theme of the 2
 021 Arctic Summer School of the School of environment is "POPs and CEACs in
  the Arctic under Climate Change". Through the study of relevant courses, s
 tudents can understand the pollution characteristics and sources of POPs an
 d CEACs in various environmental media in the Arctic, as well as the impact
  of Arctic environmental pollution on human and biological health in the Ar
 ctic. \nHarbin Institute of technology is located in the northeast of China
  and has obvious geographical advantages. In February 2019, the "UArctic-HI
 T-Training Center" was established, which is the first UArctic regional cen
 ter outside the eight Arctic countries.\nDue to the Covid-19 pandemic, acco
 rding to China's epidemic prevention and control requirements, sponsored by
  the Undergraduate College the international Arctic School, Summer 2021 wit
 h be opened "Online". and provide on-line courses in digital form to studen
 ts in China and around the world. The IAS-HIT-eSummer2021 is free for all s
 tudents.\nFind more information about the application process on the IAS-HI
 T-Summer 2021 website (http://uarctictc.hit.edu.cn/international/2021/0601/
 c11682a255070/page.htm).\n \n
X-ALT-DESC;FMTTYPE=text/html:<p class="western" style="text-align: justify;"><strong>IAS-HIT-eSummer Sch
 ool - 12-25&nbsp;</strong><strong>July 2021, Harbin, China</strong></p><p s
 tyle="text-align: justify;">The theme of the 2021 Arctic Summer School of t
 he School of environment is <strong>"POPs and CEACs in the Arctic under Cli
 mate Change"</strong>. Through the study of relevant courses, students can 
 understand the pollution characteristics and sources of POPs and CEACs in v
 arious environmental media in the Arctic, as well as the impact of Arctic e
 nvironmental pollution on human and biological health in the Arctic.&nbsp;<
 /p><p class="western" style="text-align: justify;">Harbin Institute of tech
 nology is located in the northeast of China and has obvious geographical ad
 vantages.&nbsp;In February 2019, the "UArctic-HIT-Training Center" was esta
 blished, which is the first UArctic regional center outside the eight Arcti
 c countries.</p><p style="text-align: justify;">Due to the Covid-19 pandemi
 c, according to China's epidemic prevention and control requirements, spons
 ored by the Undergraduate College the international Arctic School, Summer 2
 021 with be opened "Online". and provide on-line courses in digital form to
  students in China and around the world. The IAS-HIT-eSummer2021 is free fo
 r all students.</p><p style="text-align: justify;"><strong>Find more inform
 ation about the application process on the <a href="http://uarctictc.hit.ed
 u.cn/international/2021/0601/c11682a255070/page.htm" target="_blank" rel="n
 oopener">IAS-HIT-Summer 2021 website</a>.</strong></p><p>&nbsp;</p>
DTSTAMP:20260421T132812Z
DTSTART;TZID=UTC;VALUE=DATE:20210712
DTEND;TZID=UTC;VALUE=DATE:20210726
SEQUENCE:0
TRANSP:OPAQUE
END:VEVENT
END:VCALENDAR