BEGIN:VCALENDAR
VERSION:2.0
PRODID:-//jEvents 2.0 for Joomla//EN
CALSCALE:GREGORIAN
METHOD:PUBLISH
BEGIN:VEVENT
UID:01aa66a57fae7e2afb240b8b10a73419
CATEGORIES:Polar Online Events
CREATED:20210706T090028
SUMMARY:Kick-Off Meeting For The Southern Ocean UN Decade
LOCATION:Online
DESCRIPTION:Following the publication of our report on Southern Ocean priorities for th
 e next 10 years, we are pleased to announce that the Southern Ocean Task Fo
 rce will be hosting a Kick-off meeting for the Southern Ocean UN Decade onl
 ine on the 9th July 2021.\nThis webinar will gather speakers from the Inter
 governmental Oceanographic Commission (IOC) of UNESCO and members of the So
 uthern Ocean Task Force. The meeting will provide you with an overview of t
 he Southern Ocean contribution to the UN Decade of Ocean Science for Sustai
 nable Development. You will know at what stage we are in the Southern Ocean
  process and we will let you know when and how you can get involved.\nIf yo
 u are interested in joining the Southern Ocean process, don’t miss the oppo
 rtunity to learn when and how you can get involved!\nTo accommodate both We
 stern and Eastern participants, we will be hosting two sessions:\n\n - Sess
 ion 1 at 07:00 UTC\n - Register here (https://us02web.zoom.us/webinar/regis
 ter/4716244416296/WN_om-ptvZOQ7OIhnlpHI_SHg)\n - Session 2 at 17:00 UTC\n -
  Register <a href="https://us02web.zoom.us/webinar/register/1716244421101/W
 N_hZ3O-dyPSXOyNFwVhK89gQ" target="_blank" rel="noopener">here</a> Don't hes
 itate subscribe to our Newsletter (https://www.sodecade.org/) and follow us
  on Twitter (@SOdecade) if you wish to be kept up-to-date with our latest d
 evelopments.\n
X-ALT-DESC;FMTTYPE=text/html:<p style="text-align: justify;">Following the publication of our report on 
 Southern Ocean priorities for the next 10 years, we are pleased to announce
  that the <strong>Southern Ocean Task Force</strong> will be hosting a Kick
 -off meeting for the <strong>Southern Ocean UN Decade online on the&nbsp;9t
 h&nbsp;July 2021</strong>.</p><p style="text-align: justify;">This webinar 
 will gather speakers from the Intergovernmental Oceanographic Commission (I
 OC) of UNESCO and members of the Southern Ocean Task Force. The meeting wil
 l provide you with an overview of the Southern Ocean contribution to the UN
  Decade of Ocean Science for Sustainable Development. You will know at what
  stage we are in the Southern Ocean process and we will let you know when a
 nd how you can get involved.</p><p style="text-align: justify;"><strong><em
 >If you are interested in joining&nbsp;the Southern Ocean process, don’t mi
 ss the opportunity to learn when and how you can get involved!</em></strong
 ></p><p style="text-align: justify;">To accommodate both Western and Easter
 n participants, we will be hosting two sessions:</p><ul style="text-align: 
 justify;"><li><div><strong>Session 1 at 07:00 UTC</strong></div><ul><li>Reg
 ister <a href="https://us02web.zoom.us/webinar/register/4716244416296/WN_om
 -ptvZOQ7OIhnlpHI_SHg" target="_blank" rel="noopener">here</a></li></ul></li
 ></ul><ul style="text-align: justify;"><li><div><strong>Session 2 at 17:00 
 UTC</strong></div><ul><li>Register <a href="https://us02web.zoom.us/webinar
 /register/1716244421101/WN_hZ3O-dyPSXOyNFwVhK89gQ" target="_blank" rel="noo
 pener">here</a></li></ul></li></ul><p style="text-align: justify;">&nbsp;Do
 n't hesitate subscribe to our <a href="https://www.sodecade.org/" target="_
 blank" rel="noopener">Newsletter</a> and follow us on Twitter (@SOdecade) i
 f you wish to be kept up-to-date with our latest developments.</p>
DTSTAMP:20260423T151308Z
DTSTART;TZID=UTC;VALUE=DATE:20210709
DTEND;TZID=UTC;VALUE=DATE:20210710
SEQUENCE:0
TRANSP:OPAQUE
END:VEVENT
END:VCALENDAR