BEGIN:VCALENDAR
VERSION:2.0
PRODID:-//jEvents 2.0 for Joomla//EN
CALSCALE:GREGORIAN
METHOD:PUBLISH
BEGIN:VEVENT
UID:e278d1a34256e77504f603912e8b1c2d
CATEGORIES:Polar Online Events
CREATED:20210706T091033
SUMMARY:First virtual MeteoMeet event
LOCATION:Online
DESCRIPTION:I would like to draw your attention to a new project that promotes internat
 ional networking among young scientists in atmospheric science. It is parti
 cularly aimed at students who are about to complete their Master's degree a
 nd PhD students, but everyone who is interested is warmly welcome. The Mete
 oXchange project was launched at the beginning of May and I would therefore
  like to invite you to our first virtual event on July 15 from 8 pm (CEST) 
 on wonder.me (https://www.wonder.me/). \nAt the beginning, Prof. Hoor from 
 the Johannes Gutenberg University Mainz (Germany) will introduce the Instit
 ute for Atmospheric Physics with their research areas and the new project “
 <a href="https://tpchange.de/" target="_blank" rel="noopener">TP Change</a>
 “. Afterwards, you will have the opportunity to meet other early career sci
 entists from all over the world. Please share this link with anyone who mig
 ht be interested. \nFirst virtual MeteoMeet event on July 15 from 8:00 pm (
 CEST)\nhttps://www.wonder.me/r?id=ae906947-a357-4d79-bb40-1aade035656c\nPW:
  METEOMEET01\nPlease register with the following description at <a href="ht
 tps://www.wonder.me/" target="_blank" rel="noopener">wonder.me</a>: Name | 
 City, Country\nwonder.me is a browser-based application that, in my experie
 nce, works best with Google Chrome. Unfortunately, wonder.me does not suppo
 rt mobile browsers, so there may be problems with tablets or smartphones.Fo
 r the most common problems with wonder.me, here are some hints (https://hel
 p.wonder.me/en/articles/4947040-troubleshooting-guide).\nIf you have any qu
 estions please do not hesitate to contact me and I‘m looking forward to vir
 tually welcome you!\nBest,\nCarola Detring\nMeteoXchange Project Manager\n
X-ALT-DESC;FMTTYPE=text/html:<p style="text-align: justify;">I would like to draw your attention to a ne
 w project that promotes international networking among young scientists in 
 atmospheric science. It is particularly aimed at students who are about to 
 complete their Master's degree and PhD&nbsp;students, but everyone who is i
 nterested is warmly welcome. The <strong>MeteoXchange</strong> project was 
 launched at the beginning of May and I would therefore like to invite you t
 o our first virtual event on<strong> J</strong><strong>uly 15 from 8 pm (CE
 ST)</strong> on <a href="https://www.wonder.me/" target="_blank" rel="noope
 ner">wonder.me</a>.&nbsp;</p><p style="text-align: justify;">At the beginni
 ng, Prof. Hoor from the Johannes Gutenberg University Mainz (Germany) will 
 introduce the Institute for Atmospheric Physics with their research areas a
 nd the new project&nbsp;“<a href="https://tpchange.de/" target="_blank" rel
 ="noopener">TP Change</a>“. Afterwards, you will have the opportunity to me
 et other early career scientists from all over the world.&nbsp;Please share
  this link with anyone who might be interested.&nbsp;</p><p style="text-ali
 gn: justify;">First virtual MeteoMeet event on July 15 from 8:00 pm (CEST)<
 br /><a href="https://www.wonder.me/r?id=ae906947-a357-4d79-bb40-1aade03565
 6c" target="_blank" rel="noopener">https://www.wonder.me/r?id=ae906947-a357
 -4d79-bb40-1aade035656c</a></p><p style="text-align: justify;">PW: METEOMEE
 T01</p><p style="text-align: justify;">Please register with the following d
 escription at <a href="https://www.wonder.me/" target="_blank" rel="noopene
 r">wonder.me</a>: Name | City, Country</p><p style="text-align: justify;">w
 onder.me is a browser-based application that, in my experience, works best 
 with Google Chrome. Unfortunately, wonder.me does not support mobile browse
 rs, so there may be problems with tablets or smartphones.For the most commo
 n problems with wonder.me, <a href="https://help.wonder.me/en/articles/4947
 040-troubleshooting-guide" target="_blank" rel="noopener">here are some hin
 ts</a>.</p><p style="text-align: justify;">If you have any questions please
  do not hesitate to contact me and&nbsp;I‘m looking forward to virtually we
 lcome you!</p><p style="text-align: justify;">Best,</p><p style="text-align
 : justify;">Carola Detring<br /><span style="font-family: Arial;">MeteoXcha
 nge Project Manager</span></p>
DTSTAMP:20260423T164252Z
DTSTART;TZID=UTC;VALUE=DATE:20210715
DTEND;TZID=UTC;VALUE=DATE:20210716
SEQUENCE:0
TRANSP:OPAQUE
END:VEVENT
END:VCALENDAR