BEGIN:VCALENDAR
VERSION:2.0
PRODID:-//jEvents 2.0 for Joomla//EN
CALSCALE:GREGORIAN
METHOD:PUBLISH
BEGIN:VEVENT
UID:dffcf6cf2d29c72f4df66a39e6ff8f58
CATEGORIES:Polar Conferences, Meetings and Events
CREATED:20210709T092158
SUMMARY:IGS British Branch Meeting - moving ONLINE!
LOCATION:Online
DESCRIPTION:***UPDATE: Registration to attend the online IGS British Branch Meeting wil
 l remain open until Friday (27th Aug)***\nWe have taken the decision to mov
 e the IGS British Branch Meeting, due to be held in-person at the Universit
 y of Liverpool, to online only.   \nRegistration is now FREE and will be ov
 er three half-days, 6th-8th September, with a mix of oral presentations, po
 ster flash talks and sessions, and social events. To register for the onlin
 e meeting please just fill out this short form (https://docs.google.com/for
 ms/d/e/1FAIpQLSeozVZNmoLRxN23iYHk9Pe5iXNXiUYR91jjfajQKmCaTNUdVQ/viewform).\
 nNeedless to say, this is not a decision we wanted to make. The UK COVID si
 tuation is continuing to deteriorate such that we felt that to hold the mee
 ting in-person posed an unacceptable level of risk. \nAbstract submission d
 eadline is also extended to Friday 6th August and can still be submitted he
 re as before - <a href="https://www.liverpool.ac.uk/geography-and-planning/
 events/igs-2021/abstracts/" target="_blank" rel="noopener">https://www.live
 rpool.ac.uk/geography-and-planning/events/igs-2021/abstracts/</a>\nWe will 
 update the website and contact those who have already registered with detai
 ls on refunds and switching over to an online registration asap. Your patie
 nce is really appreciated here but we will get it sorted!\nPlease send any 
 queries to   (mailto:igsconf@liverpool.ac.uk)This email address is being pr
 otected from spambots. You need JavaScript enabled to view it.
				document
 .getElementById('cloak9f00a047590eb1b8573acd164774dff5').innerHTML = '';
		
 		var prefix = '&#109;a' + 'i&#108;' + '&#116;o';
				var path = 'hr' + 'ef
 ' + '=';
				var addy9f00a047590eb1b8573acd164774dff5 = '&#105;gsc&#111;nf'
  + '&#64;';
				addy9f00a047590eb1b8573acd164774dff5 = addy9f00a047590eb1b8
 573acd164774dff5 + 'l&#105;v&#101;rp&#111;&#111;l' + '&#46;' + '&#97;c' + '
 &#46;' + '&#117;k';
				var addy_text9f00a047590eb1b8573acd164774dff5 = '&#
 105;gsc&#111;nf' + '&#64;' + 'l&#105;v&#101;rp&#111;&#111;l' + '&#46;' + '&
 #97;c' + '&#46;' + '&#117;k';document.getElementById('cloak9f00a047590eb1b8
 573acd164774dff5').innerHTML += '<a ' + path + '\'' + prefix + ':' + addy9f
 00a047590eb1b8573acd164774dff5 + '\'>'+addy_text9f00a047590eb1b8573acd16477
 4dff5+'';
		 or <a href="https://twitter.com/IGSBB2021" target="_blank" rel
 ="noopener">twitter.com/IGSBB2021</a> and I will get back to you.\n
X-ALT-DESC;FMTTYPE=text/html:<p style="text-align: justify;"><strong>***UPDATE: Registration to attend t
 he online IGS British Branch Meeting will remain open until Friday (27<sup>
 th</sup> Aug)***</strong></p><p class="m_8800946679251064591MsoNoSpacing" s
 tyle="text-align: justify;">We have taken the decision to move the IGS Brit
 ish Branch Meeting, due to be held in-person at the University of Liverpool
 , to online only. &nbsp;&nbsp;</p><p class="m_8800946679251064591MsoNoSpaci
 ng" style="text-align: justify;"><span style="text-decoration: underline;">
 </span><span style="text-decoration: underline;"></span>Registration is now
  FREE and will be over three half-days, <strong>6<sup>th</sup>-8<sup>th</su
 p> September</strong>, with a mix of oral presentations, poster flash talks
  and sessions, and social events. <strong>To register for the online meetin
 g please just fill out this <a href="https://docs.google.com/forms/d/e/1FAI
 pQLSeozVZNmoLRxN23iYHk9Pe5iXNXiUYR91jjfajQKmCaTNUdVQ/viewform" target="_bla
 nk" rel="noopener">short form</a>.</strong><span style="text-decoration: un
 derline;"></span><span style="text-decoration: underline;"></span></p><p cl
 ass="m_8800946679251064591MsoNoSpacing" style="text-align: justify;">Needle
 ss to say, this is not a decision we wanted to make. The UK COVID situation
  is continuing to deteriorate such that we felt that to hold the meeting in
 -person posed an unacceptable level of risk.<span style="text-decoration: u
 nderline;"> </span></p><p class="m_8800946679251064591MsoNoSpacing" style="
 text-align: justify;"><strong>Abstract submission deadline is also extended
  to Friday 6<sup>th</sup> August and can still be submitted here as before<
 /strong> - <a href="https://www.liverpool.ac.uk/geography-and-planning/even
 ts/igs-2021/abstracts/" target="_blank" rel="noopener">https://www.liverpoo
 l.ac.uk/geography-and-planning/events/igs-2021/abstracts/</a><span style="t
 ext-decoration: underline;"></span><span style="text-decoration: underline;
 "></span></p><p class="m_8800946679251064591MsoNoSpacing" style="text-align
 : justify;">We will update the website and contact those who have already r
 egistered with details on refunds and switching over to an online registrat
 ion asap. Your patience is really appreciated here but we will get it sorte
 d!<span style="text-decoration: underline;"></span></p><p class="m_88009466
 79251064591MsoNoSpacing" style="text-align: justify;">Please send any queri
 es to <a href="mailto:igsconf@liverpool.ac.uk" target="_blank"> </a><span i
 d="cloak9f00a047590eb1b8573acd164774dff5">This email address is being prote
 cted from spambots. You need JavaScript enabled to view it.</span><script t
 ype='text/javascript'>
				document.getElementById('cloak9f00a047590eb1b857
 3acd164774dff5').innerHTML = '';
				var prefix = '&#109;a' + 'i&#108;' + '
 &#116;o';
				var path = 'hr' + 'ef' + '=';
				var addy9f00a047590eb1b8573
 acd164774dff5 = '&#105;gsc&#111;nf' + '&#64;';
				addy9f00a047590eb1b8573a
 cd164774dff5 = addy9f00a047590eb1b8573acd164774dff5 + 'l&#105;v&#101;rp&#11
 1;&#111;l' + '&#46;' + '&#97;c' + '&#46;' + '&#117;k';
				var addy_text9f0
 0a047590eb1b8573acd164774dff5 = '&#105;gsc&#111;nf' + '&#64;' + 'l&#105;v&#
 101;rp&#111;&#111;l' + '&#46;' + '&#97;c' + '&#46;' + '&#117;k';document.ge
 tElementById('cloak9f00a047590eb1b8573acd164774dff5').innerHTML += '<a ' + 
 path + '\'' + prefix + ':' + addy9f00a047590eb1b8573acd164774dff5 + '\'>'+a
 ddy_text9f00a047590eb1b8573acd164774dff5+'<\/a>';
		</script> or <a href="h
 ttps://twitter.com/IGSBB2021" target="_blank" rel="noopener">twitter.com/IG
 SBB2021</a> and I will get back to you.</p>
DTSTAMP:20260423T164502Z
DTSTART;TZID=UTC;VALUE=DATE:20210906
DTEND;TZID=UTC;VALUE=DATE:20210907
SEQUENCE:0
TRANSP:OPAQUE
END:VEVENT
END:VCALENDAR