BEGIN:VCALENDAR
VERSION:2.0
PRODID:-//jEvents 2.0 for Joomla//EN
CALSCALE:GREGORIAN
METHOD:PUBLISH
BEGIN:VEVENT
UID:468cd57eb9c2ee5cdf633603105ddc8f
CATEGORIES:Polar Online Events
CREATED:20210716T154512
SUMMARY:ArcticNet Virtual Annual Scientific Meeting 2021 (ASM2021) 
LOCATION:Online
DESCRIPTION:Hosted entirely online December 6 - 10, 2021, the ArcticNet Virtual Annual 
 Scientific Meeting 2021 (ASM2021) (https://arcticnet.swoogo.com/2021) is a 
 hub for Arctic research in Canada. The ASM2021 brings together researchers 
 from the natural, health, and social sciences to meet the challenges and op
 portunities of a rapidly changing Arctic region, shaped by climate change a
 nd modernization. This conference will push the boundaries of our collectiv
 e understanding of the Arctic and strengthen our ability to address the Arc
 tic issues of today and tomorrow.\n<a href="https://arcticnet.swoogo.com/20
 21/abstracts" target="_blank" rel="noopener">The call for abstracts is open
 !</a>\n
X-ALT-DESC;FMTTYPE=text/html:<p style="text-align: justify;">Hosted entirely online <strong>December 6 -
  10, 2021</strong>, the ArcticNet <a href="https://arcticnet.swoogo.com/202
 1" target="_blank" rel="noopener">Virtual Annual Scientific Meeting 2021 (A
 SM2021)</a> is a hub for Arctic research in Canada. The ASM2021 brings toge
 ther researchers from the natural, health, and social sciences to meet the 
 challenges and opportunities of a rapidly changing Arctic region, shaped by
  climate change and modernization. This conference will push the boundaries
  of our collective understanding of the Arctic and strengthen our ability t
 o address the Arctic issues of today and tomorrow.</p><p style="text-align:
  justify;"><a href="https://arcticnet.swoogo.com/2021/abstracts" target="_b
 lank" rel="noopener">The call for abstracts is open!</a></p>
DTSTAMP:20260419T185245Z
DTSTART;TZID=UTC;VALUE=DATE:20211206
DTEND;TZID=UTC;VALUE=DATE:20211211
SEQUENCE:0
TRANSP:OPAQUE
END:VEVENT
END:VCALENDAR