BEGIN:VCALENDAR
VERSION:2.0
PRODID:-//jEvents 2.0 for Joomla//EN
CALSCALE:GREGORIAN
METHOD:PUBLISH
BEGIN:VEVENT
UID:15deb612c8af0917d2cf2478c9f5e1e0
CATEGORIES:Polar Online Events
CREATED:20210803T065939
SUMMARY:2021 UK Sea Ice Group meeting
LOCATION:Online
DESCRIPTION:The 2021 UK Sea Ice Group meeting (a special interest group of the Challeng
 er Society for Marine Science) will be held over Thursday 23rd of September
  - Friday 24th September. The meeting will be again held virtually this yea
 r. \nThe meeting will consist of virtual oral and poster presentations, mos
 t likely via Zoom. We also intend to provide networking opportunities and s
 ome form of virtual social event. The exact timings will be confirmed close
 r to the event but will be between 11:00-18:00 BST on Thursday 23rd, and 09
 :00-15:00 BST on Friday 24th September. If you are interested in presenting
  or attending, please register at the following link: \nhttps://forms.offic
 e.com/Pages/ResponsePage.aspx?id=xDv6T_zswEiQgPXkP_kOX3Y7TZsiyzhCi93z5d6OoL
 BUOFNaSDNWWFFZVVQ1QzUxT1RTMk5TMFM4NC4u\nWe will finalise the program based 
 on registrations received by Friday 20th August. \n If you are interested i
 n hearing about future UK Sea Ice Group events, please subscribe to the <a 
 href="https://www.jiscmail.ac.uk/cgi-bin/webadmin?SUBED1=UKSEAICE-SIG-CHALL
 ENGERSOC&amp;A=1" target="_blank" rel="noopener">mailing list</a>.
X-ALT-DESC;FMTTYPE=text/html:<p style="text-align: justify;">The <strong>2021 UK Sea Ice Group meeting</
 strong> (a special interest group of the Challenger Society for Marine Scie
 nce) will be held over <strong>Thursday 23rd of September - Friday 24th Sep
 tember</strong>. The meeting will be again held virtually this year. </p><d
 iv style="text-align: justify;">The meeting will consist of virtual oral an
 d poster presentations, most likely via Zoom. We also intend to provide net
 working opportunities and some form of virtual social event. The exact timi
 ngs will be confirmed closer to the event but will be between 11:00-18:00 B
 ST on Thursday 23rd, and 09:00-15:00 BST on Friday 24th September.</div><di
 v style="text-align: justify;">&nbsp;</div><div style="text-align: justify;
 ">If you are interested in presenting or attending, please register at the 
 following link: <br /><a href="https://forms.office.com/Pages/ResponsePage.
 aspx?id=xDv6T_zswEiQgPXkP_kOX3Y7TZsiyzhCi93z5d6OoLBUOFNaSDNWWFFZVVQ1QzUxT1R
 TMk5TMFM4NC4u" target="_blank" rel="noopener">https://forms.office.com/Page
 s/ResponsePage.aspx?id=xDv6T_zswEiQgPXkP_kOX3Y7TZsiyzhCi93z5d6OoLBUOFNaSDNW
 WFFZVVQ1QzUxT1RTMk5TMFM4NC4u</a></div><p style="text-align: justify;"><br /
 >We will finalise the program based on registrations received by Friday 20t
 h August. </p><div style="text-align: justify;">&nbsp;</div><div style="tex
 t-align: justify;">If you are interested in hearing about future UK Sea Ice
  Group events, please subscribe to the <a href="https://www.jiscmail.ac.uk/
 cgi-bin/webadmin?SUBED1=UKSEAICE-SIG-CHALLENGERSOC&amp;A=1" target="_blank"
  rel="noopener">mailing list</a>.</div>
DTSTAMP:20260423T165215Z
DTSTART;TZID=UTC;VALUE=DATE:20210923
DTEND;TZID=UTC;VALUE=DATE:20210925
SEQUENCE:0
TRANSP:OPAQUE
END:VEVENT
END:VCALENDAR