BEGIN:VCALENDAR
VERSION:2.0
PRODID:-//jEvents 2.0 for Joomla//EN
CALSCALE:GREGORIAN
METHOD:PUBLISH
BEGIN:VEVENT
UID:c1acdf718012ca757b4a1658eac964a5
CATEGORIES:Polar Online Events
CREATED:20210824T115246
SUMMARY:International Firn Workshop - Registration open
LOCATION:Online
DESCRIPTION:Last September, we cordially invited you to participate in the Internationa
 l Firn Workshop, an online, community driven event that aims to bring toget
 her scientists working on firn processes on land ice. We have now finalized
  our coordinating team and are opening up the second and final phase of reg
 istration. Due to a conflict with EGU, our dates have moved: our workshop w
 ill take place between 30 May and 24 June 2022. There are no costs associat
 ed with attending the meeting. We will provide professional presentation co
 aching for all interested participants, and we aim to provide a low-stakes,
  inclusive platform to connect to the global firn community. We use a Slack
  workspace for all communication and workshop discussions. If you are inter
 ested in attending the workshop, please fill out this Google Form (https://
 forms.gle/8yQpMZFKW88rcXXg8), and we will provide you with the access detai
 ls to the Slack workspace. Please visit <a href="https://www.colorado.edu/l
 ab/icesheetclimate/firn-workshop" target="_blank" rel="noopener" data-safer
 edirecturl="https://www.google.com/url?q=https://www.colorado.edu/lab/icesh
 eetclimate/firn-workshop&amp;source=gmail&amp;ust=1646475016005000&amp;usg=
 AOvVaw3BGicd7202vJJcD8RgthT-">the workshop website</a> or read on below for
  more information. If you would like to participate in the presentation coa
 ching, please register before April 1, 2022; general registration will rema
 in open until the start of the workshop . If you have already registered in
  the first phase, you should have received an invitation email to join our 
 workshop Slack workspace, and you do not need to register again. Thank you 
 very much, and we hope to welcome many of you in May and June! The workshop
  organizers, Rajashree Tri DattaNander WeverDevon DunmireMegan Thompson-Mun
 sonTessa GorteJan Lenaerts ———————Over the last decade, substantial progres
 s has been made on observing and modeling firn processes on land ice, inclu
 ding glaciers and ice caps outside of the large ice sheets. Understanding f
 irn layer processes such as accumulation and water percolation is critical 
 for assessing, for example, mass loss from the Greenland ice sheet, the ris
 k of destabilization for the floating ice shelves that buttress much of Ant
 arctica’s ice and, on the other side of the mass balance equation, the futu
 re role of East Antarctica in potentially storing more ice on land. With in
 creasing detail and resolution of ice sheet and climate models, as well as 
 remote sensing products, the time is right to bring together the global res
 earch community on firn processes to discuss the current state of our knowl
 edge and identify the future developments which will  serve the broader cry
 osphere community. To discuss this in a collaborative, collaborative and gl
 obal framework, we propose to bring together the firn research community in
  an online workshop, organized during the months of May and June 2022. The 
 workshop is funded by the AntClimNow Scientific Research Program by the Sci
 entific Committee for Antarctic Research ( (https://www.scar.org/science/an
 tclimnow/home/)<a href="https://www.scar.org/science/antclimnow/home/" targ
 et="_blank" rel="noopener">https://www.scar.org/science/antclimnow/home/</a
 >). The goals of our workshop are: To provide an accessible-for-all framewo
 rk for presenting, sharing, and discussing new research on firn processes o
 n land ice, with a particular focus on early-career scientists.To discuss a
 nd synthesize the current state of knowledge and open questions regarding t
 he general theme of firn on land ice. To enhance collaboration between data
 -focused (observational) and modeling-focused communities, and entrain expe
 rtise from neighboring disciplines such as seasonal snow and ice sheet dyna
 mics, which are essential steps in addressing the next big challenges in un
 derstanding firn.The workshop will be organized throughout May-June 2022, a
 nd consists of three phases: Sharing phase (30 May- 10 June): presenters wi
 ll share their work online (via pre recorded lightning presentations). Ever
 yone gets a chance to explore the shared work on a cloud based video platfo
 rm, which will be organized into themes that are defined by the participant
 s. Slack will be used to communicate within the community. Topical discussi
 on phase (13-17 June): each theme will organize an online discussion focuse
 d on the shared work. Each topical discussion will be organized and led by 
 two coordinators, one early career representative and one senior scientist.
 Joint session phase (21-23 June): overview talks by themes and outlook/summ
 ary talks, spread over two sessions:Session 1: 21 June, 13:00-15:00 UTCSess
 ion 2: 23 June, 19:00-21:00 UTCParticipants unable to attend live sessions 
 will have immediate access to recordings of the sessions. The synthesis pha
 se (June-September) will feature the writing of the workshop outcomes in a 
 review paper by the coordinating team. In addition, we will provide, at no 
 cost to participants, optional presentation coaching provided by Melissa Ma
 rshall (https://www.presentyourscience.com/resources). The kickoff workshop
  for those coaching sessions will be live on 3 May, 14:00-15:00 UTC, and wi
 ll be recorded. Individualized coaching will occur in the second week of Ma
 y. More information will be provided after registration. If you are interes
 ted in participating in our workshop. please fill out <a href="https://form
 s.gle/8yQpMZFKW88rcXXg8" target="_blank" rel="noopener" data-saferedirectur
 l="https://www.google.com/url?q=https://forms.gle/8yQpMZFKW88rcXXg8&amp;sou
 rce=gmail&amp;ust=1646475016005000&amp;usg=AOvVaw1DzzsO7DoNcMJrEnakiSLZ">th
 is Google Form</a>
X-ALT-DESC;FMTTYPE=text/html:<div>Last September, we cordially invited you to participate in the Interna
 tional Firn Workshop, an online, community driven event that aims to bring 
 together scientists working on firn processes on land ice. We have now fina
 lized our coordinating team and are opening up the second and final phase o
 f registration. Due to a conflict with EGU, our dates have moved: our works
 hop will take place between <strong>30 May and 24 June 2022</strong>. There
  are no costs associated with attending the meeting. We will provide profes
 sional presentation coaching for all interested participants, and we aim to
  provide a low-stakes, inclusive platform to connect to the global firn com
 munity.</div><div>&nbsp;</div><div>We use a Slack workspace for all communi
 cation and workshop discussions. If you are interested in attending the wor
 kshop, please fill out <a href="https://forms.gle/8yQpMZFKW88rcXXg8" target
 ="_blank" rel="noopener" data-saferedirecturl="https://www.google.com/url?q
 =https://forms.gle/8yQpMZFKW88rcXXg8&amp;source=gmail&amp;ust=1646475016005
 000&amp;usg=AOvVaw1DzzsO7DoNcMJrEnakiSLZ">this Google Form</a>, and we will
  provide you with the access details to the Slack workspace. Please visit <
 a href="https://www.colorado.edu/lab/icesheetclimate/firn-workshop" target=
 "_blank" rel="noopener" data-saferedirecturl="https://www.google.com/url?q=
 https://www.colorado.edu/lab/icesheetclimate/firn-workshop&amp;source=gmail
 &amp;ust=1646475016005000&amp;usg=AOvVaw3BGicd7202vJJcD8RgthT-">the worksho
 p website</a> or read on below for more information. If you would like to p
 articipate in the presentation coaching, please register before April 1, 20
 22; general registration will remain open until the start of the workshop .
  If you have already registered in the first phase, you should have receive
 d an invitation email to join our workshop Slack workspace, and you do not 
 need to register again.</div><div>&nbsp;</div><div>Thank you very much, and
  we hope to welcome many of you in May and June!</div><div>&nbsp;</div><div
 >The workshop organizers,</div><div>&nbsp;</div><div>Rajashree Tri Datta</d
 iv><div>Nander Wever</div><div>Devon Dunmire</div><div>Megan Thompson-Munso
 n</div><div>Tessa Gorte</div><div>Jan Lenaerts</div><div>&nbsp;</div><div>—
 ——————</div><div>Over the last decade, substantial progress has been made o
 n observing and modeling firn processes on land ice, including glaciers and
  ice caps outside of the large ice sheets. Understanding firn layer process
 es such as accumulation and water percolation is critical for assessing, fo
 r example, mass loss from the Greenland ice sheet, the risk of destabilizat
 ion for the floating ice shelves that buttress much of Antarctica’s ice and
 , on the other side of the mass balance equation, the future role of East A
 ntarctica in potentially storing more ice on land. With increasing detail a
 nd resolution of ice sheet and climate models, as well as remote sensing pr
 oducts, the time is right to bring together the global research community o
 n firn processes to discuss the current state of our knowledge and identify
  the future developments which will&nbsp; serve the broader cryosphere comm
 unity. To discuss this in a collaborative, collaborative and global framewo
 rk, we propose to bring together the firn research community in an online w
 orkshop, organized during the months of May and June 2022. The workshop is 
 funded by the AntClimNow Scientific Research Program by the Scientific Comm
 ittee for Antarctic Research (<a href="https://www.scar.org/science/antclim
 now/home/" target="_blank" rel="noopener" data-saferedirecturl="https://www
 .google.com/url?q=https://www.scar.org/science/antclimnow/home/&amp;source=
 gmail&amp;ust=1646475016005000&amp;usg=AOvVaw0bHXCEMtRpxG0WUDXlg3cu"></a><a
  href="https://www.scar.org/science/antclimnow/home/" target="_blank" rel="
 noopener">https://www.scar.org/science/antclimnow/home/</a>).</div><div>&nb
 sp;</div><div>The goals of our workshop are:&nbsp;</div><ul><li dir="ltr" a
 ria-level="1"><div>To provide an accessible-for-all framework for presentin
 g, sharing, and discussing new research on firn processes on land ice, with
  a particular focus on early-career scientists.</div></li><li dir="ltr" ari
 a-level="1"><div>To discuss and synthesize the current state of knowledge a
 nd open questions regarding the general theme of firn on land ice.&nbsp;</d
 iv></li><li dir="ltr" aria-level="1"><div>To enhance collaboration between 
 data-focused (observational) and modeling-focused communities, and entrain 
 expertise from neighboring disciplines such as seasonal snow and ice sheet 
 dynamics, which are essential steps in addressing the next big challenges i
 n understanding firn.</div></li></ul><div>The workshop will be organized th
 roughout May-June 2022, and consists of three phases:&nbsp;</div><ul><li di
 r="ltr" aria-level="1"><div>Sharing phase (30 May- 10 June): presenters wil
 l share their work online (via pre recorded lightning presentations). Every
 one gets a chance to explore the shared work on a cloud based video platfor
 m, which will be organized into themes that are defined by the participants
 . Slack will be used to communicate within the community.&nbsp;</div></li><
 li dir="ltr" aria-level="1"><div>Topical discussion phase (13-17 June): eac
 h theme will organize an online discussion focused on the shared work. Each
  topical discussion will be organized and led by two coordinators, one earl
 y career representative and one senior scientist.</div></li><li dir="ltr" a
 ria-level="1"><div>Joint session phase (21-23 June): overview talks by them
 es and outlook/summary talks, spread over two sessions:</div></li></ul><div
 >Session 1: 21 June, 13:00-15:00 UTC</div><div>Session 2: 23 June, 19:00-21
 :00 UTC</div><div>Participants unable to attend live sessions will have imm
 ediate access to recordings of the sessions.</div><div>&nbsp;</div><div>The
  synthesis phase (June-September) will feature the writing of the workshop 
 outcomes in a review paper by the coordinating team.</div><div>&nbsp;</div>
 <div>In addition, we will provide, at no cost to participants, optional pre
 sentation coaching provided by <a href="https://www.presentyourscience.com/
 resources" target="_blank" rel="noopener" data-saferedirecturl="https://www
 .google.com/url?q=https://www.presentyourscience.com/resources&amp;source=g
 mail&amp;ust=1646475016005000&amp;usg=AOvVaw1oPZGUrj6X7WaATkVxch9s">Melissa
  Marshall</a>. The kickoff workshop for those coaching sessions will be liv
 e on 3 May, 14:00-15:00 UTC, and will be recorded. Individualized coaching 
 will occur in the second week of May. More information will be provided aft
 er registration.</div><div>&nbsp;</div><div>If you are interested in partic
 ipating in our workshop. please fill out <a href="https://forms.gle/8yQpMZF
 KW88rcXXg8" target="_blank" rel="noopener" data-saferedirecturl="https://ww
 w.google.com/url?q=https://forms.gle/8yQpMZFKW88rcXXg8&amp;source=gmail&amp
 ;ust=1646475016005000&amp;usg=AOvVaw1DzzsO7DoNcMJrEnakiSLZ">this Google For
 m</a></div>
DTSTAMP:20260420T150816Z
DTSTART;TZID=UTC;VALUE=DATE:20220530
DTEND;TZID=UTC;VALUE=DATE:20220625
SEQUENCE:0
TRANSP:OPAQUE
END:VEVENT
END:VCALENDAR