BEGIN:VCALENDAR
VERSION:2.0
PRODID:-//jEvents 2.0 for Joomla//EN
CALSCALE:GREGORIAN
METHOD:PUBLISH
BEGIN:VEVENT
UID:fab9afeefddfb31d38230f101a077c05
CATEGORIES:Polar Online Events
CREATED:20210824T115804
SUMMARY:International Úa user meeting 2021
LOCATION:Online
DESCRIPTION:The annual international user meeting for the ice-flow model Úa will this y
 ear be held at Northumbria University, Newcastle, from 13-17 September, 202
 1. \nThe meeting will be held online (using Teams). There is no course fee,
  and registration simply involves sending me (Hilmar) an email to get be in
 cluded in the Teams meeting invites. The meeting is suitable for both new a
 nd experienced users.\nThe schedule will be based on UK local time. Video r
 ecordings and pre-recorded instruction videos will be made available to all
  participants. It should therefore be possible for those on different time 
 zones to participate without attending all the sessions in real time.\nÚa (
 https://ghilmarg.github.io/UaSource/) is a finite-element ice-flow model. I
 t is easy to use, robust, and an ideal tool to solve flow of ice sheets, ic
 e shelves and alpine glaciers, and for ice-flow problems involving groundin
 g line migration (<a href="https://www.youtube.com/channel/UCO8NHJqmgg_bwJx
 0xKJDwcA" target="_blank" rel="noopener">https://www.youtube.com/channel/UC
 O8NHJqmgg_bwJx0xKJDwcA</a>). To run the model a local MATLAB installation i
 s required.\nAs in previous years, there will be an introduction to the use
  of model and presentations by current users in the mornings. The afternoon
 s can be used to set up and run models, and participants are encouraged to 
 work on their own modelling problems.\nExact schedule will be sent close to
  the meeting, but we expect first two mornings (Monday and Tuesday) to be p
 rimarily aimed and new users, and Wednesday and Thursday mornings mainly in
 volving presentations of ‘user success stories’.\nFurther details about the
  program will be sent to participants closer to the date of the meeting.\nF
 or information and registration please send an email to Hilmar Gudmundsson 
 ( (mailto:hilmar.gudmundsson@northumbria.ac.uk)This email address is being 
 protected from spambots. You need JavaScript enabled to view it.
				docume
 nt.getElementById('cloak356e921ad643aa873dd1afbdd2ee7a9b').innerHTML = '';

 				var prefix = '&#109;a' + 'i&#108;' + '&#116;o';
				var path = 'hr' + '
 ef' + '=';
				var addy356e921ad643aa873dd1afbdd2ee7a9b = 'h&#105;lm&#97;r.
 g&#117;dm&#117;ndss&#111;n' + '&#64;';
				addy356e921ad643aa873dd1afbdd2ee
 7a9b = addy356e921ad643aa873dd1afbdd2ee7a9b + 'n&#111;rth&#117;mbr&#105;&#9
 7;' + '&#46;' + '&#97;c' + '&#46;' + '&#117;k';
				var addy_text356e921ad6
 43aa873dd1afbdd2ee7a9b = 'h&#105;lm&#97;r.g&#117;dm&#117;ndss&#111;n' + '&#
 64;' + 'n&#111;rth&#117;mbr&#105;&#97;' + '&#46;' + '&#97;c' + '&#46;' + '&
 #117;k';document.getElementById('cloak356e921ad643aa873dd1afbdd2ee7a9b').in
 nerHTML += '<a ' + path + '\'' + prefix + ':' + addy356e921ad643aa873dd1afb
 dd2ee7a9b + '\'>'+addy_text356e921ad643aa873dd1afbdd2ee7a9b+'';
		).  \n
X-ALT-DESC;FMTTYPE=text/html:<p style="text-align: justify;"><strong>The annual international user meeti
 ng for the ice-flow model <em>Úa</em> will this year be held at Northumbria
  University, Newcastle, from 13-17 September, 2021</strong>.&nbsp;</p><p st
 yle="text-align: justify;">The meeting will be held online (using Teams). T
 here is no course fee, and registration simply involves sending me (Hilmar)
  an email to get be included in the Teams meeting invites. The meeting is s
 uitable for both new and experienced users.</p><p style="text-align: justif
 y;">The schedule will be based on UK local time. Video recordings and pre-r
 ecorded instruction videos will be made available to all participants. It s
 hould therefore be possible for those on different time zones to participat
 e without attending all the sessions in real time.</p><p style="text-align:
  justify;"><a href="https://ghilmarg.github.io/UaSource/" target="_blank" r
 el="noopener"><em>Úa</em></a> is a finite-element ice-flow model. It is eas
 y to use, robust, and an ideal tool to solve flow of ice sheets, ice shelve
 s and alpine glaciers, and for ice-flow problems involving grounding line m
 igration (<a href="https://www.youtube.com/channel/UCO8NHJqmgg_bwJx0xKJDwcA
 " target="_blank" rel="noopener">https://www.youtube.com/channel/UCO8NHJqmg
 g_bwJx0xKJDwcA</a>). To run the model a local MATLAB installation is requir
 ed.</p><p style="text-align: justify;">As in previous years, there will be 
 an introduction to the use of model and presentations by current users in t
 he mornings. The afternoons can be used to set up and run models, and parti
 cipants are encouraged to work on their own modelling problems.</p><p style
 ="text-align: justify;">Exact schedule will be sent close to the meeting, b
 ut we expect first two mornings (Monday and Tuesday) to be primarily aimed 
 and new users, and Wednesday and Thursday mornings mainly involving present
 ations of ‘user success stories’.</p><p style="text-align: justify;">Furthe
 r details about the program will be sent to participants closer to the date
  of the meeting.</p><p style="text-align: justify;">For information and reg
 istration please send an email to Hilmar Gudmundsson (<a href="mailto:hilma
 r.gudmundsson@northumbria.ac.uk"></a><span id="cloak356e921ad643aa873dd1afb
 dd2ee7a9b">This email address is being protected from spambots. You need Ja
 vaScript enabled to view it.</span><script type='text/javascript'>
				docu
 ment.getElementById('cloak356e921ad643aa873dd1afbdd2ee7a9b').innerHTML = ''
 ;
				var prefix = '&#109;a' + 'i&#108;' + '&#116;o';
				var path = 'hr' +
  'ef' + '=';
				var addy356e921ad643aa873dd1afbdd2ee7a9b = 'h&#105;lm&#97;
 r.g&#117;dm&#117;ndss&#111;n' + '&#64;';
				addy356e921ad643aa873dd1afbdd2
 ee7a9b = addy356e921ad643aa873dd1afbdd2ee7a9b + 'n&#111;rth&#117;mbr&#105;&
 #97;' + '&#46;' + '&#97;c' + '&#46;' + '&#117;k';
				var addy_text356e921a
 d643aa873dd1afbdd2ee7a9b = 'h&#105;lm&#97;r.g&#117;dm&#117;ndss&#111;n' + '
 &#64;' + 'n&#111;rth&#117;mbr&#105;&#97;' + '&#46;' + '&#97;c' + '&#46;' + 
 '&#117;k';document.getElementById('cloak356e921ad643aa873dd1afbdd2ee7a9b').
 innerHTML += '<a ' + path + '\'' + prefix + ':' + addy356e921ad643aa873dd1a
 fbdd2ee7a9b + '\'>'+addy_text356e921ad643aa873dd1afbdd2ee7a9b+'<\/a>';
		</
 script>).&nbsp;&nbsp;</p>
DTSTAMP:20260421T150818Z
DTSTART;TZID=UTC;VALUE=DATE:20210913
DTEND;TZID=UTC;VALUE=DATE:20210918
SEQUENCE:0
TRANSP:OPAQUE
END:VEVENT
END:VCALENDAR