BEGIN:VCALENDAR
VERSION:2.0
PRODID:-//jEvents 2.0 for Joomla//EN
CALSCALE:GREGORIAN
METHOD:PUBLISH
BEGIN:VEVENT
UID:f59659c6e23139acf3e465c3eceeed03
CATEGORIES:Polar Online Events
CREATED:20210824T120240
SUMMARY:Principles of Hydrology Short Course - Fall 2021 
LOCATION:Online
DESCRIPTION:Registration is now open for the 12th Annual Kananaskis Principles of Hydro
 logy Modelling Course. \nThe University of Saskatchewan Centre for Hydrolog
 y with the assistance of the Canadian Society for Hydrological Sciences is 
 offering an intensive course on the physical principles of hydrology with p
 articular relevance to Canadian conditions. The course is led by Dr. John P
 omeroy, Canada Research Chair in Water Resources &amp; Climate Change, and 
 taught by Dr. Pomeroy and a team of subject-matter experts. OCTOBER 5-NOVEM
 BER 4, 2021 (INTENSIVELY ONLINE TUESDAYS &amp; THURSDAYS) NOTE: THIS COURSE
  PLANS TO RETURN TO AN IN-PERSON FORMAT IN FALL 2022 This is a great opport
 unity for those who have always wanted to take the course but couldn't due 
 to travel constraints. Click the link below to find out more! https://resea
 rch-groups.usask.ca/hydrology/training-education/intensive-courses/geog-827
 .php#CourseObjectives
X-ALT-DESC;FMTTYPE=text/html:<p style="text-align: justify;">Registration is now open for the <strong>12
 th Annual Kananaskis Principles of Hydrology Modelling Course</strong>.&nbs
 p;</p><div style="text-align: justify;">The<strong> University of Saskatche
 wan Centre for Hydrology</strong> with the assistance of the <strong>Canadi
 an Society for Hydrological Sciences</strong> is offering an intensive cour
 se on the physical principles of hydrology with particular relevance to Can
 adian conditions. The course is led by Dr. John Pomeroy, Canada Research Ch
 air in Water&nbsp;Resources &amp; Climate Change, and taught by Dr. Pomeroy
  and a team of subject-matter experts.<div>&nbsp;</div><div>OCTOBER 5-NOVEM
 BER 4, 2021&nbsp;(INTENSIVELY ONLINE TUESDAYS &amp; THURSDAYS)</div><div>&n
 bsp;</div><div>NOTE: THIS COURSE PLANS TO RETURN TO AN IN-PERSON FORMAT IN 
 FALL 2022</div><div>&nbsp;</div><div>This is a great opportunity for those 
 who have always wanted to take the course but couldn't due to travel constr
 aints. Click the link below to find out more!</div></div><div style="text-a
 lign: justify;">&nbsp;<a href="https://research-groups.usask.ca/hydrology/t
 raining-education/intensive-courses/geog-827.php#CourseObjectives" target="
 _blank" rel="noopener">https://research-groups.usask.ca/hydrology/training-
 education/intensive-courses/geog-827.php#CourseObjectives</a></div>
DTSTAMP:20260419T224751Z
DTSTART;TZID=UTC;VALUE=DATE:20211005
DTEND;TZID=UTC;VALUE=DATE:20211105
SEQUENCE:0
TRANSP:OPAQUE
END:VEVENT
END:VCALENDAR