BEGIN:VCALENDAR
VERSION:2.0
PRODID:-//jEvents 2.0 for Joomla//EN
CALSCALE:GREGORIAN
METHOD:PUBLISH
BEGIN:VEVENT
UID:0c98c83d4a572bf9bccdfd09af6ae630
CATEGORIES:Polar Online Events
CREATED:20210825T070844
SUMMARY:Permafrost forum - Call for abstracts
LOCATION:Online
DESCRIPTION:The cryosphere initiative at ICIMOD (International Centre for Integrated Mo
 untain Development) is organising an online forum on permafrost from 20th t
 o 23rd September 2021.\nIf your research is related to permafrost, please c
 onsider submitting an abstract. Early career researchers are especially enc
 ouraged to participate. The deadline for abstract submission is 9th Septemb
 er (11 am UTC).\nMore information about the forum is available here: https:
 //www.icimod.org/event/cryosphere-forum-2021-status-of-research-on-changing
 -permafrost-and-associated-impacts-in-the-hindu-kush-himalaya/\nand the dir
 ect link to submit abstracts is here: <a href="https://docs.google.com/form
 s/d/e/1FAIpQLSf8LLceNQi4vzjzywuFixnHt546jgWGSX3AvD35FKYDLmMuVg/viewform" ta
 rget="_blank" rel="noopener">https://docs.google.com/forms/d/e/1FAIpQLSf8LL
 ceNQi4vzjzywuFixnHt546jgWGSX3AvD35FKYDLmMuVg/viewform</a>\n
X-ALT-DESC;FMTTYPE=text/html:<p style="text-align: justify;">The cryosphere initiative at <strong>ICIMOD
 </strong> (International Centre for Integrated Mountain Development) is org
 anising an <strong>online forum on permafrost from 20<sup>th</sup> to 23<su
 p>rd</sup> September 2021</strong>.</p><p style="text-align: justify;">If y
 our research is related to permafrost, please consider submitting an abstra
 ct. Early career researchers are especially encouraged to participate. <str
 ong>The deadline for abstract submission is 9<sup>th</sup> September (11 am
  UTC).</strong></p><p style="text-align: justify;">More information about t
 he forum is available here: <a href="https://www.icimod.org/event/cryospher
 e-forum-2021-status-of-research-on-changing-permafrost-and-associated-impac
 ts-in-the-hindu-kush-himalaya/" target="_blank" rel="noopener">https://www.
 icimod.org/event/cryosphere-forum-2021-status-of-research-on-changing-perma
 frost-and-associated-impacts-in-the-hindu-kush-himalaya/</a></p><p style="t
 ext-align: justify;">and the direct link to submit abstracts is here: <a hr
 ef="https://docs.google.com/forms/d/e/1FAIpQLSf8LLceNQi4vzjzywuFixnHt546jgW
 GSX3AvD35FKYDLmMuVg/viewform" target="_blank" rel="noopener">https://docs.g
 oogle.com/forms/d/e/1FAIpQLSf8LLceNQi4vzjzywuFixnHt546jgWGSX3AvD35FKYDLmMuV
 g/viewform</a></p>
DTSTAMP:20260419T170131Z
DTSTART;TZID=UTC;VALUE=DATE:20210920
DTEND;TZID=UTC;VALUE=DATE:20210924
SEQUENCE:0
TRANSP:OPAQUE
END:VEVENT
END:VCALENDAR