BEGIN:VCALENDAR
VERSION:2.0
PRODID:-//jEvents 2.0 for Joomla//EN
CALSCALE:GREGORIAN
METHOD:PUBLISH
BEGIN:VEVENT
UID:a7a3df7747a447331df5fabbd43573f8
CATEGORIES:Polar Conferences, Meetings and Events
CREATED:20210902T124558
SUMMARY:AMS annual meeting - Abstract deadline extended (September 8)
LOCATION:Houston\, TX and Online
DESCRIPTION:AMS has extended the abstract deadline to Wednesday, September 8th. We enco
 urage abstract submissions to the session Linking Snow Hydrology and Societ
 y through Remote Sensing, Modeling, and Data Assimilation.\nClick here to s
 ubmit to this session. (https://ams.confex.com/ams/102ANNUAL/webprogramprel
 iminary/Session59005.html)\nAMS has also expanded the remote options to pro
 mote a more inclusive and interactive experience for virtual attendees – th
 is includes streaming all oral sessions and allowing for remote presentatio
 n of both talks and posters. For more info on the virtual options, <a href=
 "https://annual.ametsoc.org/index.cfm/2022/your-annual/virtual-options-for-
 the-ams-102nd-annual-meeting/" target="_blank" rel="noopener">please check 
 out the AMS site</a>.\nFor those that can travel, the 2022 annual meeting w
 ill be held on January 23-27 in Houston, TX, and AMS has been planning for 
 the health and safety for those in-person attendees (https://annual.ametsoc
 .org/index.cfm/2022/about-the-meeting/planning-for-your-health-and-safety-a
 t-the-102nd-annual-meeting/).\nFeel free to reach out if you have any quest
 ions.\n
X-ALT-DESC;FMTTYPE=text/html:<p style="text-align: justify;"><strong>AMS</strong> has extended the abstr
 act deadline to <strong>Wednesday, September 8<sup>th</sup></strong>. We en
 courage abstract submissions to the session <strong>Linking Snow Hydrology 
 and Society through Remote Sensing, Modeling, and Data Assimilation</strong
 >.</p><p style="text-align: justify;"><a href="https://ams.confex.com/ams/1
 02ANNUAL/webprogrampreliminary/Session59005.html" target="_blank" rel="noop
 ener">Click here to submit to this session.</a></p><p style="text-align: ju
 stify;">AMS has also expanded the remote options to promote a more inclusiv
 e and interactive experience for virtual attendees – this includes streamin
 g all oral sessions and allowing for remote presentation of both talks and 
 posters. For more info on the virtual options, <a href="https://annual.amet
 soc.org/index.cfm/2022/your-annual/virtual-options-for-the-ams-102nd-annual
 -meeting/" target="_blank" rel="noopener">please check out the AMS site</a>
 .</p><p style="text-align: justify;">For those that can travel, the <strong
 >2022 annual meeting will be held on January 23-27 in Houston, TX</strong>,
  and AMS has been <a href="https://annual.ametsoc.org/index.cfm/2022/about-
 the-meeting/planning-for-your-health-and-safety-at-the-102nd-annual-meeting
 /" target="_blank" rel="noopener">planning for the health and safety for th
 ose in-person attendees</a>.</p><p style="text-align: justify;">Feel free t
 o reach out if you have any questions.</p>
DTSTAMP:20260420T140650Z
DTSTART;TZID=UTC;VALUE=DATE:20220123
DTEND;TZID=UTC;VALUE=DATE:20220128
SEQUENCE:0
TRANSP:OPAQUE
END:VEVENT
END:VCALENDAR