BEGIN:VCALENDAR
VERSION:2.0
PRODID:-//jEvents 2.0 for Joomla//EN
CALSCALE:GREGORIAN
METHOD:PUBLISH
BEGIN:VEVENT
UID:a7327bea7fe292e263e592ce02a0a2c4
CATEGORIES:Polar Online Events
CREATED:20210902T135158
SUMMARY:Southern Ocean Decade & Polar Data Forum Week 2021
LOCATION:Online
DESCRIPTION:The Southern Ocean Task Force and the Organizing Committee of Polar Data Fo
 rum IV are pleased to announce that the  will be convened on 20-24 Septembe
 r 2021.\nThis event will be dedicated to the 2nd Southern Ocean Regional Wo
 rkshop for the UN Ocean Decade (20-22 September) and the 4th edition of the
  <a href="https://polar-data-forum.org/?utm_source=SCAR&amp;utm_campaign=b7
 3ff24631-EMAIL_CAMPAIGN_2020_08_19_02_59_COPY_01&amp;utm_medium=email&amp;u
 tm_term=0_b964133964-b73ff24631-364285916" target="_blank" rel="noopener">P
 olar Data Forum</a> (20-24 September).\n!\n \n2nd Southern Ocean Regional W
 orkshop – 20-22 September\nIn the framework of the United Nations Decade of
  Ocean Science for Sustainable Development, the Southern Ocean Community en
 gaged in a stakeholder-oriented process to develop the Southern Ocean Actio
 n Plan to provide a framework for Southern Ocean stakeholders to formulate 
 and develop concrete activities that support the Decade vision.\nBased on t
 he First Southern Ocean Regional Workshop, this 2nd volume of the Southern 
 Ocean contribution to the UN Ocean Decade will provide a space to gather oc
 ean key stakeholders to further discuss and prioritize the Southern Ocean c
 hallenges, and identify tangible actions and deliverables to overcome these
  as a community.\nThe Workshop will combine a conference style meeting in s
 upport of knowledge exchange, with a public consultation approach that will
  build up to the development of the Final Southern Ocean Action Plan for th
 e UN Decade of Ocean Science for Sustainable Development.\nPolar Data Forum
  IV – 20-24 September\nPolar Data Forum (PDF) is a place where polar data h
 olders get together and make more use of data. The Forum has two main compo
 nents: the Conference, where the border between funding, policy and data is
  explored through presentations and posters (23-24 September); and Workshop
  Sessions &amp; Hackathons, where the Polar Data Community opens the dialog
 ue to make progress on their shared objectives (20-22 September).\nBased on
  the activities and discussions from PDF III, and particularly, on a worksh
 op focused on marine data, this edition of the Polar Data Forum will put th
 e focus on polar oceans. This also enables the Forum to be aligned with the
  launch of the UN Decade of Ocean Science for Sustainable Development.\n
X-ALT-DESC;FMTTYPE=text/html:<p style="text-align: justify;">The Southern Ocean Task Force and the Organ
 izing Committee of Polar Data Forum IV are pleased to announce that the <a 
 href="https://scar.org/general-scar-news/so-decade-polar-data-2021/?utm_sou
 rce=SCAR&amp;utm_campaign=b73ff24631-EMAIL_CAMPAIGN_2020_08_19_02_59_COPY_0
 1&amp;utm_medium=email&amp;utm_term=0_b964133964-b73ff24631-364285916" targ
 et="_blank" rel="noopener">Southern Ocean Decade &amp; Polar Data Forum Wee
 k 2021</a> will be convened on <strong>20-24 September 2021.</strong></p><p
  style="text-align: justify;">This event will be dedicated to the 2nd South
 ern Ocean Regional Workshop for the UN Ocean Decade (20-22 September) and t
 he 4th edition of the <a href="https://polar-data-forum.org/?utm_source=SCA
 R&amp;utm_campaign=b73ff24631-EMAIL_CAMPAIGN_2020_08_19_02_59_COPY_01&amp;u
 tm_medium=email&amp;utm_term=0_b964133964-b73ff24631-364285916" target="_bl
 ank" rel="noopener">Polar Data Forum</a> (20-24 September).</p><p style="te
 xt-align: justify;"><a href="https://sodecade-pdf4.org/?utm_source=SCAR&amp
 ;utm_campaign=b73ff24631-EMAIL_CAMPAIGN_2020_08_19_02_59_COPY_01&amp;utm_me
 dium=email&amp;utm_term=0_b964133964-b73ff24631-364285916" target="_blank" 
 rel="noopener">Register here</a>!</p><p>&nbsp;</p><p style="text-align: jus
 tify;"><strong>2nd Southern Ocean Regional Workshop – 20-22 September</stro
 ng></p><p style="text-align: justify;">In the framework of the United Natio
 ns Decade of Ocean Science for Sustainable Development, the Southern Ocean 
 Community engaged in a stakeholder-oriented process to develop the Southern
  Ocean Action Plan to provide a framework for Southern Ocean stakeholders t
 o formulate and develop concrete activities that support the Decade vision.
 </p><p style="text-align: justify;">Based on the First Southern Ocean Regio
 nal Workshop, this 2nd volume of the Southern Ocean contribution to the UN 
 Ocean Decade will provide a space to gather ocean key stakeholders to furth
 er discuss and prioritize the Southern Ocean challenges, and identify tangi
 ble actions and deliverables to overcome these as a community.</p><p style=
 "text-align: justify;">The Workshop will combine a conference style meeting
  in support of knowledge exchange, with a public consultation approach that
  will build up to the development of the Final Southern Ocean Action Plan f
 or the UN Decade of Ocean Science for Sustainable Development.</p><p style=
 "text-align: justify;"><strong>Polar Data Forum IV – 20-24 September</stron
 g></p><p style="text-align: justify;">Polar Data Forum (PDF) is a place whe
 re polar data holders get together and make more use of data. The Forum has
  two main components: the Conference, where the border between funding, pol
 icy and data is explored through presentations and posters (23-24 September
 ); and Workshop Sessions &amp; Hackathons, where the Polar Data Community o
 pens the dialogue to make progress on their shared objectives (20-22 Septem
 ber).</p><p style="text-align: justify;">Based on the activities and discus
 sions from PDF III, and particularly, on a workshop focused on marine data,
  this edition of the Polar Data Forum will put the focus on polar oceans. T
 his also enables the Forum to be aligned with the launch of the UN Decade o
 f Ocean Science for Sustainable Development.</p>
DTSTAMP:20260423T165142Z
DTSTART;TZID=UTC;VALUE=DATE:20210920
DTEND;TZID=UTC;VALUE=DATE:20210925
SEQUENCE:0
TRANSP:OPAQUE
END:VEVENT
END:VCALENDAR