BEGIN:VCALENDAR
VERSION:2.0
PRODID:-//jEvents 2.0 for Joomla//EN
CALSCALE:GREGORIAN
METHOD:PUBLISH
BEGIN:VEVENT
UID:449282cd22f5299627813c47b8317aa6
CATEGORIES:APECS Events
CREATED:20210910T145513
SUMMARY:Polar Hour / Polarstunde (Only in German)
LOCATION:Online
DESCRIPTION:Herzliche Einladung zur Seminarreihe POLARSTUNDE\nDie “Forschung der Extrem
 e” lädt mit kurzen und lebendigen Vorträgen alle herzlich ein, einen Blick 
 hinter ihre Kulissen zu werfen. An mehreren Mittwochen von Juni 2021 bis Ap
 ril 2022 von 17 bis 18 Uhr präsentiert die deutsche Polarforschung sich in 
 Form von zwei Vorträgen, jeweils von einem Senior und einem Junior Vortrage
 nden. Die Themenvielfalt ist groß: Geschichte(n) der Polarforschung, ein Bl
 ick in die Zukunft mit einer Arktis ohne Eis (?) und in die Vergangenheit, 
 z.B. die Frage, wie sich Klimawandel und Geologie vor 34 Mio Jahren gegense
 itig beeinflusst haben.\nDie POLARSTUNDE wird von der Deutschen Gesellschaf
 t für Polarforschung (DGP) und der Association of Polar Early Career Scient
 ists (APECS) Germany organisiert.\nWir laden alle Menschen gleichermaßen ei
 n, an der Seminarreihe teilzunehmen. Bitte melden Sie sich per Email an Thi
 s email address is being protected from spambots. You need JavaScript enabl
 ed to view it.
				document.getElementById('cloak8852e6a9772e318faf47468088
 39a542').innerHTML = '';
				var prefix = '&#109;a' + 'i&#108;' + '&#116;o'
 ;
				var path = 'hr' + 'ef' + '=';
				var addy8852e6a9772e318faf474680883
 9a542 = 'p&#111;l&#97;rst&#117;nd&#101;' + '&#64;';
				addy8852e6a9772e318
 faf4746808839a542 = addy8852e6a9772e318faf4746808839a542 + 'p&#111;l&#97;rf
 &#111;rsch&#117;ng' + '&#46;' + 'd&#101;';
				var addy_text8852e6a9772e318
 faf4746808839a542 = 'p&#111;l&#97;rst&#117;nd&#101;' + '&#64;' + 'p&#111;l&
 #97;rf&#111;rsch&#117;ng' + '&#46;' + 'd&#101;';document.getElementById('cl
 oak8852e6a9772e318faf4746808839a542').innerHTML += '<a ' + path + '\'' + pr
 efix + ':' + addy8852e6a9772e318faf4746808839a542 + '\'>'+addy_text8852e6a9
 772e318faf4746808839a542+'';
		 bis spätestens zum Vortag der jeweiligen Ve
 ranstaltung an. An alle Teilnehmenden wird der entsprechende (kostenlose) Z
 oom-Link rechtzeitig am Tag der Veranstaltung verschickt.\nAlle Termine fin
 den Sie auf dem Flyer (images/Articles/Files/372_POLARSTUNDE_-_Alexandra_Zu
 hr.pdf):\n15.12: Arktische Seesedimente: Ein Archiv vergangener Biodiversit
 ät der letzten Jahrtausende \n16.02: Polargeodäsie und Glaziologie \n13.04:
  Hebung des Transantarktischen Gebirges und globaler Klimawandel vor 34 Mil
 lionen Jahren: ein Henne-oder-Ei Problem?\nWir freuen uns auf Sie!\nDGP und
  APECS Germany\n \n
X-ALT-DESC;FMTTYPE=text/html:<p>Herzliche Einladung zur Seminarreihe POLARSTUNDE</p><p>Die “Forschung de
 r Extreme” lädt mit kurzen und lebendigen Vorträgen alle herzlich ein, eine
 n Blick hinter ihre Kulissen zu werfen. An mehreren Mittwochen von Juni 202
 1 bis April 2022 von 17 bis 18 Uhr präsentiert die deutsche Polarforschung 
 sich in Form von zwei Vorträgen, jeweils von einem Senior und einem Junior 
 Vortragenden. Die Themenvielfalt ist groß: Geschichte(n) der Polarforschung
 , ein Blick in die Zukunft mit einer Arktis ohne Eis (?) und in die Vergang
 enheit, z.B. die Frage, wie sich Klimawandel und Geologie vor 34 Mio Jahren
  gegenseitig beeinflusst haben.</p><p>Die POLARSTUNDE wird von der Deutsche
 n Gesellschaft für Polarforschung (DGP) und der Association of Polar Early 
 Career Scientists (APECS) Germany organisiert.</p><p>Wir laden alle Mensche
 n gleichermaßen ein, an der Seminarreihe teilzunehmen. Bitte melden Sie sic
 h per Email an <span id="cloak8852e6a9772e318faf4746808839a542">This email 
 address is being protected from spambots. You need JavaScript enabled to vi
 ew it.</span><script type='text/javascript'>
				document.getElementById('c
 loak8852e6a9772e318faf4746808839a542').innerHTML = '';
				var prefix = '&#
 109;a' + 'i&#108;' + '&#116;o';
				var path = 'hr' + 'ef' + '=';
				var a
 ddy8852e6a9772e318faf4746808839a542 = 'p&#111;l&#97;rst&#117;nd&#101;' + '&
 #64;';
				addy8852e6a9772e318faf4746808839a542 = addy8852e6a9772e318faf474
 6808839a542 + 'p&#111;l&#97;rf&#111;rsch&#117;ng' + '&#46;' + 'd&#101;';
		
 		var addy_text8852e6a9772e318faf4746808839a542 = 'p&#111;l&#97;rst&#117;nd
 &#101;' + '&#64;' + 'p&#111;l&#97;rf&#111;rsch&#117;ng' + '&#46;' + 'd&#101
 ;';document.getElementById('cloak8852e6a9772e318faf4746808839a542').innerHT
 ML += '<a ' + path + '\'' + prefix + ':' + addy8852e6a9772e318faf4746808839
 a542 + '\'>'+addy_text8852e6a9772e318faf4746808839a542+'<\/a>';
		</script>
  bis spätestens zum Vortag der jeweiligen Veranstaltung an. An alle Teilneh
 menden wird der entsprechende (kostenlose) Zoom-Link rechtzeitig am Tag der
  Veranstaltung verschickt.</p><p><a href="images/Articles/Files/372_POLARST
 UNDE_-_Alexandra_Zuhr.pdf">Alle Termine finden Sie auf dem Flyer</a>:</p><p
 >15.12: Arktische Seesedimente: Ein Archiv vergangener Biodiversität der le
 tzten Jahrtausende <br />16.02: Polargeodäsie und Glaziologie <br />13.04: 
 Hebung des Transantarktischen Gebirges und globaler Klimawandel vor 34 Mill
 ionen Jahren: ein Henne-oder-Ei Problem?</p><p>Wir freuen uns auf Sie!</p><
 p>DGP und APECS Germany</p><p>&nbsp;</p>
DTSTAMP:20260419T224802Z
DTSTART;TZID=UTC;VALUE=DATE:20211215
DTEND;TZID=UTC;VALUE=DATE:20211216
SEQUENCE:0
TRANSP:OPAQUE
END:VEVENT
END:VCALENDAR