BEGIN:VCALENDAR
VERSION:2.0
PRODID:-//jEvents 2.0 for Joomla//EN
CALSCALE:GREGORIAN
METHOD:PUBLISH
BEGIN:VEVENT
UID:10dbd461ffd5341a686cc0141ccaca34
CATEGORIES:Polar Conferences, Meetings and Events
CREATED:20210924T120933
SUMMARY: Dutch Polar Symposium 2021
LOCATION:The Hague\, Netherlands
DESCRIPTION:<p>This year’s symposium is titled: <strong>“For Sustainability in the Pola
 r Regions“</strong></p><p><strong>Thursday 2 December </strong>| 09.30 to 1
 7.00<br />Museon | Stadhouderslaan 37 | The Hague</p><p>You are warmly invi
 ted to join the annual Polar Symposium. NPP-NWO, <a href="https://apecsneth
 erlands.com/" target="_blank" rel="noopener">APECS Netherlands</a> and the 
 Dutch Arctic Circle (DAC) joined forces to once again present a day full of
  state-of-the-art polar science, relevant results, new developments and mos
 t of all networking opportunities. We will link scientific insights with th
 e development of activities in the Arctic and governance.</p><p>This sympos
 ium will be our main focus in the midst of a week full of other polar activ
 ities to be announced later. Registration for the symposium is free, but re
 quired for attending. Our location this year is at the Museon. This opens u
 p the opportunity to accommodate more people than ever during our symposium
 . Still capacity is, only if COVID-19 restrictions do not apply anymore, li
 mited to 250 people. The symposium will be held in English. You are kindly 
 invited to present a poster during the Symposium and can choose to register
  for this in the due registration form. The deadline for submitting an abst
 ract for a poster is the <strong>8th November</strong>. Feel free to forwar
 d this invitation to colleagues and others interested.</p><p>For more infor
 mation please email <span id="cloak076708d205ac1e738484a20fdb9d9086"><a hre
 f="mailto:poolsymposium2021@nwo.nl"></a><span id="cloak84f92317b9e107474c65
 c489e03be5c2">This email address is being protected from spambots. You need
  JavaScript enabled to view it.</span><script type='text/javascript'>
				d
 ocument.getElementById('cloak84f92317b9e107474c65c489e03be5c2').innerHTML =
  '';
				var prefix = '&#109;a' + 'i&#108;' + '&#116;o';
				var path = 'hr
 ' + 'ef' + '=';
				var addy84f92317b9e107474c65c489e03be5c2 = 'p&#111;&#11
 1;lsymp&#111;s&#105;&#117;m2021' + '&#64;';
				addy84f92317b9e107474c65c48
 9e03be5c2 = addy84f92317b9e107474c65c489e03be5c2 + 'nw&#111;' + '&#46;' + '
 nl';
				var addy_text84f92317b9e107474c65c489e03be5c2 = 'p&#111;&#111;lsym
 p&#111;s&#105;&#117;m2021' + '&#64;' + 'nw&#111;' + '&#46;' + 'nl';document
 .getElementById('cloak84f92317b9e107474c65c489e03be5c2').innerHTML += '<a '
  + path + '\'' + prefix + ':' + addy84f92317b9e107474c65c489e03be5c2 + '\'>
 '+addy_text84f92317b9e107474c65c489e03be5c2+'<\/a>';
		</script></span> (NW
 O), <span id="cloakc958c60584f4432e52c356a03cc29651"><a href="mailto:apecsn
 l@gmail.com"></a><span id="cloakfbd1f9b3432b1666dbc47ed690c68bca">This emai
 l address is being protected from spambots. You need JavaScript enabled to 
 view it.</span><script type='text/javascript'>
				document.getElementById(
 'cloakfbd1f9b3432b1666dbc47ed690c68bca').innerHTML = '';
				var prefix = '
 &#109;a' + 'i&#108;' + '&#116;o';
				var path = 'hr' + 'ef' + '=';
				var
  addyfbd1f9b3432b1666dbc47ed690c68bca = '&#97;p&#101;csnl' + '&#64;';
				a
 ddyfbd1f9b3432b1666dbc47ed690c68bca = addyfbd1f9b3432b1666dbc47ed690c68bca 
 + 'gm&#97;&#105;l' + '&#46;' + 'c&#111;m';
				var addy_textfbd1f9b3432b166
 6dbc47ed690c68bca = '&#97;p&#101;csnl' + '&#64;' + 'gm&#97;&#105;l' + '&#46
 ;' + 'c&#111;m';document.getElementById('cloakfbd1f9b3432b1666dbc47ed690c68
 bca').innerHTML += '<a ' + path + '\'' + prefix + ':' + addyfbd1f9b3432b166
 6dbc47ed690c68bca + '\'>'+addy_textfbd1f9b3432b1666dbc47ed690c68bca+'<\/a>'
 ;
		</script></span> (APECS) or <span id="cloak1ecc645920526a56faf831afa5e5
 2649"><a href="mailto:bernike.vanwerven@wing.nl"></a><span id="cloak7c103d9
 092c125177287da458dc13add">This email address is being protected from spamb
 ots. You need JavaScript enabled to view it.</span><script type='text/javas
 cript'>
				document.getElementById('cloak7c103d9092c125177287da458dc13add'
 ).innerHTML = '';
				var prefix = '&#109;a' + 'i&#108;' + '&#116;o';
				v
 ar path = 'hr' + 'ef' + '=';
				var addy7c103d9092c125177287da458dc13add =
  'b&#101;rn&#105;k&#101;.v&#97;nw&#101;rv&#101;n' + '&#64;';
				addy7c103d
 9092c125177287da458dc13add = addy7c103d9092c125177287da458dc13add + 'w&#105
 ;ng' + '&#46;' + 'nl';
				var addy_text7c103d9092c125177287da458dc13add = 
 'b&#101;rn&#105;k&#101;.v&#97;nw&#101;rv&#101;n' + '&#64;' + 'w&#105;ng' + 
 '&#46;' + 'nl';document.getElementById('cloak7c103d9092c125177287da458dc13a
 dd').innerHTML += '<a ' + path + '\'' + prefix + ':' + addy7c103d9092c12517
 7287da458dc13add + '\'>'+addy_text7c103d9092c125177287da458dc13add+'<\/a>';
 
		</script></span> (DAC). The symposium will be organised under all RIVM a
 dvised safety requirements related to COVID-19.</p><div class="freebirdForm
 viewerViewItemsTextTextItemContainer"><div class="freebirdFormviewerViewIte
 msTextLongText freebirdFormviewerViewItemsTextDisabledText freebirdThemedIn
 put">Registration will open soon. ECRs can submit a poster. If you're inter
 ested in proposing a talk, contact APECS Netherlands asap: <span id="cloak4
 3288cd726e3d743033a33b7f00dd8dc"><a href="mailto:apecsnetherlands@gmail.com
 "></a><span id="cloakfa393420611bbac1ebb3ed772a9bafd2">This email address i
 s being protected from spambots. You need JavaScript enabled to view it.</s
 pan><script type='text/javascript'>
				document.getElementById('cloakfa393
 420611bbac1ebb3ed772a9bafd2').innerHTML = '';
				var prefix = '&#109;a' + 
 'i&#108;' + '&#116;o';
				var path = 'hr' + 'ef' + '=';
				var addyfa3934
 20611bbac1ebb3ed772a9bafd2 = '&#97;p&#101;csn&#101;th&#101;rl&#97;nds' + '&
 #64;';
				addyfa393420611bbac1ebb3ed772a9bafd2 = addyfa393420611bbac1ebb3e
 d772a9bafd2 + 'gm&#97;&#105;l' + '&#46;' + 'c&#111;m';
				var addy_textfa3
 93420611bbac1ebb3ed772a9bafd2 = '&#97;p&#101;csn&#101;th&#101;rl&#97;nds' +
  '&#64;' + 'gm&#97;&#105;l' + '&#46;' + 'c&#111;m';document.getElementById(
 'cloakfa393420611bbac1ebb3ed772a9bafd2').innerHTML += '<a ' + path + '\'' +
  prefix + ':' + addyfa393420611bbac1ebb3ed772a9bafd2 + '\'>'+addy_textfa393
 420611bbac1ebb3ed772a9bafd2+'<\/a>';
		</script></span></div></div>
CONTACT:This email address is being protected from spambots. You need JavaScript enabled to view it.
				document.getElementById('cloak1455a0e802ef27b29f6126b5900e216e').innerHTML = '';
				var prefix = '&#109;a' + 'i&#108;' + '&#116;o';
				var path = 'hr' + 'ef' + '=';
				var addy1455a0e802ef27b29f6126b5900e216e = '&#97;p&#101;csn&#101;th&#101;rl&#97;nds' + '&#64;';
				addy1455a0e802ef27b29f6126b5900e216e = addy1455a0e802ef27b29f6126b5900e216e + 'gm&#97;&#105;l' + '&#46;' + 'c&#111;m';
				var addy_text1455a0e802ef27b29f6126b5900e216e = '&#97;p&#101;csn&#101;th&#101;rl&#97;nds' + '&#64;' + 'gm&#97;&#105;l' + '&#46;' + 'c&#111;m';document.getElementById('cloak1455a0e802ef27b29f6126b5900e216e').innerHTML += '<a ' + path + '\'' + prefix + ':' + addy1455a0e802ef27b29f6126b5900e216e + '\'>'+addy_text1455a0e802ef27b29f6126b5900e216e+'';
		
DTSTAMP:20260419T225133Z
DTSTART;TZID=UTC:20211202T093000
DTEND;TZID=UTC:20211202T170000
SEQUENCE:0
TRANSP:OPAQUE
END:VEVENT
END:VCALENDAR