BEGIN:VCALENDAR
VERSION:2.0
PRODID:-//jEvents 2.0 for Joomla//EN
CALSCALE:GREGORIAN
METHOD:PUBLISH
BEGIN:VEVENT
UID:6b491b264cc9da659eee567a69ffd115
CATEGORIES:Polar Conferences, Meetings and Events
CREATED:20170104T202018
SUMMARY:Arctic Terrestrial Modelling Workshop
LOCATION:St Anne's College - University of Oxford\, UK
DESCRIPTION:Arctic Terrestrial Modelling Workshop\nDates: 14-15 September 2017 (Thu/Fri
 )\nVenue: St Anne's College - University of Oxford\nSponsors: Canadian Netw
 ork for Regional Climate and Weather Processes (CNRCWP) – Natural Sciences 
 and Engineering Research Council of Canada (NSERC) and Next-Generation Ecos
 ystem Experiments-Arctic (NGEE-Arctic).\nObjectives: This workshop will bri
 ng together senior and early career scientists to gain insight into the rap
 idly changing pan-Arctic land surface and boundary layer. The workshop will
  review current representation of Arctic ecosystem, carbon, water and energ
 y balance processes in the land model component of Earth System Models, inc
 luding land-atmosphere interactions, and the next steps to address knowledg
 e gaps. The workshop will also focus on developing a pan-Arctic land model 
 assessment that includes a broader range of models, and engage the data com
 munity to provide new validation products for the Arctic and sub-Arctic.\nC
 ore focus:\n*Representation of Arctic terrestrial ecosystems in models\n*Ro
 le of observations: calibration, validation, assimilation\n*Water, nitrogen
 , carbon, and energy dynamics\n*Land-atmosphere interactions and feedbacks 
 across spatial and temporal scales\n*Pan-Arctic land model assessment\n*Arc
 tic boundary layer processes\n*Extreme/disturbance events\n*Knowledge gaps\
 nRegistration: Fill the online form available at http://www.cnrcwp.uqam.ca/
 arctemw/\nDeadline for abstract submission and registration: 17 February 20
 17\nScientific Organizing Committee:\nLaxmi Sushama (UQAM), Stan Wullschleg
 er (ORNL), Cathy Wilson (LANL), Eleanor Blyth (NERC), Benjamin Smith (Lund 
 University), David Lawrence (NCAR), Gerhard Krinner (CNRS), Patrick Samuels
 son (SMHI), Paul Miller (Lund University), Joe Melton (ECCC), Charles Mille
 r (JPL)\nContact: Bernardo Teufel This email address is being protected fro
 m spambots. You need JavaScript enabled to view it.
				document.getElement
 ById('cloak94ec4d148bbdd631cc3370a07866f286').innerHTML = '';
				var prefi
 x = '&#109;a' + 'i&#108;' + '&#116;o';
				var path = 'hr' + 'ef' + '=';
		
 		var addy94ec4d148bbdd631cc3370a07866f286 = 't&#101;&#117;f&#101;l' + '&#6
 4;';
				addy94ec4d148bbdd631cc3370a07866f286 = addy94ec4d148bbdd631cc3370a
 07866f286 + 'sc&#97;' + '&#46;' + '&#117;q&#97;m' + '&#46;' + 'c&#97;';
			
 	var addy_text94ec4d148bbdd631cc3370a07866f286 = 't&#101;&#117;f&#101;l' + 
 '&#64;' + 'sc&#97;' + '&#46;' + '&#117;q&#97;m' + '&#46;' + 'c&#97;';docume
 nt.getElementById('cloak94ec4d148bbdd631cc3370a07866f286').innerHTML += '<a
  ' + path + '\'' + prefix + ':' + addy94ec4d148bbdd631cc3370a07866f286 + '\
 '>'+addy_text94ec4d148bbdd631cc3370a07866f286+'';
		 \n
X-ALT-DESC;FMTTYPE=text/html:<p style="text-align: justify;"><strong>Arctic Terrestrial Modelling Worksh
 op</strong></p><p style="text-align: justify;"><strong>Dates: 14-15 Septemb
 er 2017 (Thu/Fri)</strong></p><p style="text-align: justify;"><strong>Venue
 : St Anne's College - University of Oxford</strong></p><p style="text-align
 : justify;">Sponsors: Canadian Network for Regional Climate and Weather Pro
 cesses (CNRCWP) – Natural Sciences and Engineering Research Council of Cana
 da (NSERC) and Next-Generation Ecosystem Experiments-Arctic (NGEE-Arctic).<
 /p><p style="text-align: justify;">Objectives: This workshop will bring tog
 ether senior and early career scientists to gain insight into the rapidly c
 hanging pan-Arctic land surface and boundary layer. The workshop will revie
 w current representation of Arctic ecosystem, carbon, water and energy bala
 nce processes in the land model component of Earth System Models, including
  land-atmosphere interactions, and the next steps to address knowledge gaps
 . The workshop will also focus on developing a pan-Arctic land model assess
 ment that includes a broader range of models, and engage the data community
  to provide new validation products for the Arctic and sub-Arctic.</p><p st
 yle="text-align: justify;"><strong>Core focus:</strong><br />*Representatio
 n of Arctic terrestrial ecosystems in models<br />*Role of observations: ca
 libration, validation, assimilation<br />*Water, nitrogen, carbon, and ener
 gy dynamics<br />*Land-atmosphere interactions and feedbacks across spatial
  and temporal scales<br />*Pan-Arctic land model assessment<br />*Arctic bo
 undary layer processes<br />*Extreme/disturbance events<br />*Knowledge gap
 s</p><p style="text-align: justify;"><strong>Registration: Fill the online 
 form available at </strong><a href="http://www.cnrcwp.uqam.ca/arctemw/" tar
 get="_blank" style="color: #1155cc;" data-saferedirecturl="https://www.goog
 le.com/url?hl=ru&q=http://www.cnrcwp.uqam.ca/arctemw/&source=gmail&ust=1483
 644054108000&usg=AFQjCNHXdsfdC9B13ZVHjwgcgfugRd2GMA">http://www.cnrcwp.uqam
 .ca/arctemw/</a></p><p style="text-align: justify;"><strong>Deadline for ab
 stract submission and registration:</strong> <strong>17 February 2017</stro
 ng></p><p style="text-align: justify;"><strong>Scientific Organizing Commit
 tee:</strong><br />Laxmi Sushama (UQAM), Stan Wullschleger (ORNL), Cathy Wi
 lson (LANL), Eleanor Blyth (NERC), Benjamin Smith (Lund University), David 
 Lawrence (NCAR), Gerhard Krinner (CNRS), Patrick Samuelsson (SMHI), Paul Mi
 ller (Lund University), Joe Melton (ECCC), Charles Miller (JPL)</p><p style
 ="text-align: justify;"><strong>Contact:</strong> Bernardo Teufel <span id=
 "cloak94ec4d148bbdd631cc3370a07866f286">This email address is being protect
 ed from spambots. You need JavaScript enabled to view it.</span><script typ
 e='text/javascript'>
				document.getElementById('cloak94ec4d148bbdd631cc33
 70a07866f286').innerHTML = '';
				var prefix = '&#109;a' + 'i&#108;' + '&#
 116;o';
				var path = 'hr' + 'ef' + '=';
				var addy94ec4d148bbdd631cc337
 0a07866f286 = 't&#101;&#117;f&#101;l' + '&#64;';
				addy94ec4d148bbdd631cc
 3370a07866f286 = addy94ec4d148bbdd631cc3370a07866f286 + 'sc&#97;' + '&#46;'
  + '&#117;q&#97;m' + '&#46;' + 'c&#97;';
				var addy_text94ec4d148bbdd631c
 c3370a07866f286 = 't&#101;&#117;f&#101;l' + '&#64;' + 'sc&#97;' + '&#46;' +
  '&#117;q&#97;m' + '&#46;' + 'c&#97;';document.getElementById('cloak94ec4d1
 48bbdd631cc3370a07866f286').innerHTML += '<a ' + path + '\'' + prefix + ':'
  + addy94ec4d148bbdd631cc3370a07866f286 + '\'>'+addy_text94ec4d148bbdd631cc
 3370a07866f286+'<\/a>';
		</script> </p>
DTSTAMP:20260422T113626Z
DTSTART;TZID=UTC;VALUE=DATE:20170914
DTEND;TZID=UTC;VALUE=DATE:20170916
SEQUENCE:0
TRANSP:OPAQUE
END:VEVENT
END:VCALENDAR