BEGIN:VCALENDAR
VERSION:2.0
PRODID:-//jEvents 2.0 for Joomla//EN
CALSCALE:GREGORIAN
METHOD:PUBLISH
BEGIN:VEVENT
UID:114f65ffdf026b1481e2f537067a7df5
CATEGORIES:Polar Conferences, Meetings and Events
CREATED:20211005T095413
SUMMARY:ICAT PhD school - Application deadline 19 December
LOCATION:Copenhagen\, Denmark
DESCRIPTION:The ice core analysis techniques PhD school (ICAT) will be running again fr
 om March 14th to March 18th, 2022 in Copenhagen, Denmark.\nThe ICAT PhD sch
 ool (2 ECTS) is aimed at PhD students and junior postdocs who conduct ice c
 ore analysis or are users of ice core data (glaciologists, oceanographers, 
 climate modelers, earth scientists). ICAT aims to educate a new generation 
 of ice core researchers and foster a collaborative environment for future g
 laciological projects. This course will educate young scientists regarding 
 new methods developed for the analysis of ice cores with regard to climate 
 research, with dedicated theoretical and laboratory exercise sessions.\nApp
 lication deadline is December 19th, 2021.\nMore information can be found he
 re: https://indico.nbi.ku.dk/event/1329/overview\nSpread the word and let y
 our colleges and students know.\nWe hope to see many of you for ICAT in 202
 2.\nBest wishes,\nthe ICAT team\n
X-ALT-DESC;FMTTYPE=text/html:<p style="text-align: justify;">The<strong> ice core analysis techniques Ph
 D school (ICAT)</strong> will be running again from <strong>March 14<sup>th
 </sup> to March 18<sup>th</sup>, 2022 in Copenhagen, Denmark.</strong></p><
 p style="text-align: justify;">The ICAT PhD school (2 ECTS) is aimed at PhD
  students and junior postdocs who conduct ice core analysis or are users of
  ice core data (glaciologists, oceanographers, climate modelers, earth scie
 ntists). ICAT aims to educate a new generation of ice core researchers and 
 foster a collaborative environment for future glaciological projects. This 
 course will educate young scientists regarding new methods developed for th
 e analysis of ice cores with regard to climate research, with dedicated the
 oretical and laboratory exercise sessions.</p><p style="text-align: justify
 ;"><strong>Application deadline is December 19<sup>th</sup>, 2021.</strong>
 </p><p style="text-align: justify;">More information can be found here: <a 
 href="https://indico.nbi.ku.dk/event/1329/overview" target="_blank" rel="no
 opener">https://indico.nbi.ku.dk/event/1329/overview</a></p><p style="text-
 align: justify;">Spread the word and let your colleges and students know.</
 p><p style="text-align: justify;">We hope to see many of you for ICAT in 20
 22.</p><p style="text-align: justify;">Best wishes,</p><p style="text-align
 : justify;">the ICAT team</p>
DTSTAMP:20260420T082043Z
DTSTART;TZID=UTC;VALUE=DATE:20220314
DTEND;TZID=UTC;VALUE=DATE:20220319
SEQUENCE:0
TRANSP:OPAQUE
END:VEVENT
END:VCALENDAR