BEGIN:VCALENDAR
VERSION:2.0
PRODID:-//jEvents 2.0 for Joomla//EN
CALSCALE:GREGORIAN
METHOD:PUBLISH
BEGIN:VEVENT
UID:f90e301c1b5c5de492b7f7f0754d4763
CATEGORIES:Polar Conferences, Meetings and Events
CREATED:20211011T075628
SUMMARY:2021 Ignite@AGU
LOCATION:tbd and Online
DESCRIPTION:<p dir="ltr" style="text-align: justify;">The popular science storytelling 
 event <a href="https://igniteagu.io/" target="_blank" rel="noopener">Ignite
 @AGU</a> is back and in person at this year’s 2021 AGU Fall Meeting! Sponso
 red by <a href="https://science.nasa.gov/earth-science" target="_blank" rel
 ="noopener">NASA’s Earth Science Division</a> and held in partnership with 
 the Earth Science Information Partners (<a href="https://www.esipfed.org/" 
 target="_blank" rel="noopener">ESIP</a>), <a href="mailto:Ignite@AGU">Ignit
 e@AGU</a> enables scientists to showcase their professional and personal in
 terests through creative 5-minute talks.</p><p dir="ltr" style="text-align:
  justify;"><strong>Submissions are due Monday, November 1st</strong>. Up to
  ten talks will be selected and we encourage individuals at any career stag
 e to submit! Check out the <a href="https://www.youtube.com/playlist?list=P
 L8X9E6I5_i8gv-KKeEbLkcHyyco1-qeUS" target="_blank" rel="noopener">2019 </a>
 and <a href="https://www.youtube.com/watch?v=0VDQgX2JgY4&amp;list=PL8X9E6I5
 _i8g47LCVuZm5mmIU5EyZIeLg" target="_blank" rel="noopener">2020</a>&nbsp; Ig
 nite@AGU talks for inspiration.&nbsp;</p><p dir="ltr" style="text-align: ju
 stify;">Ignite will be held on <strong>December 16th</strong> at an outdoor
 , covered venue and will follow <a href="https://ready.nola.gov/incident/co
 ronavirus/safe-reopening/" target="_blank" rel="noopener">all local COVID-1
 9 guidance</a>. Following AGU Fall Meeting <a href="https://www.agu.org/Fal
 l-Meeting/Pages/About/COVID-19-Protocols#:~:text=Only%20fully%20vaccinated%
 20people%20may,how%20to%20provide%20your%20information" target="_blank" rel
 ="noopener">covid guidance</a>, you must be fully vaccinated to attend.</p>
 <p dir="ltr" style="text-align: justify;">For those attending virtually, no
  fear, we will hold an Ignite ‘watch party’ of the live event in January 20
 22 with all of our speakers available for live chat.&nbsp;</p><p dir="ltr" 
 style="text-align: justify;">Look at the website for more <a href="https://
 igniteagu.io/" target="_blank" rel="noopener">details on how to submit</a>.
  Be bold — it’s the best stage all week!</p>
DTSTAMP:20260419T151230Z
DTSTART;TZID=UTC;VALUE=DATE:20211216
DTEND;TZID=UTC;VALUE=DATE:20211217
SEQUENCE:0
TRANSP:OPAQUE
END:VEVENT
END:VCALENDAR