BEGIN:VCALENDAR
VERSION:2.0
PRODID:-//jEvents 2.0 for Joomla//EN
CALSCALE:GREGORIAN
METHOD:PUBLISH
BEGIN:VEVENT
UID:7700f1ecf2cd84c2874b1f6012e9606b
CATEGORIES:Polar Conferences, Meetings and Events
CREATED:20211015T073417
SUMMARY:Atmospheric and Climate Competence Center (ACCC) Impact Week
LOCATION:Helsinki\, Finland
DESCRIPTION:The Atmospheric and Climate Competence Center (ACCC) Impact Week will take 
 place in Helsinki, Finland, on 7-10 December 2021.\nThe PEEX is one of the 
 co-organizers of this event. The ACCC Impact Week brings together ACCC rese
 arch partners and stakeholders to discuss and co-design science-based solut
 ions for safe climate and clean air, and to increase interaction and collab
 oration on national and international levels.\n\n - Tue 7 Dec: Excellent sc
 ience connecting researchers &amp; stakeholders communities – Sergej Ziliti
 nkevich’s memorial seminar in Atmospheric and Earth System Sciences\n - Wed
  8 Dec: Climate Change – Air Quality: from deep understanding to practical 
 solutions, Sofia Earth Forum\n - Thu 9 Dec: Arena for Arctic Science Collab
 orations (AASCO) sponsored by the Prince Albert Foundation\n - Fri 10 Dec: 
 Climate  – air quality challenges and civil engagement, Sofia Earth ForumYo
 u are welcome to participate in this hybrid event either by attending the o
 n-site event (max 200 participants), or by following the online streaming. 
  Further detailed information will follow in October, as the COVID-19 situa
 tion clarifies.\nPlease, see the Impact Week Agenda here (https://www.atm.h
 elsinki.fi/peex/index.php/portfolio-items/atmosphere-climate-competence-cen
 ter-accc-impact-week-7-10-12-2021/), Impact Week leaflet <a href="https://w
 ww.atm.helsinki.fi/peex/wp-content/uploads/2021/09/ACCC-ImpactWk_leaflet_in
 vite.pdf" target="_blank" rel="noopener">here</a> and Register here (https:
 //elomake.helsinki.fi/lomakkeet/112892/lomake.html).\n
X-ALT-DESC;FMTTYPE=text/html:<div class="article-intro"><p style="text-align: justify;">The <strong>Atmo
 spheric and Climate Competence Center (ACCC) Impact Week</strong> will take
  place in Helsinki, Finland, on <strong>7-10 December 2021</strong>.</p></d
 iv><p style="text-align: justify;">The PEEX is one of the co-organizers of 
 this event. The ACCC Impact Week brings together ACCC research partners and
  stakeholders to discuss and co-design science-based solutions for safe cli
 mate and clean air, and to increase interaction and collaboration on nation
 al and international levels.</p><ul style="text-align: justify;"><li><stron
 g>Tue 7 Dec:&nbsp;</strong>Excellent science connecting researchers &amp; s
 takeholders communities – Sergej Zilitinkevich’s memorial seminar in Atmosp
 heric and Earth System Sciences</li><li><strong>Wed 8 Dec:&nbsp;</strong>Cl
 imate Change – Air Quality: from deep understanding to practical solutions,
  Sofia Earth Forum</li><li><strong>Thu 9 Dec:&nbsp;</strong>Arena for Arcti
 c Science Collaborations (AASCO) sponsored by the Prince Albert Foundation<
 /li><li><strong>Fri 10 Dec:&nbsp;</strong>Climate&nbsp; – air quality chall
 enges and civil engagement, Sofia Earth Forum</li></ul><p style="text-align
 : justify;">You are welcome to participate in this hybrid event either by a
 ttending the on-site event (max 200 participants), or by following the onli
 ne streaming.&nbsp; Further detailed information will follow in October, as
  the COVID-19 situation clarifies.</p><p style="text-align: justify;">Pleas
 e, see the Impact Week Agenda&nbsp;<a href="https://www.atm.helsinki.fi/pee
 x/index.php/portfolio-items/atmosphere-climate-competence-center-accc-impac
 t-week-7-10-12-2021/" target="_blank" rel="noopener">here</a>, Impact Week 
 leaflet&nbsp;<a href="https://www.atm.helsinki.fi/peex/wp-content/uploads/2
 021/09/ACCC-ImpactWk_leaflet_invite.pdf" target="_blank" rel="noopener">her
 e</a>&nbsp;and Register&nbsp;<a href="https://elomake.helsinki.fi/lomakkeet
 /112892/lomake.html" target="_blank" rel="noopener">here</a>.</p>
DTSTAMP:20260419T185246Z
DTSTART;TZID=UTC;VALUE=DATE:20211207
DTEND;TZID=UTC;VALUE=DATE:20211211
SEQUENCE:0
TRANSP:OPAQUE
END:VEVENT
END:VCALENDAR