BEGIN:VCALENDAR
VERSION:2.0
PRODID:-//jEvents 2.0 for Joomla//EN
CALSCALE:GREGORIAN
METHOD:PUBLISH
BEGIN:VEVENT
UID:1a810c949b954a1ce49d2e528053f4f1
CATEGORIES:Polar Online Events
CREATED:20211015T075757
SUMMARY:ARCUS Annual Meeting
LOCATION:Online
DESCRIPTION:The Arctic Research Consortium of the U.S. (ARCUS (https://www.arcus.org/))
  invites registration for this year’s ARCUS Annual Meeting. This virtual ev
 ent will take place Thursday, 4 November 2021 from 9:00 a.m. to 12:00 p.m. 
 via Zoom.\nThe ARCUS Annual Meeting is an important opportunity for ARCUS' 
 Members, Board of Directors, staff, and other interested individuals to mee
 t, talk, and connect with one another around key Arctic research and educat
 ion issues and collaboration opportunities.\nMeeting Goals:\n\n - CONNECT: 
 Bring members of the Arctic research and education community together to me
 et, talk, and connect.\n - SHARE: Explore what individuals and organization
 s are doing to address key challenges and opportunities.\n - ADVANCE: Ident
 ify actionable ways we can work together and support each other.This meetin
 g is open to all interested participants and there is no cost to attend. Th
 e meeting will focus on small group and breakout group discussions to encou
 rage sharing and networking.\nFor more information and to register, go to:\
 n <a href="https://www.arcus.org/annual-meetings/2021" target="_blank" rel=
 "noopener">ARCUS Annual Meeting Webpage</a>\n
X-ALT-DESC;FMTTYPE=text/html:<p style="text-align: justify;">The Arctic Research Consortium of the U.S. 
 (<a href="https://www.arcus.org/" target="_blank" rel="noopener">ARCUS</a>)
  invites registration for this year’s ARCUS Annual Meeting. This virtual ev
 ent will take place <strong>Thursday, 4 November 2021 from 9:00 a.m. to 12:
 00 p.m. via Zoom</strong>.</p><p style="text-align: justify;">The ARCUS Ann
 ual Meeting is an important opportunity for ARCUS' Members, Board of Direct
 ors, staff, and other interested individuals to meet, talk, and connect wit
 h one another around key Arctic research and education issues and collabora
 tion opportunities.</p><p style="text-align: justify;"><strong>Meeting Goal
 s:</strong></p><ul style="text-align: justify;"><li><strong>CONNECT: </stro
 ng>Bring members of the Arctic research and education community together to
  meet, talk, and connect.</li><li><strong>SHARE: </strong>Explore what indi
 viduals and organizations are doing to address key challenges and opportuni
 ties.</li><li><strong>ADVANCE: </strong>Identify actionable ways we can wor
 k together and support each other.</li></ul><p style="text-align: justify;"
 >This meeting is open to all interested participants and there is no cost t
 o attend. The meeting will focus on small group and breakout group discussi
 ons to encourage sharing and networking.</p><p style="text-align: justify;"
 >For more information and to register, go to:<br /> <a href="https://www.ar
 cus.org/annual-meetings/2021" target="_blank" rel="noopener">ARCUS Annual M
 eeting Webpage</a></p>
DTSTAMP:20260421T152021Z
DTSTART;TZID=UTC;VALUE=DATE:20211104
DTEND;TZID=UTC;VALUE=DATE:20211105
SEQUENCE:0
TRANSP:OPAQUE
END:VEVENT
END:VCALENDAR