BEGIN:VCALENDAR
VERSION:2.0
PRODID:-//jEvents 2.0 for Joomla//EN
CALSCALE:GREGORIAN
METHOD:PUBLISH
BEGIN:VEVENT
UID:042804211254599d2c6f088d4e01b422
CATEGORIES:Polar Conferences, Meetings and Events
CREATED:20211027T110151
SUMMARY:EGU General Assembly 2022 - Abstract submission deadline 12 January
LOCATION:Vienna\, Austria
DESCRIPTION:<p>The EGU General Assembly 2022 will return as an <strong>in-person event 
 to Vienna, Austria, from 3–8 April 2022</strong>, once again bringing toget
 her geoscientists for a meeting covering all disciplines of the Earth, plan
 etary, and space sciences. In order to ensure the widest possible participa
 tion by geoscientists from all over the world, EGU22 will have a hybrid for
 mat allowing virtual participation in specific sessions for those who canno
 t, or prefer not to, travel to Vienna.</p><p>With this call for abstracts, 
 all scientific sessions are now open to receive your contribution. The dead
 line for abstract submission is <strong>12 January 2022, 13:00 CET</strong>
 ; for those applying for<strong> <a href="https://egu22.eu/about/roland_sch
 lich_travel_support_and_virtual_registration_fee_waivers.html">EGU Roland S
 chlich travel support</a>, the deadline is 1 December 2021, 13:00 CET</stro
 ng>. Only EGU members with a valid 2022 membership will be able to submit a
 bstracts to EGU22 and, with <a href="https://egu22.eu/abstracts_and_program
 me/how_to_submit_an_abstract.html#oneabstractrule">a few exceptions</a>, on
 ly one abstract as first author will be permitted.</p><div class="co-notifi
 cation"><strong>Note on presentation format</strong>: if you plan on partic
 ipating <strong>virtually</strong>, you should submit your abstract to a vP
 ICO session, since the oral/poster sessions will not provide the possibilit
 y for virtual presentation. If you plan on attending <strong>in-person</str
 ong> in Vienna, feel free to submit to any session, vPICO as well as oral/p
 oster sessions.</div><p>Further information about the EGU General Assembly 
 2022 and also about the current entry and event regulations related to COVI
 D-19 can be found at: <a href="https://www.egu22.eu/"></a><a href="https://
 egu22.eu/">https://egu22.eu/</a></p><p>Stay up-to-date with General Assembl
 y information by subscribing to the <a href="https://geolog.egu.eu/" target
 ="_blank" rel="noopener">EGU blog</a> and by following the <a href="https:/
 /twitter.com/EuroGeosciences" target="_blank" rel="noopener">EGU on Twitter
 </a> (#EGU22 as well as #vEGU22) and <a href="https://www.facebook.com/Euro
 peanGeosciencesUnion" target="_blank" rel="noopener">Facebook</a>.</p><p>If
  any questions arise, please do not hesitate to contact us at: <a href="mai
 lto:egu22@copernicus.org"></a><span id="cloakefe537abf8cb19184e2a25eb0a2adf
 96">This email address is being protected from spambots. You need JavaScrip
 t enabled to view it.</span><script type='text/javascript'>
				document.ge
 tElementById('cloakefe537abf8cb19184e2a25eb0a2adf96').innerHTML = '';
				v
 ar prefix = '&#109;a' + 'i&#108;' + '&#116;o';
				var path = 'hr' + 'ef' +
  '=';
				var addyefe537abf8cb19184e2a25eb0a2adf96 = '&#101;g&#117;22' + '&
 #64;';
				addyefe537abf8cb19184e2a25eb0a2adf96 = addyefe537abf8cb19184e2a2
 5eb0a2adf96 + 'c&#111;p&#101;rn&#105;c&#117;s' + '&#46;' + '&#111;rg';
				
 var addy_textefe537abf8cb19184e2a25eb0a2adf96 = '&#101;g&#117;22' + '&#64;'
  + 'c&#111;p&#101;rn&#105;c&#117;s' + '&#46;' + '&#111;rg';document.getElem
 entById('cloakefe537abf8cb19184e2a25eb0a2adf96').innerHTML += '<a ' + path 
 + '\'' + prefix + ':' + addyefe537abf8cb19184e2a25eb0a2adf96 + '\'>'+addy_t
 extefe537abf8cb19184e2a25eb0a2adf96+'<\/a>';
		</script></p><p>We are looki
 ng forward to receiving your abstracts and thank you very much for your coo
 peration.</p><p>Kind regards,<br /> Katja Gänger<br /> Copernicus Meetings<
 br /> <a href="mailto:egu22@copernicus.org"></a><span id="cloak5f2984b3e2ee
 a877e4be5c675daf417b">This email address is being protected from spambots. 
 You need JavaScript enabled to view it.</span><script type='text/javascript
 '>
				document.getElementById('cloak5f2984b3e2eea877e4be5c675daf417b').inn
 erHTML = '';
				var prefix = '&#109;a' + 'i&#108;' + '&#116;o';
				var pa
 th = 'hr' + 'ef' + '=';
				var addy5f2984b3e2eea877e4be5c675daf417b = '&#1
 01;g&#117;22' + '&#64;';
				addy5f2984b3e2eea877e4be5c675daf417b = addy5f2
 984b3e2eea877e4be5c675daf417b + 'c&#111;p&#101;rn&#105;c&#117;s' + '&#46;' 
 + '&#111;rg';
				var addy_text5f2984b3e2eea877e4be5c675daf417b = '&#101;g&
 #117;22' + '&#64;' + 'c&#111;p&#101;rn&#105;c&#117;s' + '&#46;' + '&#111;rg
 ';document.getElementById('cloak5f2984b3e2eea877e4be5c675daf417b').innerHTM
 L += '<a ' + path + '\'' + prefix + ':' + addy5f2984b3e2eea877e4be5c675daf4
 17b + '\'>'+addy_text5f2984b3e2eea877e4be5c675daf417b+'<\/a>';
		</script><
 /p><p>On behalf of the EGU22 Programme Committee Chair, Peter van der Beek<
 /p>
DTSTAMP:20260420T082231Z
DTSTART;TZID=UTC;VALUE=DATE:20220403
DTEND;TZID=UTC;VALUE=DATE:20220409
SEQUENCE:0
TRANSP:OPAQUE
END:VEVENT
END:VCALENDAR