BEGIN:VCALENDAR
VERSION:2.0
PRODID:-//jEvents 2.0 for Joomla//EN
CALSCALE:GREGORIAN
METHOD:PUBLISH
BEGIN:VEVENT
UID:3b34b29b87fdf14ad9da8d0494c78f69
CATEGORIES:APECS Events
CREATED:20211112T141554
SUMMARY:Antarctica Day 2021
LOCATION:Online
DESCRIPTION:Antarctica Day is celebrated by the international polar community on 1st De
 cember 2021 to commemorate the signing of the Antarctic Treaty in 1959, whi
 ch is considered to be one of the most successful achievements of the inter
 national community. The APECS Antarctica Day Project Group is excited to be
  part of these celebrations and is organising a series of activities ​to ce
 lebrate the day with all APECS members, APECS National Committees, as well 
 as everyone who is interested in and passionate about Antarctica, with an o
 verarching goal of raising awareness of the importance of Antarctica, espec
 ially in the light of a changing global climate.\nWe enthusiastically encou
 rage our early career researchers (ECR) to both join our activities and to 
 communicate with us if you are planning something special to celebrate Anta
 rctica Day with your community. We want to promote your activities, too! Th
 anks to the wide collaborations between countries, we could expand and enri
 ch our events and celebrate the spirit of international peace and scientifi
 c cooperation that signified the signing of the Antarctic Treaty in 1959.\n
 To reach our goal, we have planned the activities described on the Antarcti
 ca Day webpage (events/upcoming-event-highlights/antarctica-day-2021.html) 
 to engage as many people as possible who want to share their exclusive Anta
 rctic experiences and those who want to feed their curiosity about the cont
 inent of the extremes.\n
X-ALT-DESC;FMTTYPE=text/html:<p>Antarctica Day is celebrated by the international polar community on 1st
  December 2021 to commemorate the signing of the Antarctic Treaty in 1959, 
 which is considered to be one of the most successful achievements of the in
 ternational community. The APECS Antarctica Day Project Group is excited to
  be part of these celebrations and is organising a series of activities ​to
  celebrate the day with all APECS members, APECS National Committees, as we
 ll as everyone who is interested in and passionate about Antarctica, with a
 n overarching goal of raising awareness of the importance of Antarctica, es
 pecially in the light of a changing global climate.</p><p>We enthusiastical
 ly encourage our early career researchers (ECR) to both join our activities
  and to communicate with us if you are planning something special to celebr
 ate Antarctica Day with your community. We want to promote your activities,
  too! Thanks to the wide collaborations between countries, we could expand 
 and enrich our events and celebrate the spirit of international peace and s
 cientific cooperation that signified the signing of the Antarctic Treaty in
  1959.</p><p>To reach our goal, we have planned the activities described on
  the <a href="events/upcoming-event-highlights/antarctica-day-2021.html">An
 tarctica Day webpage</a> to engage as many people as possible who want to s
 hare their exclusive Antarctic experiences and those who want to feed their
  curiosity about the continent of the extremes.</p>
DTSTAMP:20260421T151539Z
DTSTART;TZID=UTC;VALUE=DATE:20211201
DTEND;TZID=UTC;VALUE=DATE:20211202
SEQUENCE:0
TRANSP:OPAQUE
END:VEVENT
END:VCALENDAR