BEGIN:VCALENDAR
VERSION:2.0
PRODID:-//jEvents 2.0 for Joomla//EN
CALSCALE:GREGORIAN
METHOD:PUBLISH
BEGIN:VEVENT
UID:bf4631ea612fafa9fe65cb2bada6e261
CATEGORIES:Polar Conferences, Meetings and Events
CREATED:20211115T104821
SUMMARY:Arctic Futures Symposium 2021
LOCATION:Brussels\, Belgium and Online
DESCRIPTION:The International Polar Foundation and its many Arctic stakeholder partners
   (https://www.arcticfutures.org/partners)would like to cordially invite yo
 u to take part in the 12th edition of the Arctic Futures Symposium on Decem
 ber 6th and 7th both in-person in Brussels, Belgium, and online.\n \n For t
 hose interested in attending in-person, the venue will be the Martin's Brus
 sels EU Hotel, located at Boulevard Charlemagne / Karel de Grootstraat 80, 
 1000 Brussels.\n \n It will also be possible to join the event online. The 
 link to join online will be sent to all registered participants.\n \n This 
 year’s symposium will focus on:\n\n - Arctic governance issues\n\n - Youth,
  demographics and labour force\n\n - Soft security issues related to climat
 e change impacts\n\n - Sustainable entrepreneurship and business developmen
 t\nThe Arctic Futures Symposium promises to deliver lively discussions on A
 rctic issues.\n \n You may <a href="https://www.arcticfutures.org/register"
  target="_blank" rel="noopener">register </a>for the symposium on the Arcti
 c Futures Symposium website (https://www.arcticfutures.org/).\n \n You may 
 also take have a look at the <a href="https://www.arcticfutures.org/speaker
 s" target="_blank" rel="noopener">confirmed speakers</a> and draft outline 
 of the programme (https://www.arcticfutures.org/programme).\n \n Please not
 e that if you wish to attend the symposium in-person, you will be required 
 to present a COVID-safe ticket before you are allowed to enter. More detail
 s can be found on the <a href="https://www.arcticfutures.org/" target="_bla
 nk" rel="noopener">symposium website</a>.\n \n As space is limited at the v
 enue, please only register as going "in-person" if you intend to be present
  at the event.\n  \n Please don't hesitate to contact us at  (mailto:events
 @polarfoundation.org?subject=Arctic%20Futures%20Symposium%202021)This email
  address is being protected from spambots. You need JavaScript enabled to v
 iew it.
				document.getElementById('cloakb609cc4f67c80039afbc5b1d35452079'
 ).innerHTML = '';
				var prefix = '&#109;a' + 'i&#108;' + '&#116;o';
				v
 ar path = 'hr' + 'ef' + '=';
				var addyb609cc4f67c80039afbc5b1d35452079 =
  '&#101;v&#101;nts' + '&#64;';
				addyb609cc4f67c80039afbc5b1d35452079 = a
 ddyb609cc4f67c80039afbc5b1d35452079 + 'p&#111;l&#97;rf&#111;&#117;nd&#97;t&
 #105;&#111;n' + '&#46;' + '&#111;rg';
				var addy_textb609cc4f67c80039afbc
 5b1d35452079 = '&#101;v&#101;nts' + '&#64;' + 'p&#111;l&#97;rf&#111;&#117;n
 d&#97;t&#105;&#111;n' + '&#46;' + '&#111;rg';document.getElementById('cloak
 b609cc4f67c80039afbc5b1d35452079').innerHTML += '<a ' + path + '\'' + prefi
 x + ':' + addyb609cc4f67c80039afbc5b1d35452079 + '\'>'+addy_textb609cc4f67c
 80039afbc5b1d35452079+'';
		 if you have any questions about the event, or 
 if you have difficulties registering.\n \n You are welcome to forward this 
 invitation to those in your network of professional contacts who may be int
 erested in Arctic issues.\n \n We look forward to welcoming you to the Arct
 ic Futures Symposium in December!\n----------------------------------------
 ---------------------------------------------\nArctic Futures Symposium 202
 1 Partners:\n \n The International Polar Foundation \n The Mission of Norwa
 y to the European Union\n The North Norway European Office\n The North Swed
 en European Office\n The Mission of Canada to the European Union\n The Gree
 nland Representation to the European Union\n The Mission of the Faroes to t
 he European Union\n The Wilson Center Polar Institute\n The Québec Governme
 nt Office in Brussels\n Arctic Consensus\n The East and North Finland EU Of
 fice\n The Permanent Representation of Finland to the European Union\nThe M
 ission of Iceland to the European Union\n \n <a href="https://www.arcticfut
 ures.org/" target="_blank" rel="noopener">www.arcticfutures.org</a>\n
X-ALT-DESC;FMTTYPE=text/html:<p style="text-align: justify;">The International Polar Foundation and its 
 <a href="https://www.arcticfutures.org/partners" target="_blank" rel="noope
 ner">many Arctic stakeholder partners </a>would like to cordially invite yo
 u to take part in the <strong>12th edition of the Arctic Futures Symposium 
 on December 6th and 7th both in-person in Brussels, Belgium, and online</st
 rong>.<br /> <br /> For those interested in attending&nbsp;in-person, the v
 enue will be the <strong>Martin's Brussels EU&nbsp;Hotel</strong>, located 
 at Boulevard Charlemagne / Karel de Grootstraat 80, 1000 Brussels.<br /> <b
 r /> <strong>It will also be possible to join the event&nbsp;online. </stro
 ng>The link to join online will be sent to all registered participants.<br 
 /> <br /> This year’s symposium will focus on:</p><ul style="text-align: ju
 stify;"><li><p>Arctic governance issues</p></li><li><p>Youth, demographics 
 and labour force</p></li><li><p>Soft security issues related to climate cha
 nge impacts</p></li><li><p>Sustainable entrepreneurship and business develo
 pment</p></li></ul><p style="text-align: justify;">The Arctic Futures Sympo
 sium promises to deliver lively discussions on Arctic issues.<br /> <br /> 
 <strong>You may <a href="https://www.arcticfutures.org/register" target="_b
 lank" rel="noopener">register </a>for the symposium on the <a href="https:/
 /www.arcticfutures.org/" target="_blank" rel="noopener">Arctic Futures Symp
 osium website</a>.</strong><br /> <br /> You may also take have a look at t
 he <a href="https://www.arcticfutures.org/speakers" target="_blank" rel="no
 opener">confirmed speakers</a> and draft outline of the <a href="https://ww
 w.arcticfutures.org/programme" target="_blank" rel="noopener">programme</a>
 .<br /> <br /> Please note that if you wish to attend the symposium in-pers
 on, <strong>you will be required to present a COVID-safe ticket before you 
 are allowed to enter</strong>. More details can be found on the <a href="ht
 tps://www.arcticfutures.org/" target="_blank" rel="noopener">symposium webs
 ite</a>.<br /> <br /> As space is limited at the venue, please only registe
 r as going "in-person" if you intend to be present at the event.<br /> &nbs
 p;<br /> Please don't hesitate to contact us at&nbsp;<a href="mailto:events
 @polarfoundation.org?subject=Arctic%20Futures%20Symposium%202021" target="_
 blank"></a><span id="cloakb609cc4f67c80039afbc5b1d35452079">This email addr
 ess is being protected from spambots. You need JavaScript enabled to view i
 t.</span><script type='text/javascript'>
				document.getElementById('cloak
 b609cc4f67c80039afbc5b1d35452079').innerHTML = '';
				var prefix = '&#109;
 a' + 'i&#108;' + '&#116;o';
				var path = 'hr' + 'ef' + '=';
				var addyb
 609cc4f67c80039afbc5b1d35452079 = '&#101;v&#101;nts' + '&#64;';
				addyb60
 9cc4f67c80039afbc5b1d35452079 = addyb609cc4f67c80039afbc5b1d35452079 + 'p&#
 111;l&#97;rf&#111;&#117;nd&#97;t&#105;&#111;n' + '&#46;' + '&#111;rg';
				
 var addy_textb609cc4f67c80039afbc5b1d35452079 = '&#101;v&#101;nts' + '&#64;
 ' + 'p&#111;l&#97;rf&#111;&#117;nd&#97;t&#105;&#111;n' + '&#46;' + '&#111;r
 g';document.getElementById('cloakb609cc4f67c80039afbc5b1d35452079').innerHT
 ML += '<a ' + path + '\'' + prefix + ':' + addyb609cc4f67c80039afbc5b1d3545
 2079 + '\'>'+addy_textb609cc4f67c80039afbc5b1d35452079+'<\/a>';
		</script>
 &nbsp;if you have any questions about the event, or if you have difficultie
 s registering.<br /> <br /> You are welcome to forward this invitation to t
 hose in your network of professional contacts who may be interested in Arct
 ic issues.<br /> <br /> We look forward to welcoming you to the Arctic Futu
 res Symposium in December!</p><p>------------------------------------------
 -------------------------------------------</p><p><em><strong>Arctic Future
 s Symposium 2021 Partners:</strong></em><br /> <br /> <em>The International
  Polar Foundation&nbsp;<br /> The Mission of Norway to the European Union<b
 r /> The North Norway European Office<br /> The North Sweden European Offic
 e<br /> The Mission of Canada to the European Union<br /> The Greenland Rep
 resentation to the European Union<br /> The Mission of the Faroes to the Eu
 ropean Union<br /> The Wilson Center Polar Institute<br /> The Québec Gover
 nment Office in Brussels<br /> Arctic Consensus<br /> The East and North Fi
 nland EU Office<br /> The Permanent Representation of Finland to the Europe
 an Union<br />The Mission of Iceland to the European Union</em><br /> <br /
 > <a href="https://www.arcticfutures.org/" target="_blank" rel="noopener">w
 ww.arcticfutures.org</a></p>
DTSTAMP:20260419T204740Z
DTSTART;TZID=UTC;VALUE=DATE:20211206
DTEND;TZID=UTC;VALUE=DATE:20211208
SEQUENCE:0
TRANSP:OPAQUE
END:VEVENT
END:VCALENDAR