BEGIN:VCALENDAR
VERSION:2.0
PRODID:-//jEvents 2.0 for Joomla//EN
CALSCALE:GREGORIAN
METHOD:PUBLISH
BEGIN:VEVENT
UID:f32f5b48a16851fe885f87b410fcbbcf
CATEGORIES:APECS Events
CREATED:20170112T202709
SUMMARY:APECS Panel "Expand your Frontiers: APECS Career Path panel discussion for early career researchers" at Arctic Frontiers 2017
LOCATION:Tromsø\, Norway
DESCRIPTION:For more information visit the event page http://www.apecs.is/events/upcomi
 ng-event-highlights/arctic-frontiers-2017.html (events/upcoming-event-highl
 ights/arctic-frontiers-2017.html)\n
X-ALT-DESC;FMTTYPE=text/html:<p>For more information visit the event page <a href="events/upcoming-event
 -highlights/arctic-frontiers-2017.html">http://www.apecs.is/events/upcoming
 -event-highlights/arctic-frontiers-2017.html</a></p>
CONTACT:This email address is being protected from spambots. You need JavaScript enabled to view it.
				document.getElementById('cloak9c2d59132f6dd14cdee2c35c71699681').innerHTML = '';
				var prefix = '&#109;a' + 'i&#108;' + '&#116;o';
				var path = 'hr' + 'ef' + '=';
				var addy9c2d59132f6dd14cdee2c35c71699681 = '&#105;nf&#111;' + '&#64;';
				addy9c2d59132f6dd14cdee2c35c71699681 = addy9c2d59132f6dd14cdee2c35c71699681 + '&#97;p&#101;cs' + '&#46;' + '&#105;s';
				var addy_text9c2d59132f6dd14cdee2c35c71699681 = '&#105;nf&#111;' + '&#64;' + '&#97;p&#101;cs' + '&#46;' + '&#105;s';document.getElementById('cloak9c2d59132f6dd14cdee2c35c71699681').innerHTML += '<a ' + path + '\'' + prefix + ':' + addy9c2d59132f6dd14cdee2c35c71699681 + '\'>'+addy_text9c2d59132f6dd14cdee2c35c71699681+'';
		
DTSTAMP:20260424T224518Z
DTSTART;TZID=UTC:20170125T150000
DTEND;TZID=UTC:20170125T170000
SEQUENCE:0
TRANSP:OPAQUE
END:VEVENT
END:VCALENDAR