BEGIN:VCALENDAR
VERSION:2.0
PRODID:-//jEvents 2.0 for Joomla//EN
CALSCALE:GREGORIAN
METHOD:PUBLISH
BEGIN:VEVENT
UID:8f58923f81d873594b34083eff9c2926
CATEGORIES:Polar Conferences, Meetings and Events
CREATED:20211122T083836
SUMMARY:Save the Date: Heating, Ventilation, and Air Conditioning (HVAC) Cold Climate Conference 2023
LOCATION:Anchorage and Fairbanks\, Alaska
DESCRIPTION:<p style="text-align: justify;">The American Society of Heating, Refrigerat
 ing and Air-Conditioning Engineers (ASHRAE) and the Scandinavian Federation
  of Heating, Ventilation and Sanitary Engineering Associations in Denmark, 
 Finland, Iceland, Norway and Sweden invite you to save the date for the ASH
 RAE/SCANVAC HVAC Cold Climate Conference 2023. This conference will take pl
 ace <strong>6-10 March 2023 in Anchorage and Fairbanks, Alaska.</strong></p
 ><p style="text-align: justify;">The goal of this International conference 
 is for built environment engineers, practitioners, researchers, scientists,
  owners, and government officials working in cold climate regions to share 
 recent solutions and advancements addressing changes in climate; while expe
 riencing the warmth, hospitality, and culture of Alaska.</p><p style="text-
 align: justify;"><strong>The conference Steering Committee seeks papers foc
 used on the following topics and subtopics:</strong></p><ul style="text-ali
 gn: justify;"><li>Innovation in Equipment and Application:<ul><li>&nbsp; Im
 pacts of Data Centers Bit Coin Mining on Cold Climates</li><li>&nbsp; Indus
 trial Energy and Resource Development</li><li>&nbsp; Utilities and Infrastr
 ucture</li><li>&nbsp; District Heating and Cooling</li><li>&nbsp; Heat Pump
 s/Heat Recovery</li></ul></li><li>Sustainability and Resiliency:<ul><li>&nb
 sp; Smart Buildings</li><li>&nbsp; Energy Conservation</li><li>&nbsp; Therm
 al Storage</li><li>&nbsp; Decarbonization</li><li>&nbsp; Overheating/Climat
 e Models</li><li>&nbsp; Maintenance and Operations</li></ul></li><li>Buildi
 ng Environments:<ul><li>&nbsp; Indoor Environmental Quality</li><li>&nbsp; 
 Critical Environments/Airborne Virus Transmission/Cross Contamination</li><
 li>&nbsp; Building Envelope</li><li>&nbsp; Humidity Impacts on Building Env
 elope</li><li>&nbsp; Occupant Comfort</li><li>&nbsp; Residential, Commercia
 l, Institutional, Manufacturing</li><li>&nbsp; Healthcare, Assisted Living,
  Senior Residences, Elder Care Home, Senior Housing Retirement Homes</li><l
 i>&nbsp; Digitalization and Controls</li><li>&nbsp; Unique Locations, Under
 ground Spaces, Walkways, Shopping Centers</li><li>&nbsp; Sports Facilities<
 /li></ul></li></ul><p style="text-align: justify;">Abstracts (300 words max
 imum) should concisely present the problem statement, the novelty of the wo
 rk, the methodology, the impact in cold climates, and the findings.</p><p s
 tyle="text-align: justify;"><strong>Abstract submission deadline:</strong> 
 13 June 2022</p><p>For more information, go to:<br /> <a href="https://www.
 ashrae.org/conferences/topical-conferences/hvac-cold-climate-conference-202
 3" target="_blank" rel="noopener">Conference webpage</a></p>
DTSTAMP:20260424T131820Z
DTSTART;TZID=UTC;VALUE=DATE:20230306
DTEND;TZID=UTC;VALUE=DATE:20230311
SEQUENCE:0
TRANSP:OPAQUE
END:VEVENT
END:VCALENDAR