BEGIN:VCALENDAR
VERSION:2.0
PRODID:-//jEvents 2.0 for Joomla//EN
CALSCALE:GREGORIAN
METHOD:PUBLISH
BEGIN:VEVENT
UID:2fce725ce0852ef28e8e0e2ad1a5db09
CATEGORIES:Polar Online Events
CREATED:20211201T115940
SUMMARY:Webinar Announcement: IARPC Program Manager Chat - National Science Foundation Navigating the New Arctic
LOCATION:Online
DESCRIPTION:The Interagency Arctic Research Policy Committee Program (IARPC) announces 
 their upcoming IARPC Manager Chat webinar on the Navigating the New Arctic 
 program. This event will take place 8 December 2021, 12:00-1:00 p.m. AKST.\
 nJoin IARPC and the National Science Foundation for a program manager chat 
 focused on the Navigating the New Arctic (NNA) program. NNA program officer
 s will provide an overview of the recently released solicitation (https://w
 ww.nsf.gov/geo/opp/arctic/nna/index.jsp), highlight major changes, review g
 oals of the NNA program, and answer questions.\nNSF staff present will incl
 ude Jesus Alvelo Maurosa, Greg Anderson, Bradley Barker, Eve Boyle, Roberto
  Delgado, Mamadou Diallo, Irina Dolinskaya, Sylvia Edgerton, Siobhan Mattis
 on, Xoco Shinbrot, Colleen Strawhacker, and Jonathan Wynn.\nPreregistration
  is not required. This webinar will be recorded and posted on the webpage a
 nd on the <a href="https://www.youtube.com/c/IarpccollaborationsOrgDC" targ
 et="_blank" rel="noopener">IARPC YouTube channel</a>.\nFor more information
 , include webinar connection information, go to:\n Event webpage (https://w
 ww.iarpccollaborations.org/events/22023)\n
X-ALT-DESC;FMTTYPE=text/html:<p style="text-align: justify;">The <strong>Interagency Arctic Research Pol
 icy Committee Program (IARPC)</strong> announces their upcoming IARPC Manag
 er Chat webinar on the Navigating the New Arctic program. This event will t
 ake place <strong>8 December 2021, 12:00-1:00 p.m. AKST</strong>.</p><p sty
 le="text-align: justify;">Join IARPC and the National Science Foundation fo
 r a program manager chat focused on the Navigating the New Arctic (NNA) pro
 gram. NNA program officers will provide an overview of the <a href="https:/
 /www.nsf.gov/geo/opp/arctic/nna/index.jsp" target="_blank" rel="noopener">r
 ecently released solicitation</a>, highlight major changes, review goals of
  the NNA program, and answer questions.</p><p style="text-align: justify;">
 NSF staff present will include Jesus Alvelo Maurosa, Greg Anderson, Bradley
  Barker, Eve Boyle, Roberto Delgado, Mamadou Diallo, Irina Dolinskaya, Sylv
 ia Edgerton, Siobhan Mattison, Xoco Shinbrot, Colleen Strawhacker, and Jona
 than Wynn.</p><p style="text-align: justify;">Preregistration is not requir
 ed. This webinar will be recorded and posted on the webpage and on the <a h
 ref="https://www.youtube.com/c/IarpccollaborationsOrgDC" target="_blank" re
 l="noopener">IARPC YouTube channel</a>.</p><p style="text-align: justify;">
 For more information, include webinar connection information, go to:<br /> 
 <a href="https://www.iarpccollaborations.org/events/22023" target="_blank" 
 rel="noopener">Event webpage</a></p>
DTSTAMP:20260419T185356Z
DTSTART;TZID=UTC;VALUE=DATE:20211208
DTEND;TZID=UTC;VALUE=DATE:20211209
SEQUENCE:0
TRANSP:OPAQUE
END:VEVENT
END:VCALENDAR