BEGIN:VCALENDAR
VERSION:2.0
PRODID:-//jEvents 2.0 for Joomla//EN
CALSCALE:GREGORIAN
METHOD:PUBLISH
BEGIN:VEVENT
UID:46b4f6d7d620a6346b34908aef1e8244
CATEGORIES:Polar Conferences, Meetings and Events
CREATED:20220106T123731
SUMMARY:QuIESCENT Arctic Workshop - Call for Workshop Applications (deadline 14 January)
LOCATION:Tromsø\, Norway and Online
DESCRIPTION:The second workshop of the QuIESCENT Arctic programme will take place as pa
 rt of the  (IASC) <a href="https://www.google.com/url?q=https%3A%2F%2Fwww.a
 ssw.info%2F&amp;sa=D&amp;sntz=1&amp;usg=AFQjCNHfJBwgI4MqmBEO10wNk3Cop6ie-g"
  target="_blank" rel="noopener" class="XqQF9c">Arctic Science Summit Week</
 a> (ASSW) in Tromsø, Norway (30 March - 1 April 2022), thanks to support fr
 om the IASC  and the air Pollution in the Arctic: Climate, Environment, and
  Societies (<a href="https://www.google.com/url?q=https%3A%2F%2Fpacesprojec
 t.org%2F&amp;sa=D&amp;sntz=1&amp;usg=AFQjCNF0jnHIakfyEtFYwmLbPUIA-mB66Q" ta
 rget="_blank" rel="noopener" class="XqQF9c">PACES</a>) initiative.Please no
 te that the ASSW 2022 is being organised as a hybrid event from the outset,
  with both in-person and online participation planned. The second QuIESCENT
  Arctic workshop will therefore also operate in this manner, and additional
  registration for the ASSW 2022 (https://sites.google.com/view/quiescent-ar
 ctic/workshops/2nd-quiescent-workshop/assw-registration?authuser=0) busines
 s meetings will be required.\nFind more information on the <a href="https:/
 /sites.google.com/view/quiescent-arctic/workshops/2nd-quiescent-workshop?au
 thuser=0" target="_blank" rel="noopener">workshop website</a>.\n***Call for
  Workshop Applications - Deadline 14 January***\nOrganizers invite applicat
 ions for the Second QuIESCENT Arctic (Quantifying the Indirect Effect: from
  Sources to Climate Effects of Natural and Transported aerosol in the Arcti
 c) workshop.\nThe QuIESCENT Arctic initiative aims to build a cross-discipl
 inary bridge between aerosol and clouds, physicists and chemists, and obser
 vations and models. The goal is to foster new collaborations between these 
 different specialisms, provide a pathway to improve the efficiency of the k
 nowledge pipeline from observations through to models and, ultimately, work
  towards a tangible strategy for improving Arctic aerosol-cloud process und
 erstanding and associated climate model uncertainties.\nOrganizers welcomin
 g participants covering a wide range of expertise (ground-based, aircraft, 
 satellite observations, and modelling). Members of recent Arctic measuremen
 t campaigns, such as NETCARE, (AC)3, Arctic Ocean 2018, and MOSAiC and part
 nering projects, are encouraged to attend and use our platform to share the
 ir exciting results and discuss their vision for the use of their findings 
 in numerical models. Similarly, model specialists from key modelling center
 s are encouraged to attend as their input in these discussions is critical 
 to the success of this mission.\nApplication deadline: Friday, 14 January 2
 022\nFor more information, go to:\n \n
X-ALT-DESC;FMTTYPE=text/html:<div class="mYVXT"><div class="LS81yb VICjCf" tabindex="-1"><div class="hJD
 wNd-AhqUyc-uQSCkd purZT-AhqUyc-II5mzb pSzOP-AhqUyc-qWD73c JNdkSc"><div clas
 s="JNdkSc-SmKAyb"><div class=""><div class="oKdM2c Kzv0Me"><div id="h.3bc19
 1f568093fa3_27" class="hJDwNd-AhqUyc-uQSCkd jXK9ad D2fZ2 OjCsFc wHaque GNzU
 Nc"><div class="jXK9ad-SmKAyb"><div class="tyJCtd mGzaTb baZpAe">The <stron
 g>second workshop of the QuIESCENT Arctic programme</strong> will take plac
 e as part of the <span class="aw5Odc"><a href="https://www.google.com/url?q
 =https%3A%2F%2Fiasc.info%2F&amp;sa=D&amp;sntz=1&amp;usg=AFQjCNFS0s8x2bJaxXW
 oqhlVIlbZtZ6qUg" target="_blank" rel="noopener" class="XqQF9c">Internationa
 l Arctic Science Committee</a></span> (IASC) <span class="aw5Odc"><a href="
 https://www.google.com/url?q=https%3A%2F%2Fwww.assw.info%2F&amp;sa=D&amp;sn
 tz=1&amp;usg=AFQjCNHfJBwgI4MqmBEO10wNk3Cop6ie-g" target="_blank" rel="noope
 ner" class="XqQF9c"><strong>Arctic Science Summit Week</strong></a></span> 
 (ASSW) in <strong>Tromsø, Norway </strong>(30 March - 1 April 2022), thanks
  to support from the IASC <span class="aw5Odc"><a href="https://www.google.
 com/url?q=https%3A%2F%2Fiasc.info%2Four-work%2Fworking-groups%2Fatmosphere&
 amp;sa=D&amp;sntz=1&amp;usg=AFQjCNEPWSKhHU4jCmXF0NO576XYzMK73w" target="_bl
 ank" rel="noopener" class="XqQF9c">Atmosphere Working Group</a></span> and 
 the air Pollution in the Arctic: Climate, Environment, and Societies (<span
  class="aw5Odc"><a href="https://www.google.com/url?q=https%3A%2F%2Fpacespr
 oject.org%2F&amp;sa=D&amp;sntz=1&amp;usg=AFQjCNF0jnHIakfyEtFYwmLbPUIA-mB66Q
 " target="_blank" rel="noopener" class="XqQF9c">PACES</a></span>) initiativ
 e.<p id="h.k711l2fv09de" class="CDt4Ke zfr3Q OmQG5e" dir="ltr" style="text-
 align: justify;" tabindex="-1">Please note that the ASSW 2022 is being orga
 nised as a hybrid event from the outset, with both in-person and online par
 ticipation planned. The second QuIESCENT Arctic workshop will therefore als
 o operate in this manner, and <a href="https://sites.google.com/view/quiesc
 ent-arctic/workshops/2nd-quiescent-workshop/assw-registration?authuser=0" c
 lass="XqQF9c rXJpyf">additional registration for the ASSW 2022</a> business
  meetings will be required.</p><p style="text-align: justify;">Find more in
 formation on the <a href="https://sites.google.com/view/quiescent-arctic/wo
 rkshops/2nd-quiescent-workshop?authuser=0" target="_blank" rel="noopener">w
 orkshop website</a>.</p><p><strong>***Call for Workshop Applications - Dead
 line 14 January***</strong></p><p>Organizers invite applications for the Se
 cond QuIESCENT Arctic (Quantifying the Indirect Effect: from Sources to Cli
 mate Effects of Natural and Transported aerosol in the Arctic) workshop.</p
 ><p>The QuIESCENT Arctic initiative aims to build a cross-disciplinary brid
 ge between aerosol and clouds, physicists and chemists, and observations an
 d models. The goal is to foster new collaborations between these different 
 specialisms, provide a pathway to improve the efficiency of the knowledge p
 ipeline from observations through to models and, ultimately, work towards a
  tangible strategy for improving Arctic aerosol-cloud process understanding
  and associated climate model uncertainties.</p><p>Organizers welcoming par
 ticipants covering a wide range of expertise (ground-based, aircraft, satel
 lite observations, and modelling). Members of recent Arctic measurement cam
 paigns, such as NETCARE, (AC)3, Arctic Ocean 2018, and MOSAiC and partnerin
 g projects, are encouraged to attend and use our platform to share their ex
 citing results and discuss their vision for the use of their findings in nu
 merical models. Similarly, model specialists from key modelling centers are
  encouraged to attend as their input in these discussions is critical to th
 e success of this mission.</p><p><strong>Application deadline:</strong> Fri
 day, 14 January 2022</p><p>For more information, go to:<br /> <a href="http
 s://www.arcus.org/civicrm/mailing/url?u=34577&amp;qid=6135631" target="_bla
 nk" rel="nofollow noopener" data-saferedirecturl="https://www.google.com/ur
 l?q=https://www.arcus.org/civicrm/mailing/url?u%3D34577%26qid%3D6135631&amp
 ;source=gmail&amp;ust=1642152667791000&amp;usg=AOvVaw0Y5hTaN390e5DaAnUMcers
 ">Workshop webpage</a></p></div></div></div></div></div></div></div></div><
 /div>
DTSTAMP:20260420T151130Z
DTSTART;TZID=UTC;VALUE=DATE:20220330
DTEND;TZID=UTC;VALUE=DATE:20220402
SEQUENCE:0
TRANSP:OPAQUE
END:VEVENT
END:VCALENDAR