BEGIN:VCALENDAR
VERSION:2.0
PRODID:-//jEvents 2.0 for Joomla//EN
CALSCALE:GREGORIAN
METHOD:PUBLISH
BEGIN:VEVENT
UID:bbfb7ccd8783d2b2dd2254ec436c6544
CATEGORIES:Polar Conferences, Meetings and Events
CREATED:20220110T091421
SUMMARY:Call for Registration (deadline 10 January): ICESAT-2 Hackweek 2022
LOCATION:Seattle\, Washington and Online
DESCRIPTION:Organizers invite applications to participate in the ICESAT-2 Hackweek 2022
 . This event will take place 21-25 March 2022. Participants may attend virt
 ually or in-person in Seattle, Washington.\nThis event will consist of five
  days of tutorials, data exploration, software development, and community b
 uilding focused on open source tools to analyze and visualize data.\nOrgani
 zers welcome applications from participants at any career stage and with an
 y range of technical ability. All tutorials and projects will use the Pytho
 n programming language. Organizers will provide optional educational opport
 unities in advance of the event for those new to Python and other collabora
 tion and software development tools used during the event.\nRegistration/ap
 plication deadline: Monday, 10 January 2022\nFor more information and to ap
 ply, go to:\n \n
X-ALT-DESC;FMTTYPE=text/html:<p style="text-align: justify;">Organizers invite applications to participa
 te in the <strong>ICESAT-2 Hackweek 2022</strong>. This event will take pla
 ce <strong>21-25 March 2022</strong>. Participants may attend virtually or 
 in-person in Seattle, Washington.</p><p style="text-align: justify;">This e
 vent will consist of five days of tutorials, data exploration, software dev
 elopment, and community building focused on open source tools to analyze an
 d visualize data.</p><p style="text-align: justify;">Organizers welcome app
 lications from participants at any career stage and with any range of techn
 ical ability. All tutorials and projects will use the Python programming la
 nguage. Organizers will provide optional educational opportunities in advan
 ce of the event for those new to Python and other collaboration and softwar
 e development tools used during the event.</p><p style="text-align: justify
 ;"><strong>Registration/application deadline: Monday, 10 January 2022</stro
 ng></p><p style="text-align: justify;">For more information and to apply, g
 o to:<br /> <a href="https://www.arcus.org/civicrm/mailing/url?u=34508&amp;
 qid=6113018" target="_blank" rel="nofollow noopener" data-saferedirecturl="
 https://www.google.com/url?q=https://www.arcus.org/civicrm/mailing/url?u%3D
 34508%26qid%3D6113018&amp;source=gmail&amp;ust=1641887489139000&amp;usg=AOv
 Vaw2aj_E2lRT0GclMSNN6TE2o">Event webpage</a></p>
DTSTAMP:20260420T145342Z
DTSTART;TZID=UTC;VALUE=DATE:20220321
DTEND;TZID=UTC;VALUE=DATE:20220326
SEQUENCE:0
TRANSP:OPAQUE
END:VEVENT
END:VCALENDAR