BEGIN:VCALENDAR
VERSION:2.0
PRODID:-//jEvents 2.0 for Joomla//EN
CALSCALE:GREGORIAN
METHOD:PUBLISH
BEGIN:VEVENT
UID:adb93c160d761e3fe8a2715b733902a2
CATEGORIES:Polar Conferences, Meetings and Events
CREATED:20220114T082103
SUMMARY:Call for Registration: Conference on Innovations in Climate Resilience
LOCATION:Columbus\, Ohio
DESCRIPTION:Organizers invite registration for the Conference on Innovations in Climate
  Resilience, presented by Battelle in collaboration with Department of Ener
 gy National Laboratories. This event will take place 29-30 March 2022 in Co
 lumbus, Ohio.\nParticipants will explore breakthroughs in technology, scien
 ce, policy, and infrastructure that will help mitigate the threats to our e
 nvironment, health, communities, national security, and economic well-being
  from a changing climate.\nConference themes include:\n\n - International C
 limate Risk Analysis and National Security;\n - Resilient Infrastructure: E
 nergy, Water, Communications, Transportation, and Building;\n - Nexus of Re
 silience and Ecosystem Restoration: Carbon Capture, Circular Economy, Water
 , and Land;\n - Health Resilience, Risks, and Interventions; and\n - Innova
 tions in Climate Resilient Food and Agriculture.Organizers also continue to
  accept abstracts. Abstract submission information can be found on the . Th
 ere is limited capacity, so it is important that prospective participants s
 ubmit abstracts as soon as possible so they can be included in the initial 
 review. The abstract submission portal will remain open until program capac
 ity is reached.\nEarly-Bird Registration Deadline: 11 February 2022\nFor mo
 re information and to register, go to:\n <a href="https://www.arcus.org/civ
 icrm/mailing/url?u=34613&amp;qid=6146302" target="_blank" rel="nofollow noo
 pener" data-saferedirecturl="https://www.google.com/url?q=https://www.arcus
 .org/civicrm/mailing/url?u%3D34613%26qid%3D6146302&amp;source=gmail&amp;ust
 =1642233018635000&amp;usg=AOvVaw26eUpiryyZscMH_IVtT1bV">Event webpage</a>\n
X-ALT-DESC;FMTTYPE=text/html:<p style="text-align: justify;">Organizers invite registration for the <str
 ong>Conference on Innovations in Climate Resilience</strong>, presented by 
 Battelle in collaboration with Department of Energy National Laboratories. 
 This event will take place<strong> 29-30 March 2022 in Columbus, Ohio.</str
 ong></p><p style="text-align: justify;">Participants will explore breakthro
 ughs in technology, science, policy, and infrastructure that will help miti
 gate the threats to our environment, health, communities, national security
 , and economic well-being from a changing climate.</p><p style="text-align:
  justify;"><strong>Conference themes include:</strong></p><ul style="text-a
 lign: justify;"><li>International Climate Risk Analysis and National Securi
 ty;</li><li>Resilient Infrastructure: Energy, Water, Communications, Transp
 ortation, and Building;</li><li>Nexus of Resilience and Ecosystem Restorati
 on: Carbon Capture, Circular Economy, Water, and Land;</li><li>Health Resil
 ience, Risks, and Interventions; and</li><li>Innovations in Climate Resilie
 nt Food and Agriculture.</li></ul><p style="text-align: justify;">Organizer
 s also continue to accept abstracts. Abstract submission information can be
  found on the <a href="https://www.arcus.org/civicrm/mailing/url?u=34614&am
 p;qid=6146302" target="_blank" rel="nofollow noopener" data-saferedirecturl
 ="https://www.google.com/url?q=https://www.arcus.org/civicrm/mailing/url?u%
 3D34614%26qid%3D6146302&amp;source=gmail&amp;ust=1642233018635000&amp;usg=A
 OvVaw3TlFzUkvgnzFOXxdZ2uyx9">conference webpage</a>. There is limited capac
 ity, so it is important that prospective participants submit abstracts as s
 oon as possible so they can be included in the initial review. The abstract
  submission portal will remain open until program capacity is reached.</p><
 p style="text-align: justify;"><strong>Early-Bird Registration Deadline: </
 strong>11 February 2022</p><p style="text-align: justify;">For more informa
 tion and to register, go to:<br /> <a href="https://www.arcus.org/civicrm/m
 ailing/url?u=34613&amp;qid=6146302" target="_blank" rel="nofollow noopener"
  data-saferedirecturl="https://www.google.com/url?q=https://www.arcus.org/c
 ivicrm/mailing/url?u%3D34613%26qid%3D6146302&amp;source=gmail&amp;ust=16422
 33018635000&amp;usg=AOvVaw26eUpiryyZscMH_IVtT1bV">Event webpage</a></p>
DTSTAMP:20260422T133813Z
DTSTART;TZID=UTC;VALUE=DATE:20220329
DTEND;TZID=UTC;VALUE=DATE:20220331
SEQUENCE:0
TRANSP:OPAQUE
END:VEVENT
END:VCALENDAR