BEGIN:VCALENDAR
VERSION:2.0
PRODID:-//jEvents 2.0 for Joomla//EN
CALSCALE:GREGORIAN
METHOD:PUBLISH
BEGIN:VEVENT
UID:1fcd87f51ebac8150c41bd3194545079
CATEGORIES:Field and Summer Schools
CREATED:20220126T095230
SUMMARY:School of Ice -- COLDEX-Oregon State University, OR - Application deadline 14 April
LOCATION:Oregon
DESCRIPTION:The School of Ice is an NSF-funded professional development program for fac
 ulty at Minority Serving Institutions. This program will train participants
  to understand paleoclimate evidence derived from ice cores and acquire the
  skills necessary to bring this exciting inquiry into new and existing Eart
 h and environmental science classes on their campuses. The experiential nat
 ure of this workshop will build background knowledge of cutting-edge resear
 ch and empower participants to communicate authentic paleoclimate research 
 practices, ice core data, and results to their students.\nThere will be two
  opportunities to attend the School of Ice this summer.\nBesides thinking a
 bout the dates, please help us reduce our carbon footprint by considering t
 he one closer to you geographically. In both, you will interact with expert
 s currently working in climate and ice science research, take interesting f
 ield trips, and engage in hands-on learning experiences you can use with yo
 ur students. Learn more at  (https://icedrill-education.org/school-of-ice/)
 <a href="https://icedrill-education.org/school-of-ice/" target="_blank" rel
 ="noopener">https://icedrill-education.org/school-of-ice/</a>. Travel expen
 ses are paid, and all resources are provided freely to workshop participant
 s.\nRegistration is open now. Priority consideration will be given to appli
 cations received by the due date but accepted on a rolling basis until the 
 workshop is filled. Note: there is usually a waiting list to attend, so app
 ly early!\nSchool of Ice -- Dartmouth College, Hanover, NH\nDate: June 26-3
 0, 2022\nApplications Due: March 11, 2022\nTo Apply Visit (https://docs.goo
 gle.com/forms/d/e/1FAIpQLSfRbPCNsBKU_wAXQO5ae-VyXACsNEwFaxM31xC80VBs2q3iHA/
 viewform)\nSchool of Ice -- COLDEX-Oregon State University, OR\nDate: Augus
 t 6-12, 2022\nApplications Due: April 14, 2022\n<a href="https://docs.googl
 e.com/forms/d/e/1FAIpQLScuKTo3Qyk0JTbXhIUzXCH11tys1CuHZmvwFkqm0f_WKhPwYQ/vi
 ewform" target="_blank" rel="noopener">To Apply Visit</a>\nQUESTIONS? Conta
 ct Louise Huffman This email address is being protected from spambots. You 
 need JavaScript enabled to view it.
				document.getElementById('cloak050da
 1e0685f1115d2804b6e82477bc1').innerHTML = '';
				var prefix = '&#109;a' + 
 'i&#108;' + '&#116;o';
				var path = 'hr' + 'ef' + '=';
				var addy050da1
 e0685f1115d2804b6e82477bc1 = 'l&#111;&#117;&#105;s&#101;.t.h&#117;ffm&#97;n
 ' + '&#64;';
				addy050da1e0685f1115d2804b6e82477bc1 = addy050da1e0685f111
 5d2804b6e82477bc1 + 'd&#97;rtm&#111;&#117;th' + '&#46;' + '&#101;d&#117;';

 				var addy_text050da1e0685f1115d2804b6e82477bc1 = 'l&#111;&#117;&#105;s&#
 101;.t.h&#117;ffm&#97;n[&#97;t]d&#97;rtm&#111;&#117;th.&#101;d&#117;';docum
 ent.getElementById('cloak050da1e0685f1115d2804b6e82477bc1').innerHTML += '<
 a ' + path + '\'' + prefix + ':' + addy050da1e0685f1115d2804b6e82477bc1 + '
 \'>'+addy_text050da1e0685f1115d2804b6e82477bc1+'';
		\n
X-ALT-DESC;FMTTYPE=text/html:<p style="text-align: justify;">The <em>School of Ice</em> is an NSF-funded
  professional development program for faculty at <strong>Minority Serving I
 nstitutions</strong>. This program will train participants to understand pa
 leoclimate evidence derived from ice cores and acquire the skills necessary
  to bring this exciting inquiry into new and existing Earth and environment
 al science classes on their campuses. The experiential nature of this works
 hop will build background knowledge of cutting-edge research and empower pa
 rticipants to communicate authentic paleoclimate research practices, ice co
 re data, and results to their students.</p><p style="text-align: justify;">
 There will be&nbsp;<strong>two opportunities to attend the <em>School of Ic
 e</em> this summer</strong>.</p><p style="text-align: justify;">Besides thi
 nking about the dates, please help us reduce our carbon footprint by consid
 ering the one closer to you geographically. In both, you will interact with
  experts currently working in climate and ice science research, take intere
 sting field trips, and engage in hands-on learning experiences you can use 
 with your students. Learn more at&nbsp;<a href="https://icedrill-education.
 org/school-of-ice/" target="_blank" rel="noopener"></a><a href="https://ice
 drill-education.org/school-of-ice/" target="_blank" rel="noopener">https://
 icedrill-education.org/school-of-ice/</a>. Travel expenses are paid, and al
 l resources are provided freely to workshop participants.</p><p style="text
 -align: justify;"><strong>Registration is open now.</strong> Priority consi
 deration will be given to applications received by the due date but accepte
 d on a rolling basis until the workshop is filled. Note: there is usually a
  waiting list to attend, so apply early!</p><p style="text-align: justify;"
 ><strong>School of Ice -- Dartmouth College, Hanover, NH</strong></p><p sty
 le="text-align: justify;">Date: June 26-30, 2022<br />Applications Due: Mar
 ch 11, 2022<br /><a href="https://docs.google.com/forms/d/e/1FAIpQLSfRbPCNs
 BKU_wAXQO5ae-VyXACsNEwFaxM31xC80VBs2q3iHA/viewform" target="_blank" rel="no
 opener">To Apply Visit</a></p><p style="text-align: justify;"><strong>Schoo
 l of Ice -- COLDEX-Oregon State University, OR</strong></p><p style="text-a
 lign: justify;">Date: August 6-12, 2022<br />Applications Due: April 14, 20
 22<br /><a href="https://docs.google.com/forms/d/e/1FAIpQLScuKTo3Qyk0JTbXhI
 UzXCH11tys1CuHZmvwFkqm0f_WKhPwYQ/viewform" target="_blank" rel="noopener">T
 o Apply Visit</a></p><p style="text-align: justify;"><strong>QUESTIONS?</st
 rong>&nbsp;Contact Louise Huffman&nbsp;<span id="cloak4d73917db146118e1df33
 acea636771e"><span id="cloak050da1e0685f1115d2804b6e82477bc1">This email ad
 dress is being protected from spambots. You need JavaScript enabled to view
  it.</span><script type='text/javascript'>
				document.getElementById('clo
 ak050da1e0685f1115d2804b6e82477bc1').innerHTML = '';
				var prefix = '&#10
 9;a' + 'i&#108;' + '&#116;o';
				var path = 'hr' + 'ef' + '=';
				var add
 y050da1e0685f1115d2804b6e82477bc1 = 'l&#111;&#117;&#105;s&#101;.t.h&#117;ff
 m&#97;n' + '&#64;';
				addy050da1e0685f1115d2804b6e82477bc1 = addy050da1e0
 685f1115d2804b6e82477bc1 + 'd&#97;rtm&#111;&#117;th' + '&#46;' + '&#101;d&#
 117;';
				var addy_text050da1e0685f1115d2804b6e82477bc1 = 'l&#111;&#117;&#
 105;s&#101;.t.h&#117;ffm&#97;n[&#97;t]d&#97;rtm&#111;&#117;th.&#101;d&#117;
 ';document.getElementById('cloak050da1e0685f1115d2804b6e82477bc1').innerHTM
 L += '<a ' + path + '\'' + prefix + ':' + addy050da1e0685f1115d2804b6e82477
 bc1 + '\'>'+addy_text050da1e0685f1115d2804b6e82477bc1+'<\/a>';
		</script><
 /span></p>
DTSTAMP:20260419T213143Z
DTSTART;TZID=UTC;VALUE=DATE:20220806
DTEND;TZID=UTC;VALUE=DATE:20220813
SEQUENCE:0
TRANSP:OPAQUE
END:VEVENT
END:VCALENDAR