BEGIN:VCALENDAR
VERSION:2.0
PRODID:-//jEvents 2.0 for Joomla//EN
CALSCALE:GREGORIAN
METHOD:PUBLISH
BEGIN:VEVENT
UID:f254a7bbaf47319fa47100e0580a8a61
CATEGORIES:Polar Conferences, Meetings and Events
CREATED:20220304T174813
SUMMARY:Polar Educators International’s 5th International Conference (12-15 April 2022) - Registration open
LOCATION:Höfn\, Iceland
DESCRIPTION:Registration is open for Polar Educators International’s 5th International 
 Conference () from 12–15 April 2022, Nýheimar Knowledge Centre, Höfn, Icela
 nd.\nConnect, Learn and Act in Iceland with polar educators and researchers
  from around the world at PEI’s 5th biennial workshop Stories in Ice which 
 includes 2 days in the field exploring, experiencing and learning about Ice
 land.\nInformation about the conference and registration information is ava
 ilable on the <a href="https://scar.us7.list-manage.com/track/click?u=a611f
 6f7c375923d8563a8821&amp;id=fec93ed9a8&amp;e=064f3761be" target="_blank" re
 l="noopener" data-saferedirecturl="https://www.google.com/url?q=https://sca
 r.us7.list-manage.com/track/click?u=a611f6f7c375923d8563a8821&amp;id=fec93e
 d9a8&amp;e=064f3761be&amp;source=gmail&amp;ust=1646490557272000&amp;usg=AOv
 Vaw1SvhkTsDrvofuqp4DbRQMr">PEI website</a>.\n
X-ALT-DESC;FMTTYPE=text/html:<p>Registration is open for Polar Educators International’s 5<sup>th</sup>&
 nbsp;International Conference (<a href="https://scar.us7.list-manage.com/tr
 ack/click?u=a611f6f7c375923d8563a8821&amp;id=7ed8cd87cc&amp;e=064f3761be" t
 arget="_blank" rel="noopener" data-saferedirecturl="https://www.google.com/
 url?q=https://scar.us7.list-manage.com/track/click?u=a611f6f7c375923d8563a8
 821&amp;id=7ed8cd87cc&amp;e=064f3761be&amp;source=gmail&amp;ust=16464905572
 72000&amp;usg=AOvVaw2Lw1lTg_ScPwUiCYjHjG2_"><strong>PEI 2022</strong></a>) 
 from <strong>12–15 April 2022</strong>, Nýheimar Knowledge Centre, Höfn, Ic
 eland.</p><p>Connect, Learn and Act in Iceland with polar educators and res
 earchers from around the world at PEI’s 5th biennial workshop Stories in Ic
 e which includes 2 days in the field exploring, experiencing and learning a
 bout Iceland.</p><p>Information about the conference and registration infor
 mation is available on the <a href="https://scar.us7.list-manage.com/track/
 click?u=a611f6f7c375923d8563a8821&amp;id=fec93ed9a8&amp;e=064f3761be" targe
 t="_blank" rel="noopener" data-saferedirecturl="https://www.google.com/url?
 q=https://scar.us7.list-manage.com/track/click?u=a611f6f7c375923d8563a8821&
 amp;id=fec93ed9a8&amp;e=064f3761be&amp;source=gmail&amp;ust=164649055727200
 0&amp;usg=AOvVaw1SvhkTsDrvofuqp4DbRQMr">PEI website</a>.</p>
DTSTAMP:20260420T124324Z
DTSTART;TZID=UTC;VALUE=DATE:20220412
DTEND;TZID=UTC;VALUE=DATE:20220416
SEQUENCE:0
TRANSP:OPAQUE
END:VEVENT
END:VCALENDAR