BEGIN:VCALENDAR
VERSION:2.0
PRODID:-//jEvents 2.0 for Joomla//EN
CALSCALE:GREGORIAN
METHOD:PUBLISH
BEGIN:VEVENT
UID:5e295e8798ae7f587014f0103d6ae633
CATEGORIES:Polar Conferences, Meetings and Events
CREATED:20220304T175015
SUMMARY:International MOSAiC Science Conference/Workshop
LOCATION:Potsdam\, Germany
DESCRIPTION:International MOSAiC Science Conference/Workshop\nNew date: 25th -29th Apri
 l 2022, Potsdam (Germany)\nThe MOSAiC expedition was a big success and scie
 ntists collected terabytes of data and thousands of samples during the year
  of the expedition. Now, more than one year after the end of the expedition
 , a large meeting is being organized to present and discuss the scientific 
 results. The “International MOSAiC Science Conference/Workshop” will be hel
 d from 25th to 29th April 2022 on the Telegrafenberg campus in Potsdam (Ger
 many). We hope to host an in-person meeting but we are planning a fully hyb
 rid setting with strong online participation options, allowing us to adapt 
 to any situation.\nThe “International MOSAiC Science Conference/Workshop” a
 ddresses the whole MOSAiC community and offers the chance to present prelim
 inary experimental and modelling results and to enhance the interaction and
  interlinkages between the different disciplines of the coupled Arctic clim
 ate system. Supporting this, the meeting offers platforms to develop future
  analyses and publication strategies, support and foster connections to oth
 er groups and disciplines and to identify and develop joint projects. The m
 eeting will advertise the unique data sets and attract the big modelling ce
 nters. In such a way the “International MOSAiC Science Conference/Workshop”
  will function as a big step towards the improvement of the sea ice and wea
 ther forecast and regional and global climate models.\nMeeting Concept\nWe 
 envision a meeting concept that combines aspects of a conference and a work
 shop with sessions for oral and poster presentations and a great number of 
 breakout sessions for detailed discussions (see the schematic agenda below)
 . Therefore, the meeting offers plenary sessions in the beginning to inform
  generally about the scientific status of MOSAiC and breakout sessions for 
 the individual MOSAiC Teams.\n\nIn addition, we will have parallel sessions
  (green slots) following the character of a conference with scientific oral
  and poster presentations (or maybe another type of presentation) on Tuesda
 y and Wednesday. For those sessions, abstracts can be submitted. Please che
 ck the list of sessions on the website (https://mosaic-expedition.org/scien
 ce-conference/).\n\nFurthermore, towards the end of the week, it is planned
  to have breakout sessions (brown slots) that allow detailed discussions. M
 any topics are already defined, but there will be capacity to spontaneously
  develop breakout sessions to respond to topics that will come up during th
 e meeting.\n\nTo allow a lively and agile meeting, we have flexible time sl
 ots (grey slots) in the agenda to enable small meetings and discussion roun
 ds. There will be the opportunity to book meeting rooms or to use meeting p
 oints at the venue.\n
X-ALT-DESC;FMTTYPE=text/html:<p style="text-align: justify;">International MOSAiC Science Conference/Wor
 kshop<br />New date: 25th -29th April 2022, Potsdam (Germany)</p><p style="
 text-align: justify;">The MOSAiC expedition was a big success and scientist
 s collected terabytes of data and thousands of samples during the year of t
 he expedition. Now, more than one year after the end of the expedition, a l
 arge meeting is being organized to present and discuss the scientific resul
 ts. The “International MOSAiC Science Conference/Workshop” will be held fro
 m 25th to 29th April 2022 on the Telegrafenberg campus in Potsdam (Germany)
 . We hope to host an in-person meeting but we are planning a fully hybrid s
 etting with strong online participation options, allowing us to adapt to an
 y situation.</p><p style="text-align: justify;">The “International MOSAiC S
 cience Conference/Workshop” addresses the whole MOSAiC community and offers
  the chance to present preliminary experimental and modelling results and t
 o enhance the interaction and interlinkages between the different disciplin
 es of the coupled Arctic climate system. Supporting this, the meeting offer
 s platforms to develop future analyses and publication strategies, support 
 and foster connections to other groups and disciplines and to identify and 
 develop joint projects. The meeting will advertise the unique data sets and
  attract the big modelling centers. In such a way the “International MOSAiC
  Science Conference/Workshop” will function as a big step towards the impro
 vement of the sea ice and weather forecast and regional and global climate 
 models.</p><p style="text-align: justify;">Meeting Concept</p><p style="tex
 t-align: justify;">We envision a meeting concept that combines aspects of a
  conference and a workshop with sessions for oral and poster presentations 
 and a great number of breakout sessions for detailed discussions (see the s
 chematic agenda below). Therefore, the meeting offers plenary sessions in t
 he beginning to inform generally about the scientific status of MOSAiC and 
 breakout sessions for the individual MOSAiC Teams.</p><p style="text-align:
  justify;"><br />In addition, we will have parallel sessions (green slots) 
 following the character of a conference with scientific oral and poster pre
 sentations (or maybe another type of presentation) on Tuesday and Wednesday
 . For those sessions, abstracts can be submitted. <a href="https://mosaic-e
 xpedition.org/science-conference/" target="_blank" rel="noopener">Please ch
 eck the list of sessions on the website</a>.</p><p style="text-align: justi
 fy;"><br />Furthermore, towards the end of the week, it is planned to have 
 breakout sessions (brown slots) that allow detailed discussions. Many topic
 s are already defined, but there will be capacity to spontaneously develop 
 breakout sessions to respond to topics that will come up during the meeting
 .</p><p style="text-align: justify;"><br />To allow a lively and agile meet
 ing, we have flexible time slots (grey slots) in the agenda to enable small
  meetings and discussion rounds. There will be the opportunity to book meet
 ing rooms or to use meeting points at the venue.</p>
DTSTAMP:20260422T114131Z
DTSTART;TZID=UTC;VALUE=DATE:20220425
DTEND;TZID=UTC;VALUE=DATE:20220430
SEQUENCE:0
TRANSP:OPAQUE
END:VEVENT
END:VCALENDAR