BEGIN:VCALENDAR
VERSION:2.0
PRODID:-//jEvents 2.0 for Joomla//EN
CALSCALE:GREGORIAN
METHOD:PUBLISH
BEGIN:VEVENT
UID:2b13e1eaa9883c557814813d5fd90a41
CATEGORIES:Field and Summer Schools
CREATED:20220325T142442
SUMMARY:GEOTRACES Summer School 2022 - Pre-registration now open
LOCATION:Bremerhaven\, Germany
DESCRIPTION:The International GEOTRACES Summer School: Introducing Polar Parameters wil
 l take place from 10th to 15th July 2022 at the Helmholtz-Centre Alfred Weg
 ener Institute for Polar and Marine Research in Bremerhaven, Germany.\nIt w
 ill offer training possibilities for ~50 students, with a combination of le
 ctures and hands-on training in marine geochemistry of trace elements and t
 heir isotopes.\nThe Summer School will include a full day of shipboard samp
 ling of marine trace elements onboard RV Heincke and 1:1 science discussion
 s with renowned experts in the field. Please find the Summer School flyer h
 ere (https://www.geotraces.org/wp-content/uploads/2022/03/flyer.png). \nThe
  event is supported by <a href="https://www.geotraces.org/?nltr=MTU4OzM2OTg
 7aHR0cHM6Ly93d3cudm9sa3N3YWdlbnN0aWZ0dW5nLmRlL2VuOztjNWVkMGI1YmQ0OTIwNThlNj
 UyNjM3ZjM3MTVjMjRlYg%3D%3D" target="_blank" rel="noreferrer noopener" data-
 saferedirecturl="https://www.google.com/url?q=https://www.geotraces.org/?nl
 tr%3DMTU4OzM2OTg7aHR0cHM6Ly93d3cudm9sa3N3YWdlbnN0aWZ0dW5nLmRlL2VuOztjNWVkMG
 I1YmQ0OTIwNThlNjUyNjM3ZjM3MTVjMjRlYg%253D%253D&amp;source=gmail&amp;ust=164
 8298541569000&amp;usg=AOvVaw1PfwyWPCNogCUaDURJrEva"> VolkswagenStiftung</a>
 . Financial support for travel and accommodations will be available for the
  selected participants.\nPre-registration is open until April 15th, 2022. A
 pplications will be subject to selection.\nFor more information and pre-reg
 istration visit the Summer School website (https://geotraces2022.sciencesco
 nf.org/).\n
X-ALT-DESC;FMTTYPE=text/html:<p><strong>The International GEOTRACES Summer School: Introducing Polar Par
 ameters</strong> will take place from 10th to 15th July 2022 at the Helmhol
 tz-Centre Alfred Wegener Institute for Polar and Marine Research in Bremerh
 aven, Germany.</p><p>It will offer training possibilities for ~50 students,
  with a combination of lectures and hands-on training in marine geochemistr
 y of trace elements and their isotopes.</p><p>The Summer School will includ
 e a full day of shipboard sampling of marine trace elements onboard&nbsp;<e
 m>RV Heincke</em>&nbsp;and 1:1 science discussions with renowned experts in
  the field. Please find the Summer School flyer <a href="https://www.geotra
 ces.org/wp-content/uploads/2022/03/flyer.png" target="_blank" rel="noopener
 ">here</a>. </p><p>The event is supported by <a href="https://www.geotraces
 .org/?nltr=MTU4OzM2OTg7aHR0cHM6Ly93d3cudm9sa3N3YWdlbnN0aWZ0dW5nLmRlL2VuOztj
 NWVkMGI1YmQ0OTIwNThlNjUyNjM3ZjM3MTVjMjRlYg%3D%3D" target="_blank" rel="nore
 ferrer noopener" data-saferedirecturl="https://www.google.com/url?q=https:/
 /www.geotraces.org/?nltr%3DMTU4OzM2OTg7aHR0cHM6Ly93d3cudm9sa3N3YWdlbnN0aWZ0
 dW5nLmRlL2VuOztjNWVkMGI1YmQ0OTIwNThlNjUyNjM3ZjM3MTVjMjRlYg%253D%253D&amp;so
 urce=gmail&amp;ust=1648298541569000&amp;usg=AOvVaw1PfwyWPCNogCUaDURJrEva"> 
 VolkswagenStiftung</a>. Financial support for travel and accommodations wil
 l be available for the selected participants.</p><p><strong>Pre-registratio
 n is open until <strong>April 15th, 2022.</strong>&nbsp;Applications will b
 e subject to selection.</strong></p><p><strong>For more information and pre
 -registration visit the <a href="https://geotraces2022.sciencesconf.org/" t
 arget="_blank" rel="noopener">Summer School website</a>.</strong></p>
DTSTAMP:20260419T171249Z
DTSTART;TZID=UTC;VALUE=DATE:20220710
DTEND;TZID=UTC;VALUE=DATE:20220716
SEQUENCE:0
TRANSP:OPAQUE
END:VEVENT
END:VCALENDAR