BEGIN:VCALENDAR
VERSION:2.0
PRODID:-//jEvents 2.0 for Joomla//EN
CALSCALE:GREGORIAN
METHOD:PUBLISH
BEGIN:VEVENT
UID:5c7935d393e9e3e555eacc83e9f46d47
CATEGORIES:Polar Conferences, Meetings and Events
CREATED:20220516T081807
SUMMARY:Call for Special Session Proposals Seventh International Symposium on Arctic Research (ISAR-7)
LOCATION:Tachikawa City\, Tokyo\, Japan
DESCRIPTION:Organizers invite special session proposals for the Seventh International S
 ymposium on Arctic Research (ISAR-7). This meeting will convene 6-10 March 
 2023 in Tachikawa City, Tokyo, Japan.\nThe theme of ISAR-7 is Transdiscipli
 nary Studies on a Rapidly Changing Arctic Toward a Sustainable Society. Dur
 ing the meeting, participants will discuss how to find solutions from studi
 es of various disciplines to the challenge of building a sustainable societ
 y in a rapidly changing Arctic.\nThe ISAR-7 consists of plenary sessions an
 d breakout sessions. The breakout sessions include regular sessions and spe
 cial sessions.\nThe regular sessions include:\n\n - Atmosphere;\n - Ocean a
 nd sea ice;\n - Rivers, lakes, permafrost, and snow cover;\n - Ice sheets, 
 glaciers, and ice cores;\n - Terrestrial ecosystems;\n - Marine ecosystems;
 \n - Geospace;\n - Laws, politics, and economy;\n - Language, culture, and 
 health; and\n - Engineering for sustainable development.Proposals for speci
 al sessions should be submitted using the form provided on the  and submitt
 ed to the ISAR-7 secretariat at This email address is being protected from 
 spambots. You need JavaScript enabled to view it.
				document.getElementBy
 Id('cloak61962127f04009c12e8dfe93d26a0c4f').innerHTML = '';
				var prefix 
 = '&#109;a' + 'i&#108;' + '&#116;o';
				var path = 'hr' + 'ef' + '=';
				
 var addy61962127f04009c12e8dfe93d26a0c4f = 'ISAR-s&#101;cr&#101;t&#97;r&#10
 5;&#97;t' + '&#64;';
				addy61962127f04009c12e8dfe93d26a0c4f = addy6196212
 7f04009c12e8dfe93d26a0c4f + 'n&#105;pr' + '&#46;' + '&#97;c' + '&#46;' + 'j
 p';
				var addy_text61962127f04009c12e8dfe93d26a0c4f = 'ISAR-s&#101;cr&#10
 1;t&#97;r&#105;&#97;t[&#97;t]n&#105;pr.&#97;c.jp';document.getElementById('
 cloak61962127f04009c12e8dfe93d26a0c4f').innerHTML += '<a ' + path + '\'' + 
 prefix + ':' + addy61962127f04009c12e8dfe93d26a0c4f + '\'>'+addy_text619621
 27f04009c12e8dfe93d26a0c4f+'';
		.\nProposal deadline: 16 May 2022\nFor mor
 e information, go to:\n <a href="https://www.arcus.org/civicrm/mailing/url?
 u=36601&amp;qid=6553476" target="_blank" rel="nofollow noopener" data-safer
 edirecturl="https://www.google.com/url?q=https://www.arcus.org/civicrm/mail
 ing/url?u=36601&amp;qid=6553476&amp;source=gmail&amp;ust=1652773648095000&a
 mp;usg=AOvVaw3aKCUN-RQwjsgkeOmTGlhI">ISAR-7 Sessions webpage</a>\nFor quest
 ions, contact:\n Kentaro Watanabe\n Email: This email address is being prot
 ected from spambots. You need JavaScript enabled to view it.
				document.g
 etElementById('cloake4abca0bd06f1927ef51015639712c5f').innerHTML = '';
				
 var prefix = '&#109;a' + 'i&#108;' + '&#116;o';
				var path = 'hr' + 'ef' 
 + '=';
				var addye4abca0bd06f1927ef51015639712c5f = 'ISAR-s&#101;cr&#101;
 t&#97;r&#105;&#97;t' + '&#64;';
				addye4abca0bd06f1927ef51015639712c5f = 
 addye4abca0bd06f1927ef51015639712c5f + 'n&#105;pr' + '&#46;' + '&#97;c' + '
 &#46;' + 'jp';
				var addy_texte4abca0bd06f1927ef51015639712c5f = 'ISAR-s&
 #101;cr&#101;t&#97;r&#105;&#97;t[&#97;t]n&#105;pr.&#97;c.jp';document.getEl
 ementById('cloake4abca0bd06f1927ef51015639712c5f').innerHTML += '<a ' + pat
 h + '\'' + prefix + ':' + addye4abca0bd06f1927ef51015639712c5f + '\'>'+addy
 _texte4abca0bd06f1927ef51015639712c5f+'';
		\n
X-ALT-DESC;FMTTYPE=text/html:<p>Organizers invite special session proposals for the Seventh Internationa
 l Symposium on Arctic Research (ISAR-7). This meeting will convene 6-10 Mar
 ch 2023 in Tachikawa City, Tokyo, Japan.</p><p>The theme of ISAR-7 is <em>T
 ransdisciplinary Studies on a Rapidly Changing Arctic Toward a Sustainable 
 Society</em>. During the meeting, participants will discuss how to find sol
 utions from studies of various disciplines to the challenge of building a s
 ustainable society in a rapidly changing Arctic.</p><p>The ISAR-7 consists 
 of plenary sessions and breakout sessions. The breakout sessions include re
 gular sessions and special sessions.</p><p><strong>The regular sessions inc
 lude:</strong></p><ul><li>Atmosphere;</li><li>Ocean and sea ice;</li><li>Ri
 vers, lakes, permafrost, and snow cover;</li><li>Ice sheets, glaciers, and 
 ice cores;</li><li>Terrestrial ecosystems;</li><li>Marine ecosystems;</li><
 li>Geospace;</li><li>Laws, politics, and economy;</li><li>Language, culture
 , and health; and</li><li>Engineering for sustainable development.</li></ul
 ><p>Proposals for special sessions should be submitted using the form provi
 ded on the <a href="https://www.arcus.org/civicrm/mailing/url?u=36601&amp;q
 id=6553476" target="_blank" rel="nofollow noopener" data-saferedirecturl="h
 ttps://www.google.com/url?q=https://www.arcus.org/civicrm/mailing/url?u=366
 01&amp;qid=6553476&amp;source=gmail&amp;ust=1652773648095000&amp;usg=AOvVaw
 3aKCUN-RQwjsgkeOmTGlhI">ISAR-7 Sessions website</a> and submitted to the IS
 AR-7 secretariat at <span id="cloak61962127f04009c12e8dfe93d26a0c4f">This e
 mail address is being protected from spambots. You need JavaScript enabled 
 to view it.</span><script type='text/javascript'>
				document.getElementBy
 Id('cloak61962127f04009c12e8dfe93d26a0c4f').innerHTML = '';
				var prefix 
 = '&#109;a' + 'i&#108;' + '&#116;o';
				var path = 'hr' + 'ef' + '=';
				
 var addy61962127f04009c12e8dfe93d26a0c4f = 'ISAR-s&#101;cr&#101;t&#97;r&#10
 5;&#97;t' + '&#64;';
				addy61962127f04009c12e8dfe93d26a0c4f = addy6196212
 7f04009c12e8dfe93d26a0c4f + 'n&#105;pr' + '&#46;' + '&#97;c' + '&#46;' + 'j
 p';
				var addy_text61962127f04009c12e8dfe93d26a0c4f = 'ISAR-s&#101;cr&#10
 1;t&#97;r&#105;&#97;t[&#97;t]n&#105;pr.&#97;c.jp';document.getElementById('
 cloak61962127f04009c12e8dfe93d26a0c4f').innerHTML += '<a ' + path + '\'' + 
 prefix + ':' + addy61962127f04009c12e8dfe93d26a0c4f + '\'>'+addy_text619621
 27f04009c12e8dfe93d26a0c4f+'<\/a>';
		</script>.</p><p><strong>Proposal dea
 dline: </strong>16 May 2022</p><p>For more information, go to:<br /> <a hre
 f="https://www.arcus.org/civicrm/mailing/url?u=36601&amp;qid=6553476" targe
 t="_blank" rel="nofollow noopener" data-saferedirecturl="https://www.google
 .com/url?q=https://www.arcus.org/civicrm/mailing/url?u=36601&amp;qid=655347
 6&amp;source=gmail&amp;ust=1652773648095000&amp;usg=AOvVaw3aKCUN-RQwjsgkeOm
 TGlhI">ISAR-7 Sessions webpage</a></p><p>For questions, contact:<br /> Kent
 aro Watanabe<br /> Email: <span id="cloake4abca0bd06f1927ef51015639712c5f">
 This email address is being protected from spambots. You need JavaScript en
 abled to view it.</span><script type='text/javascript'>
				document.getEle
 mentById('cloake4abca0bd06f1927ef51015639712c5f').innerHTML = '';
				var p
 refix = '&#109;a' + 'i&#108;' + '&#116;o';
				var path = 'hr' + 'ef' + '='
 ;
				var addye4abca0bd06f1927ef51015639712c5f = 'ISAR-s&#101;cr&#101;t&#97
 ;r&#105;&#97;t' + '&#64;';
				addye4abca0bd06f1927ef51015639712c5f = addye
 4abca0bd06f1927ef51015639712c5f + 'n&#105;pr' + '&#46;' + '&#97;c' + '&#46;
 ' + 'jp';
				var addy_texte4abca0bd06f1927ef51015639712c5f = 'ISAR-s&#101;
 cr&#101;t&#97;r&#105;&#97;t[&#97;t]n&#105;pr.&#97;c.jp';document.getElement
 ById('cloake4abca0bd06f1927ef51015639712c5f').innerHTML += '<a ' + path + '
 \'' + prefix + ':' + addye4abca0bd06f1927ef51015639712c5f + '\'>'+addy_text
 e4abca0bd06f1927ef51015639712c5f+'<\/a>';
		</script></p>
DTSTAMP:20260420T123333Z
DTSTART;TZID=UTC;VALUE=DATE:20230306
DTEND;TZID=UTC;VALUE=DATE:20230311
SEQUENCE:0
TRANSP:OPAQUE
END:VEVENT
END:VCALENDAR