BEGIN:VCALENDAR
VERSION:2.0
PRODID:-//jEvents 2.0 for Joomla//EN
CALSCALE:GREGORIAN
METHOD:PUBLISH
BEGIN:VEVENT
UID:db4db645af412b5af3bcce74bf626b06
CATEGORIES:Polar Conferences, Meetings and Events
CREATED:20220706T133100
SUMMARY:NNA Annual Community Meeting
DESCRIPTION:The third annual Navigating the New Arctic (NNA) Annual Community Meeting w
 ill be held in Anchorage, Alaska, hosted by the NNA-CO and Alaska Pacific U
 niversity.\nFormat\nIn-person, hybrid and virtual sessions, workshops, and 
 trainings. Additionally, the meeting will include cultural events in the An
 chorage area and an open Town Hall meeting to consist of in-person and virt
 ual talking circles to discuss how the Arctic research community and partne
 rs can strengthen collaboration, coordination, and inclusivity within the N
 NA initiative.\nFor Whom\nNNA researchers, research partners, Indigenous co
 mmunity and organization representatives, decision-makers, and others who h
 ave an interest in the NNA initiative. We will be accepting in-person atten
 dees to ensure a diverse list of participants. Funded NNA projects are aske
 d to limit in-person attendance to three project affiliates. If more wish t
 o attend, please inquire about whether space will allow.\nWe invite session
  and workshop proposals from across the NNA community (NNA-funded and prosp
 ective researchers, research partners, Indigenous community and organizatio
 n representatives, etc.) to complement the meeting themes or other prioriti
 es that align with the NNA initiative. The deadline for proposals is August
  12, 2022.\nhttps://www.nna-co.org/2022-nna-annual-community-meeting\n
X-ALT-DESC;FMTTYPE=text/html:<p>The third annual <strong>Navigating the New Arctic (NNA) Annual Communit
 y Meeting </strong>will be held in Anchorage, Alaska, hosted by the NNA-CO 
 and Alaska Pacific University.</p><p><span style="text-decoration: underlin
 e;">Format</span><br />In-person, hybrid and virtual sessions, workshops, a
 nd trainings. Additionally, the meeting will include cultural events in the
  Anchorage area and an open Town Hall meeting to consist of in-person and v
 irtual talking circles to discuss how the Arctic research community and par
 tners can strengthen collaboration, coordination, and inclusivity within th
 e NNA initiative.</p><p><span style="text-decoration: underline;">For Whom<
 /span><br />NNA researchers, research partners, Indigenous community and or
 ganization representatives, decision-makers, and others who have an interes
 t in the NNA initiative. We will be accepting in-person attendees to ensure
  a diverse list of participants. Funded NNA projects are asked to limit in-
 person attendance to three project affiliates. If more wish to attend, plea
 se inquire about whether space will allow.</p><p>We invite session and work
 shop proposals from across the NNA community (NNA-funded and prospective re
 searchers, research partners, Indigenous community and organization represe
 ntatives, etc.) to complement the meeting themes or other priorities that a
 lign with the NNA initiative. The deadline for proposals is August 12, 2022
 .</p><p><a href="https://www.nna-co.org/2022-nna-annual-community-meeting">
 https://www.nna-co.org/2022-nna-annual-community-meeting</a></p>
DTSTAMP:20260419T163303Z
DTSTART;TZID=UTC;VALUE=DATE:20221115
DTEND;TZID=UTC;VALUE=DATE:20221118
SEQUENCE:0
TRANSP:OPAQUE
END:VEVENT
END:VCALENDAR